BEGIN:VCALENDAR
VERSION:2.0
PRODID:-//Red Island Hospitality Group Inc. - ECPv6.15.20//NONSGML v1.0//EN
CALSCALE:GREGORIAN
METHOD:PUBLISH
X-WR-CALNAME:Red Island Hospitality Group Inc.
X-ORIGINAL-URL:https://rihg.ca
X-WR-CALDESC:Events for Red Island Hospitality Group Inc.
REFRESH-INTERVAL;VALUE=DURATION:PT1H
X-Robots-Tag:noindex
X-PUBLISHED-TTL:PT1H
BEGIN:VTIMEZONE
TZID:America/Halifax
BEGIN:DAYLIGHT
TZOFFSETFROM:-0400
TZOFFSETTO:-0300
TZNAME:ADT
DTSTART:20250309T060000
END:DAYLIGHT
BEGIN:STANDARD
TZOFFSETFROM:-0300
TZOFFSETTO:-0400
TZNAME:AST
DTSTART:20251102T050000
END:STANDARD
BEGIN:DAYLIGHT
TZOFFSETFROM:-0400
TZOFFSETTO:-0300
TZNAME:ADT
DTSTART:20260308T060000
END:DAYLIGHT
BEGIN:STANDARD
TZOFFSETFROM:-0300
TZOFFSETTO:-0400
TZNAME:AST
DTSTART:20261101T050000
END:STANDARD
BEGIN:DAYLIGHT
TZOFFSETFROM:-0400
TZOFFSETTO:-0300
TZNAME:ADT
DTSTART:20270314T060000
END:DAYLIGHT
BEGIN:STANDARD
TZOFFSETFROM:-0300
TZOFFSETTO:-0400
TZNAME:AST
DTSTART:20271107T050000
END:STANDARD
END:VTIMEZONE
BEGIN:VEVENT
DTSTART;TZID=America/Halifax:20260418T140000
DTEND;TZID=America/Halifax:20260418T160000
DTSTAMP:20260420T061624
CREATED:20200603T190545Z
LAST-MODIFIED:20251224T162430Z
UID:10020375-1776520800-1776528000@rihg.ca
SUMMARY:Half-Priced Mussels
DESCRIPTION:From 2 until 4 p.m. every day of the week\, our succulent PEI mussels are 50% of the price but still 100% of the flavour! \nYour choice of: \n\nWhite wine & garlic\nCreamy pancetta\nSpicy arribiata\nSpinach & goat cheese
URL:https://rihg.ca/event/half-priced-mussels-2020-10-04/2026-04-18/
CATEGORIES:John Brown Grille
END:VEVENT
BEGIN:VEVENT
DTSTART;TZID=America/Halifax:20260418T140000
DTEND;TZID=America/Halifax:20260418T170000
DTSTAMP:20260420T061624
CREATED:20260318T174329Z
LAST-MODIFIED:20260318T174329Z
UID:10020818-1776520800-1776531600@rihg.ca
SUMMARY:Richie & Brian
DESCRIPTION:
URL:https://rihg.ca/event/richie-brian-15/
CATEGORIES:John Brown Grille
END:VEVENT
BEGIN:VEVENT
DTSTART;TZID=America/Halifax:20260418T170000
DTEND;TZID=America/Halifax:20260418T220000
DTSTAMP:20260420T061624
CREATED:20251117T202452Z
LAST-MODIFIED:20251117T202452Z
UID:10019076-1776531600-1776549600@rihg.ca
SUMMARY:Half-Priced Nachos
DESCRIPTION:Your choice of John Brown’s Classic or Southwest Nachos for half-price? Sold! \nPurchase of a beverage required. Dine-in only.
URL:https://rihg.ca/event/half-priced-nachos/2026-04-18/
CATEGORIES:John Brown Grille
END:VEVENT
BEGIN:VEVENT
DTSTART;TZID=America/Halifax:20260418T190000
DTEND;TZID=America/Halifax:20260418T210000
DTSTAMP:20260420T061624
CREATED:20250507T165306Z
LAST-MODIFIED:20251223T200039Z
UID:10020154-1776538800-1776546000@rihg.ca
SUMMARY:Music Bingo with Darcy!
DESCRIPTION: Music Bingo – Every Saturday from 7 to 9 PM! \n\nIt’s just like regular bingo… but with a musical twist! Instead of numbers\, you’ll be matching song titles to your bingo card.\nHosted by Darcy Campbell from Hot 105.5\, each round features a different musical genre. Darcy will play the first verse and chorus of each song — if it’s on your card\, dab it!\n\nWe play three games every night\, each with its own awesome prize. From throwbacks to chart-toppers\, there’s something for every music lover.\nGrab your friends\, bring your ears\, and get ready for a Saturday night full of fun\, tunes\, and prizes!\n\n1 bingo card/person   |  FREE admission
URL:https://rihg.ca/event/music-bingo-with-darcy/2026-04-18/
CATEGORIES:The Factory
END:VEVENT
BEGIN:VEVENT
DTSTART;TZID=America/Halifax:20260418T210000
DTEND;TZID=America/Halifax:20260418T210000
DTSTAMP:20260420T061624
CREATED:20160505T164046Z
LAST-MODIFIED:20251223T194947Z
UID:10019668-1776546000-1776546000@rihg.ca
SUMMARY:Pitcher & Wings = $27.99
DESCRIPTION:Pick a pitcher and choose your sauce for only $27.99. We’ll do the rest! \n  \n**Special includes choice of a domestic Molson pitcher and 1 lb wings.
URL:https://rihg.ca/event/pitcher-wing-special-2016-06-04-2016-09-03-2016-11-05-2017-06-24-2018-10-06-2019-06-01/2026-04-18/
CATEGORIES:Hunter’s Ale House
END:VEVENT
BEGIN:VEVENT
DTSTART;TZID=America/Halifax:20260418T220000
DTEND;TZID=America/Halifax:20260418T220000
DTSTAMP:20260420T061624
CREATED:20241004T173643Z
LAST-MODIFIED:20251223T200119Z
UID:10020205-1776549600-1776549600@rihg.ca
SUMMARY:Saturday Night Shaker!
DESCRIPTION:The Corner’s rocking every Saturday night and here at the Factory it’s an absolute S-H-A-K-E-R! \nDance the night away to the best DJ beats in town. \nBlue Lobster drink specials start at 10pm.
URL:https://rihg.ca/event/saturday-night-shaker/2026-04-18/
CATEGORIES:The Factory
END:VEVENT
BEGIN:VEVENT
DTSTART;TZID=America/Halifax:20260418T230000
DTEND;TZID=America/Halifax:20260418T230000
DTSTAMP:20260420T061624
CREATED:20260317T194311Z
LAST-MODIFIED:20260317T194311Z
UID:10020796-1776553200-1776553200@rihg.ca
SUMMARY:Crimson Clay
DESCRIPTION:
URL:https://rihg.ca/event/crimson-clay-6/
CATEGORIES:Hunter’s Ale House
END:VEVENT
BEGIN:VEVENT
DTSTART;TZID=America/Halifax:20260418T230000
DTEND;TZID=America/Halifax:20260418T230000
DTSTAMP:20260420T061624
CREATED:20260318T173333Z
LAST-MODIFIED:20260318T173333Z
UID:10020809-1776553200-1776553200@rihg.ca
SUMMARY:DJ METHoD
DESCRIPTION:
URL:https://rihg.ca/event/dj-method-47/
CATEGORIES:The Factory
END:VEVENT
BEGIN:VEVENT
DTSTART;TZID=America/Halifax:20260418T230000
DTEND;TZID=America/Halifax:20260418T230000
DTSTAMP:20260420T061624
CREATED:20260318T173412Z
LAST-MODIFIED:20260318T173412Z
UID:10020810-1776553200-1776553200@rihg.ca
SUMMARY:Rave in the Cave: DJs Laey & Fernanado
DESCRIPTION:
URL:https://rihg.ca/event/rave-in-the-cave-djs-laey-fernanado/
CATEGORIES:The Factory
END:VEVENT
BEGIN:VEVENT
DTSTART;TZID=America/Halifax:20260418T230000
DTEND;TZID=America/Halifax:20260418T230000
DTSTAMP:20260420T061624
CREATED:20260416T162711Z
LAST-MODIFIED:20260416T162711Z
UID:10021270-1776553200-1776553200@rihg.ca
SUMMARY:DJ Jérémie
DESCRIPTION:
URL:https://rihg.ca/event/dj-jeremie-6/
CATEGORIES:John Brown Grille
END:VEVENT
END:VCALENDAR