BEGIN:VCALENDAR
VERSION:2.0
PRODID:-//Red Island Hospitality Group Inc. - ECPv6.15.20//NONSGML v1.0//EN
CALSCALE:GREGORIAN
METHOD:PUBLISH
X-WR-CALNAME:Red Island Hospitality Group Inc.
X-ORIGINAL-URL:https://rihg.ca
X-WR-CALDESC:Events for Red Island Hospitality Group Inc.
REFRESH-INTERVAL;VALUE=DURATION:PT1H
X-Robots-Tag:noindex
X-PUBLISHED-TTL:PT1H
BEGIN:VTIMEZONE
TZID:America/Halifax
BEGIN:DAYLIGHT
TZOFFSETFROM:-0400
TZOFFSETTO:-0300
TZNAME:ADT
DTSTART:20210314T060000
END:DAYLIGHT
BEGIN:STANDARD
TZOFFSETFROM:-0300
TZOFFSETTO:-0400
TZNAME:AST
DTSTART:20211107T050000
END:STANDARD
BEGIN:DAYLIGHT
TZOFFSETFROM:-0400
TZOFFSETTO:-0300
TZNAME:ADT
DTSTART:20220313T060000
END:DAYLIGHT
BEGIN:STANDARD
TZOFFSETFROM:-0300
TZOFFSETTO:-0400
TZNAME:AST
DTSTART:20221106T050000
END:STANDARD
BEGIN:DAYLIGHT
TZOFFSETFROM:-0400
TZOFFSETTO:-0300
TZNAME:ADT
DTSTART:20230312T060000
END:DAYLIGHT
BEGIN:STANDARD
TZOFFSETFROM:-0300
TZOFFSETTO:-0400
TZNAME:AST
DTSTART:20231105T050000
END:STANDARD
END:VTIMEZONE
BEGIN:VEVENT
DTSTART;TZID=America/Halifax:20220712T180000
DTEND;TZID=America/Halifax:20220712T220000
DTSTAMP:20260424T203000
CREATED:20220603T204054Z
LAST-MODIFIED:20220603T204054Z
UID:10001852-1657648800-1657663200@rihg.ca
SUMMARY:Taylor & Dennis
DESCRIPTION:
URL:https://rihg.ca/event/taylor-dennis/2022-07-12/
CATEGORIES:Charlottetown Beer Garden
END:VEVENT
BEGIN:VEVENT
DTSTART;TZID=America/Halifax:20220713T180000
DTEND;TZID=America/Halifax:20220713T220000
DTSTAMP:20260424T203000
CREATED:20220603T204133Z
LAST-MODIFIED:20220603T204151Z
UID:10001873-1657735200-1657749600@rihg.ca
SUMMARY:Vintage 2.0
DESCRIPTION:
URL:https://rihg.ca/event/vintage-2-0-13/2022-07-13/
CATEGORIES:Charlottetown Beer Garden
END:VEVENT
BEGIN:VEVENT
DTSTART;TZID=America/Halifax:20220714T180000
DTEND;TZID=America/Halifax:20220714T220000
DTSTAMP:20260424T203000
CREATED:20220603T204232Z
LAST-MODIFIED:20220603T204517Z
UID:10011649-1657821600-1657836000@rihg.ca
SUMMARY:Richie & Brian
DESCRIPTION:
URL:https://rihg.ca/event/richie-brian/2022-07-14/
CATEGORIES:Charlottetown Beer Garden
END:VEVENT
BEGIN:VEVENT
DTSTART;TZID=America/Halifax:20220715T180000
DTEND;TZID=America/Halifax:20220715T220000
DTSTAMP:20260424T203000
CREATED:20220601T160212Z
LAST-MODIFIED:20220603T172016Z
UID:10006011-1657908000-1657922400@rihg.ca
SUMMARY:Kim Albert Band
DESCRIPTION:
URL:https://rihg.ca/event/kim-albert-band-2/2022-07-15/
CATEGORIES:Charlottetown Beer Garden
END:VEVENT
BEGIN:VEVENT
DTSTART;TZID=America/Halifax:20220716T180000
DTEND;TZID=America/Halifax:20220716T220000
DTSTAMP:20260424T203000
CREATED:20220603T204416Z
LAST-MODIFIED:20220603T204416Z
UID:10011639-1657994400-1658008800@rihg.ca
SUMMARY:Lu & The Crew
DESCRIPTION:
URL:https://rihg.ca/event/lu-the-crew/2022-07-16/
CATEGORIES:Charlottetown Beer Garden
END:VEVENT
BEGIN:VEVENT
DTSTART;TZID=America/Halifax:20220717T180000
DTEND;TZID=America/Halifax:20220717T220000
DTSTAMP:20260424T203000
CREATED:20220603T171848Z
LAST-MODIFIED:20220603T171848Z
UID:10001863-1658080800-1658095200@rihg.ca
SUMMARY:Brad & Griffen
DESCRIPTION:
URL:https://rihg.ca/event/brad-griffen-5/2022-07-17/
CATEGORIES:Charlottetown Beer Garden
END:VEVENT
BEGIN:VEVENT
DTSTART;TZID=America/Halifax:20220718T180000
DTEND;TZID=America/Halifax:20220718T220000
DTSTAMP:20260424T203000
CREATED:20220603T172214Z
LAST-MODIFIED:20220603T172214Z
UID:10007499-1658167200-1658181600@rihg.ca
SUMMARY:Saul Good Duo
DESCRIPTION:
URL:https://rihg.ca/event/saul-good-duo-13/2022-07-18/
CATEGORIES:Charlottetown Beer Garden
END:VEVENT
BEGIN:VEVENT
DTSTART;TZID=America/Halifax:20220719T180000
DTEND;TZID=America/Halifax:20220719T220000
DTSTAMP:20260424T203000
CREATED:20220603T204054Z
LAST-MODIFIED:20220603T204054Z
UID:10001853-1658253600-1658268000@rihg.ca
SUMMARY:Taylor & Dennis
DESCRIPTION:
URL:https://rihg.ca/event/taylor-dennis/2022-07-19/
CATEGORIES:Charlottetown Beer Garden
END:VEVENT
BEGIN:VEVENT
DTSTART;TZID=America/Halifax:20220720T180000
DTEND;TZID=America/Halifax:20220720T220000
DTSTAMP:20260424T203000
CREATED:20220603T204133Z
LAST-MODIFIED:20220603T204151Z
UID:10001874-1658340000-1658354400@rihg.ca
SUMMARY:Vintage 2.0
DESCRIPTION:
URL:https://rihg.ca/event/vintage-2-0-13/2022-07-20/
CATEGORIES:Charlottetown Beer Garden
END:VEVENT
BEGIN:VEVENT
DTSTART;TZID=America/Halifax:20220721T180000
DTEND;TZID=America/Halifax:20220721T220000
DTSTAMP:20260424T203000
CREATED:20220603T204232Z
LAST-MODIFIED:20220603T204517Z
UID:10011650-1658426400-1658440800@rihg.ca
SUMMARY:Richie & Brian
DESCRIPTION:
URL:https://rihg.ca/event/richie-brian/2022-07-21/
CATEGORIES:Charlottetown Beer Garden
END:VEVENT
BEGIN:VEVENT
DTSTART;TZID=America/Halifax:20220722T180000
DTEND;TZID=America/Halifax:20220722T220000
DTSTAMP:20260424T203000
CREATED:20220601T160212Z
LAST-MODIFIED:20220603T172016Z
UID:10006012-1658512800-1658527200@rihg.ca
SUMMARY:Kim Albert Band
DESCRIPTION:
URL:https://rihg.ca/event/kim-albert-band-2/2022-07-22/
CATEGORIES:Charlottetown Beer Garden
END:VEVENT
BEGIN:VEVENT
DTSTART;TZID=America/Halifax:20220723T180000
DTEND;TZID=America/Halifax:20220723T220000
DTSTAMP:20260424T203000
CREATED:20220603T204416Z
LAST-MODIFIED:20220603T204416Z
UID:10011640-1658599200-1658613600@rihg.ca
SUMMARY:Lu & The Crew
DESCRIPTION:
URL:https://rihg.ca/event/lu-the-crew/2022-07-23/
CATEGORIES:Charlottetown Beer Garden
END:VEVENT
BEGIN:VEVENT
DTSTART;TZID=America/Halifax:20220724T180000
DTEND;TZID=America/Halifax:20220724T220000
DTSTAMP:20260424T203000
CREATED:20220603T171848Z
LAST-MODIFIED:20220603T171848Z
UID:10001864-1658685600-1658700000@rihg.ca
SUMMARY:Brad & Griffen
DESCRIPTION:
URL:https://rihg.ca/event/brad-griffen-5/2022-07-24/
CATEGORIES:Charlottetown Beer Garden
END:VEVENT
BEGIN:VEVENT
DTSTART;TZID=America/Halifax:20220725T180000
DTEND;TZID=America/Halifax:20220725T220000
DTSTAMP:20260424T203000
CREATED:20220603T172214Z
LAST-MODIFIED:20220603T172214Z
UID:10007500-1658772000-1658786400@rihg.ca
SUMMARY:Saul Good Duo
DESCRIPTION:
URL:https://rihg.ca/event/saul-good-duo-13/2022-07-25/
CATEGORIES:Charlottetown Beer Garden
END:VEVENT
BEGIN:VEVENT
DTSTART;TZID=America/Halifax:20220726T180000
DTEND;TZID=America/Halifax:20220726T220000
DTSTAMP:20260424T203000
CREATED:20220603T204054Z
LAST-MODIFIED:20220603T204054Z
UID:10001854-1658858400-1658872800@rihg.ca
SUMMARY:Taylor & Dennis
DESCRIPTION:
URL:https://rihg.ca/event/taylor-dennis/2022-07-26/
CATEGORIES:Charlottetown Beer Garden
END:VEVENT
BEGIN:VEVENT
DTSTART;TZID=America/Halifax:20220727T180000
DTEND;TZID=America/Halifax:20220727T220000
DTSTAMP:20260424T203000
CREATED:20220603T204133Z
LAST-MODIFIED:20220603T204151Z
UID:10001875-1658944800-1658959200@rihg.ca
SUMMARY:Vintage 2.0
DESCRIPTION:
URL:https://rihg.ca/event/vintage-2-0-13/2022-07-27/
CATEGORIES:Charlottetown Beer Garden
END:VEVENT
BEGIN:VEVENT
DTSTART;TZID=America/Halifax:20220728T180000
DTEND;TZID=America/Halifax:20220728T220000
DTSTAMP:20260424T203000
CREATED:20220603T204232Z
LAST-MODIFIED:20220603T204517Z
UID:10011651-1659031200-1659045600@rihg.ca
SUMMARY:Richie & Brian
DESCRIPTION:
URL:https://rihg.ca/event/richie-brian/2022-07-28/
CATEGORIES:Charlottetown Beer Garden
END:VEVENT
BEGIN:VEVENT
DTSTART;TZID=America/Halifax:20220729T180000
DTEND;TZID=America/Halifax:20220729T220000
DTSTAMP:20260424T203000
CREATED:20220601T160212Z
LAST-MODIFIED:20220603T172016Z
UID:10006013-1659117600-1659132000@rihg.ca
SUMMARY:Kim Albert Band
DESCRIPTION:
URL:https://rihg.ca/event/kim-albert-band-2/2022-07-29/
CATEGORIES:Charlottetown Beer Garden
END:VEVENT
BEGIN:VEVENT
DTSTART;TZID=America/Halifax:20220730T180000
DTEND;TZID=America/Halifax:20220730T220000
DTSTAMP:20260424T203000
CREATED:20220603T204416Z
LAST-MODIFIED:20220603T204416Z
UID:10011641-1659204000-1659218400@rihg.ca
SUMMARY:Lu & The Crew
DESCRIPTION:
URL:https://rihg.ca/event/lu-the-crew/2022-07-30/
CATEGORIES:Charlottetown Beer Garden
END:VEVENT
BEGIN:VEVENT
DTSTART;TZID=America/Halifax:20220731T180000
DTEND;TZID=America/Halifax:20220731T220000
DTSTAMP:20260424T203000
CREATED:20220603T171848Z
LAST-MODIFIED:20220603T171848Z
UID:10001865-1659290400-1659304800@rihg.ca
SUMMARY:Brad & Griffen
DESCRIPTION:
URL:https://rihg.ca/event/brad-griffen-5/2022-07-31/
CATEGORIES:Charlottetown Beer Garden
END:VEVENT
BEGIN:VEVENT
DTSTART;TZID=America/Halifax:20220801T180000
DTEND;TZID=America/Halifax:20220801T220000
DTSTAMP:20260424T203000
CREATED:20220603T172214Z
LAST-MODIFIED:20220603T172214Z
UID:10007501-1659376800-1659391200@rihg.ca
SUMMARY:Saul Good Duo
DESCRIPTION:
URL:https://rihg.ca/event/saul-good-duo-13/2022-08-01/
CATEGORIES:Charlottetown Beer Garden
END:VEVENT
BEGIN:VEVENT
DTSTART;TZID=America/Halifax:20220802T180000
DTEND;TZID=America/Halifax:20220802T220000
DTSTAMP:20260424T203000
CREATED:20220603T204054Z
LAST-MODIFIED:20220603T204054Z
UID:10001855-1659463200-1659477600@rihg.ca
SUMMARY:Taylor & Dennis
DESCRIPTION:
URL:https://rihg.ca/event/taylor-dennis/2022-08-02/
CATEGORIES:Charlottetown Beer Garden
END:VEVENT
BEGIN:VEVENT
DTSTART;TZID=America/Halifax:20220803T180000
DTEND;TZID=America/Halifax:20220803T220000
DTSTAMP:20260424T203000
CREATED:20220603T204133Z
LAST-MODIFIED:20220603T204151Z
UID:10001876-1659549600-1659564000@rihg.ca
SUMMARY:Vintage 2.0
DESCRIPTION:
URL:https://rihg.ca/event/vintage-2-0-13/2022-08-03/
CATEGORIES:Charlottetown Beer Garden
END:VEVENT
BEGIN:VEVENT
DTSTART;TZID=America/Halifax:20220804T180000
DTEND;TZID=America/Halifax:20220804T220000
DTSTAMP:20260424T203000
CREATED:20220603T204232Z
LAST-MODIFIED:20220603T204517Z
UID:10011652-1659636000-1659650400@rihg.ca
SUMMARY:Richie & Brian
DESCRIPTION:
URL:https://rihg.ca/event/richie-brian/2022-08-04/
CATEGORIES:Charlottetown Beer Garden
END:VEVENT
BEGIN:VEVENT
DTSTART;TZID=America/Halifax:20220805T180000
DTEND;TZID=America/Halifax:20220805T220000
DTSTAMP:20260424T203000
CREATED:20220601T160212Z
LAST-MODIFIED:20220603T172016Z
UID:10006014-1659722400-1659736800@rihg.ca
SUMMARY:Kim Albert Band
DESCRIPTION:
URL:https://rihg.ca/event/kim-albert-band-2/2022-08-05/
CATEGORIES:Charlottetown Beer Garden
END:VEVENT
BEGIN:VEVENT
DTSTART;TZID=America/Halifax:20220806T180000
DTEND;TZID=America/Halifax:20220806T220000
DTSTAMP:20260424T203000
CREATED:20220603T204416Z
LAST-MODIFIED:20220603T204416Z
UID:10011642-1659808800-1659823200@rihg.ca
SUMMARY:Lu & The Crew
DESCRIPTION:
URL:https://rihg.ca/event/lu-the-crew/2022-08-06/
CATEGORIES:Charlottetown Beer Garden
END:VEVENT
BEGIN:VEVENT
DTSTART;TZID=America/Halifax:20220807T180000
DTEND;TZID=America/Halifax:20220807T220000
DTSTAMP:20260424T203000
CREATED:20220603T171848Z
LAST-MODIFIED:20220603T171848Z
UID:10001866-1659895200-1659909600@rihg.ca
SUMMARY:Brad & Griffen
DESCRIPTION:
URL:https://rihg.ca/event/brad-griffen-5/2022-08-07/
CATEGORIES:Charlottetown Beer Garden
END:VEVENT
BEGIN:VEVENT
DTSTART;TZID=America/Halifax:20220808T180000
DTEND;TZID=America/Halifax:20220808T220000
DTSTAMP:20260424T203000
CREATED:20220603T172214Z
LAST-MODIFIED:20220603T172214Z
UID:10007502-1659981600-1659996000@rihg.ca
SUMMARY:Saul Good Duo
DESCRIPTION:
URL:https://rihg.ca/event/saul-good-duo-13/2022-08-08/
CATEGORIES:Charlottetown Beer Garden
END:VEVENT
BEGIN:VEVENT
DTSTART;TZID=America/Halifax:20220809T180000
DTEND;TZID=America/Halifax:20220809T220000
DTSTAMP:20260424T203000
CREATED:20220603T204054Z
LAST-MODIFIED:20220603T204054Z
UID:10001856-1660068000-1660082400@rihg.ca
SUMMARY:Taylor & Dennis
DESCRIPTION:
URL:https://rihg.ca/event/taylor-dennis/2022-08-09/
CATEGORIES:Charlottetown Beer Garden
END:VEVENT
BEGIN:VEVENT
DTSTART;TZID=America/Halifax:20220810T180000
DTEND;TZID=America/Halifax:20220810T220000
DTSTAMP:20260424T203000
CREATED:20220603T204133Z
LAST-MODIFIED:20220603T204151Z
UID:10001877-1660154400-1660168800@rihg.ca
SUMMARY:Vintage 2.0
DESCRIPTION:
URL:https://rihg.ca/event/vintage-2-0-13/2022-08-10/
CATEGORIES:Charlottetown Beer Garden
END:VEVENT
END:VCALENDAR