BEGIN:VCALENDAR
VERSION:2.0
PRODID:-//Red Island Hospitality Group Inc. - ECPv6.15.20//NONSGML v1.0//EN
CALSCALE:GREGORIAN
METHOD:PUBLISH
X-ORIGINAL-URL:https://rihg.ca
X-WR-CALDESC:Events for Red Island Hospitality Group Inc.
REFRESH-INTERVAL;VALUE=DURATION:PT1H
X-Robots-Tag:noindex
X-PUBLISHED-TTL:PT1H
BEGIN:VTIMEZONE
TZID:America/Halifax
BEGIN:DAYLIGHT
TZOFFSETFROM:-0400
TZOFFSETTO:-0300
TZNAME:ADT
DTSTART:20240310T060000
END:DAYLIGHT
BEGIN:STANDARD
TZOFFSETFROM:-0300
TZOFFSETTO:-0400
TZNAME:AST
DTSTART:20241103T050000
END:STANDARD
BEGIN:DAYLIGHT
TZOFFSETFROM:-0400
TZOFFSETTO:-0300
TZNAME:ADT
DTSTART:20250309T060000
END:DAYLIGHT
BEGIN:STANDARD
TZOFFSETFROM:-0300
TZOFFSETTO:-0400
TZNAME:AST
DTSTART:20251102T050000
END:STANDARD
BEGIN:DAYLIGHT
TZOFFSETFROM:-0400
TZOFFSETTO:-0300
TZNAME:ADT
DTSTART:20260308T060000
END:DAYLIGHT
BEGIN:STANDARD
TZOFFSETFROM:-0300
TZOFFSETTO:-0400
TZNAME:AST
DTSTART:20261101T050000
END:STANDARD
END:VTIMEZONE
BEGIN:VEVENT
DTSTART;TZID=America/Halifax:20250808T180000
DTEND;TZID=America/Halifax:20250808T220000
DTSTAMP:20260424T140118
CREATED:20250523T170415Z
LAST-MODIFIED:20250523T170445Z
UID:10018470-1754676000-1754690400@rihg.ca
SUMMARY:Kim Albert Trio
DESCRIPTION:
URL:https://rihg.ca/event/kim-albert-trio-10/2025-08-08/
CATEGORIES:Charlottetown Beer Garden
END:VEVENT
BEGIN:VEVENT
DTSTART;TZID=America/Halifax:20250809T160000
DTEND;TZID=America/Halifax:20250809T180000
DTSTAMP:20260424T140118
CREATED:20250721T171527Z
LAST-MODIFIED:20250721T171527Z
UID:10018672-1754755200-1754762400@rihg.ca
SUMMARY:Half-Priced Mussels & $7 Pints!
DESCRIPTION:Every day between 4 and 6pm\, enjoy our tasty PEI mussels and your choice of draught beer for only $7. What a way to start your evening!
URL:https://rihg.ca/event/half-priced-mussels-7-pints/2025-08-09/
CATEGORIES:Charlottetown Beer Garden
END:VEVENT
BEGIN:VEVENT
DTSTART;TZID=America/Halifax:20250809T180000
DTEND;TZID=America/Halifax:20250809T220000
DTSTAMP:20260424T140118
CREATED:20250523T170721Z
LAST-MODIFIED:20250523T171110Z
UID:10018481-1754762400-1754776800@rihg.ca
SUMMARY:Adam & The Foes
DESCRIPTION:
URL:https://rihg.ca/event/adam-the-foes-4/2025-08-09/
CATEGORIES:Charlottetown Beer Garden
END:VEVENT
BEGIN:VEVENT
DTSTART;TZID=America/Halifax:20250809T230000
DTEND;TZID=America/Halifax:20250809T230000
DTSTAMP:20260424T140118
CREATED:20250710T175251Z
LAST-MODIFIED:20250710T175251Z
UID:10018615-1754780400-1754780400@rihg.ca
SUMMARY:DJ Duff
DESCRIPTION:
URL:https://rihg.ca/event/dj-duff-3/
CATEGORIES:Charlottetown Beer Garden
END:VEVENT
BEGIN:VEVENT
DTSTART;TZID=America/Halifax:20250810T160000
DTEND;TZID=America/Halifax:20250810T180000
DTSTAMP:20260424T140118
CREATED:20250721T171527Z
LAST-MODIFIED:20250721T171527Z
UID:10018673-1754841600-1754848800@rihg.ca
SUMMARY:Half-Priced Mussels & $7 Pints!
DESCRIPTION:Every day between 4 and 6pm\, enjoy our tasty PEI mussels and your choice of draught beer for only $7. What a way to start your evening!
URL:https://rihg.ca/event/half-priced-mussels-7-pints/2025-08-10/
CATEGORIES:Charlottetown Beer Garden
END:VEVENT
BEGIN:VEVENT
DTSTART;TZID=America/Halifax:20250810T180000
DTEND;TZID=America/Halifax:20250810T220000
DTSTAMP:20260424T140118
CREATED:20250523T171446Z
LAST-MODIFIED:20250609T193147Z
UID:10018515-1754848800-1754863200@rihg.ca
SUMMARY:Brad Milligan Duo
DESCRIPTION:
URL:https://rihg.ca/event/brad-milligan-5/2025-08-10/
CATEGORIES:Charlottetown Beer Garden
END:VEVENT
BEGIN:VEVENT
DTSTART;TZID=America/Halifax:20250811T160000
DTEND;TZID=America/Halifax:20250811T180000
DTSTAMP:20260424T140118
CREATED:20250721T171527Z
LAST-MODIFIED:20250721T171527Z
UID:10018674-1754928000-1754935200@rihg.ca
SUMMARY:Half-Priced Mussels & $7 Pints!
DESCRIPTION:Every day between 4 and 6pm\, enjoy our tasty PEI mussels and your choice of draught beer for only $7. What a way to start your evening!
URL:https://rihg.ca/event/half-priced-mussels-7-pints/2025-08-11/
CATEGORIES:Charlottetown Beer Garden
END:VEVENT
BEGIN:VEVENT
DTSTART;TZID=America/Halifax:20250811T180000
DTEND;TZID=America/Halifax:20250811T220000
DTSTAMP:20260424T140118
CREATED:20250523T171610Z
LAST-MODIFIED:20250523T171630Z
UID:10018525-1754935200-1754949600@rihg.ca
SUMMARY:Saul Good Duo
DESCRIPTION:
URL:https://rihg.ca/event/saul-good-duo-20/2025-08-11/
CATEGORIES:Charlottetown Beer Garden
END:VEVENT
BEGIN:VEVENT
DTSTART;TZID=America/Halifax:20250812T160000
DTEND;TZID=America/Halifax:20250812T180000
DTSTAMP:20260424T140118
CREATED:20250721T171527Z
LAST-MODIFIED:20250721T171527Z
UID:10018675-1755014400-1755021600@rihg.ca
SUMMARY:Half-Priced Mussels & $7 Pints!
DESCRIPTION:Every day between 4 and 6pm\, enjoy our tasty PEI mussels and your choice of draught beer for only $7. What a way to start your evening!
URL:https://rihg.ca/event/half-priced-mussels-7-pints/2025-08-12/
CATEGORIES:Charlottetown Beer Garden
END:VEVENT
BEGIN:VEVENT
DTSTART;TZID=America/Halifax:20250812T180000
DTEND;TZID=America/Halifax:20250812T220000
DTSTAMP:20260424T140118
CREATED:20250523T171245Z
LAST-MODIFIED:20250523T171245Z
UID:10018494-1755021600-1755036000@rihg.ca
SUMMARY:Isaac & Kiera
DESCRIPTION:
URL:https://rihg.ca/event/isaac-kiera-6/2025-08-12/
CATEGORIES:Charlottetown Beer Garden
END:VEVENT
BEGIN:VEVENT
DTSTART;TZID=America/Halifax:20250813T160000
DTEND;TZID=America/Halifax:20250813T180000
DTSTAMP:20260424T140118
CREATED:20250721T171527Z
LAST-MODIFIED:20250721T171527Z
UID:10018676-1755100800-1755108000@rihg.ca
SUMMARY:Half-Priced Mussels & $7 Pints!
DESCRIPTION:Every day between 4 and 6pm\, enjoy our tasty PEI mussels and your choice of draught beer for only $7. What a way to start your evening!
URL:https://rihg.ca/event/half-priced-mussels-7-pints/2025-08-13/
CATEGORIES:Charlottetown Beer Garden
END:VEVENT
BEGIN:VEVENT
DTSTART;TZID=America/Halifax:20250813T180000
DTEND;TZID=America/Halifax:20250813T220000
DTSTAMP:20260424T140118
CREATED:20250523T171336Z
LAST-MODIFIED:20250523T171336Z
UID:10018505-1755108000-1755122400@rihg.ca
SUMMARY:Vintage 2.0
DESCRIPTION:
URL:https://rihg.ca/event/vintage-2-0-23/2025-08-13/
CATEGORIES:Charlottetown Beer Garden
END:VEVENT
BEGIN:VEVENT
DTSTART;TZID=America/Halifax:20250814T160000
DTEND;TZID=America/Halifax:20250814T180000
DTSTAMP:20260424T140118
CREATED:20250721T171527Z
LAST-MODIFIED:20250721T171527Z
UID:10018677-1755187200-1755194400@rihg.ca
SUMMARY:Half-Priced Mussels & $7 Pints!
DESCRIPTION:Every day between 4 and 6pm\, enjoy our tasty PEI mussels and your choice of draught beer for only $7. What a way to start your evening!
URL:https://rihg.ca/event/half-priced-mussels-7-pints/2025-08-14/
CATEGORIES:Charlottetown Beer Garden
END:VEVENT
BEGIN:VEVENT
DTSTART;TZID=America/Halifax:20250814T180000
DTEND;TZID=America/Halifax:20250814T220000
DTSTAMP:20260424T140118
CREATED:20250523T170330Z
LAST-MODIFIED:20250523T170330Z
UID:10018456-1755194400-1755208800@rihg.ca
SUMMARY:Richie Bulger Duo
DESCRIPTION:
URL:https://rihg.ca/event/richie-bulger-duo-9/2025-08-14/
CATEGORIES:Charlottetown Beer Garden
END:VEVENT
BEGIN:VEVENT
DTSTART;TZID=America/Halifax:20250815T160000
DTEND;TZID=America/Halifax:20250815T180000
DTSTAMP:20260424T140118
CREATED:20250721T171527Z
LAST-MODIFIED:20250721T171527Z
UID:10018678-1755273600-1755280800@rihg.ca
SUMMARY:Half-Priced Mussels & $7 Pints!
DESCRIPTION:Every day between 4 and 6pm\, enjoy our tasty PEI mussels and your choice of draught beer for only $7. What a way to start your evening!
URL:https://rihg.ca/event/half-priced-mussels-7-pints/2025-08-15/
CATEGORIES:Charlottetown Beer Garden
END:VEVENT
BEGIN:VEVENT
DTSTART;TZID=America/Halifax:20250815T180000
DTEND;TZID=America/Halifax:20250815T220000
DTSTAMP:20260424T140118
CREATED:20250523T170415Z
LAST-MODIFIED:20250523T170445Z
UID:10018471-1755280800-1755295200@rihg.ca
SUMMARY:Kim Albert Trio
DESCRIPTION:
URL:https://rihg.ca/event/kim-albert-trio-10/2025-08-15/
CATEGORIES:Charlottetown Beer Garden
END:VEVENT
BEGIN:VEVENT
DTSTART;TZID=America/Halifax:20250816T160000
DTEND;TZID=America/Halifax:20250816T180000
DTSTAMP:20260424T140118
CREATED:20250721T171527Z
LAST-MODIFIED:20250721T171527Z
UID:10018679-1755360000-1755367200@rihg.ca
SUMMARY:Half-Priced Mussels & $7 Pints!
DESCRIPTION:Every day between 4 and 6pm\, enjoy our tasty PEI mussels and your choice of draught beer for only $7. What a way to start your evening!
URL:https://rihg.ca/event/half-priced-mussels-7-pints/2025-08-16/
CATEGORIES:Charlottetown Beer Garden
END:VEVENT
BEGIN:VEVENT
DTSTART;TZID=America/Halifax:20250816T180000
DTEND;TZID=America/Halifax:20250816T220000
DTSTAMP:20260424T140118
CREATED:20250523T170721Z
LAST-MODIFIED:20250523T171110Z
UID:10018482-1755367200-1755381600@rihg.ca
SUMMARY:Adam & The Foes
DESCRIPTION:
URL:https://rihg.ca/event/adam-the-foes-4/2025-08-16/
CATEGORIES:Charlottetown Beer Garden
END:VEVENT
BEGIN:VEVENT
DTSTART;TZID=America/Halifax:20250816T230000
DTEND;TZID=America/Halifax:20250816T230000
DTSTAMP:20260424T140118
CREATED:20250710T175325Z
LAST-MODIFIED:20250710T175325Z
UID:10018616-1755385200-1755385200@rihg.ca
SUMMARY:DJ METHoD
DESCRIPTION:
URL:https://rihg.ca/event/dj-method-26/
CATEGORIES:Charlottetown Beer Garden
END:VEVENT
BEGIN:VEVENT
DTSTART;TZID=America/Halifax:20250817T160000
DTEND;TZID=America/Halifax:20250817T180000
DTSTAMP:20260424T140118
CREATED:20250721T171527Z
LAST-MODIFIED:20250721T171527Z
UID:10018680-1755446400-1755453600@rihg.ca
SUMMARY:Half-Priced Mussels & $7 Pints!
DESCRIPTION:Every day between 4 and 6pm\, enjoy our tasty PEI mussels and your choice of draught beer for only $7. What a way to start your evening!
URL:https://rihg.ca/event/half-priced-mussels-7-pints/2025-08-17/
CATEGORIES:Charlottetown Beer Garden
END:VEVENT
BEGIN:VEVENT
DTSTART;TZID=America/Halifax:20250817T180000
DTEND;TZID=America/Halifax:20250817T220000
DTSTAMP:20260424T140118
CREATED:20250523T171446Z
LAST-MODIFIED:20250609T193147Z
UID:10018516-1755453600-1755468000@rihg.ca
SUMMARY:Brad Milligan Duo
DESCRIPTION:
URL:https://rihg.ca/event/brad-milligan-5/2025-08-17/
CATEGORIES:Charlottetown Beer Garden
END:VEVENT
BEGIN:VEVENT
DTSTART;TZID=America/Halifax:20250818T160000
DTEND;TZID=America/Halifax:20250818T180000
DTSTAMP:20260424T140118
CREATED:20250721T171527Z
LAST-MODIFIED:20250721T171527Z
UID:10018681-1755532800-1755540000@rihg.ca
SUMMARY:Half-Priced Mussels & $7 Pints!
DESCRIPTION:Every day between 4 and 6pm\, enjoy our tasty PEI mussels and your choice of draught beer for only $7. What a way to start your evening!
URL:https://rihg.ca/event/half-priced-mussels-7-pints/2025-08-18/
CATEGORIES:Charlottetown Beer Garden
END:VEVENT
BEGIN:VEVENT
DTSTART;TZID=America/Halifax:20250818T180000
DTEND;TZID=America/Halifax:20250818T220000
DTSTAMP:20260424T140118
CREATED:20250523T171610Z
LAST-MODIFIED:20250523T171630Z
UID:10018526-1755540000-1755554400@rihg.ca
SUMMARY:Saul Good Duo
DESCRIPTION:
URL:https://rihg.ca/event/saul-good-duo-20/2025-08-18/
CATEGORIES:Charlottetown Beer Garden
END:VEVENT
BEGIN:VEVENT
DTSTART;TZID=America/Halifax:20250819T160000
DTEND;TZID=America/Halifax:20250819T180000
DTSTAMP:20260424T140118
CREATED:20250721T171527Z
LAST-MODIFIED:20250721T171527Z
UID:10018682-1755619200-1755626400@rihg.ca
SUMMARY:Half-Priced Mussels & $7 Pints!
DESCRIPTION:Every day between 4 and 6pm\, enjoy our tasty PEI mussels and your choice of draught beer for only $7. What a way to start your evening!
URL:https://rihg.ca/event/half-priced-mussels-7-pints/2025-08-19/
CATEGORIES:Charlottetown Beer Garden
END:VEVENT
BEGIN:VEVENT
DTSTART;TZID=America/Halifax:20250819T180000
DTEND;TZID=America/Halifax:20250819T220000
DTSTAMP:20260424T140118
CREATED:20250523T171245Z
LAST-MODIFIED:20250523T171245Z
UID:10018495-1755626400-1755640800@rihg.ca
SUMMARY:Isaac & Kiera
DESCRIPTION:
URL:https://rihg.ca/event/isaac-kiera-6/2025-08-19/
CATEGORIES:Charlottetown Beer Garden
END:VEVENT
BEGIN:VEVENT
DTSTART;TZID=America/Halifax:20250820T160000
DTEND;TZID=America/Halifax:20250820T180000
DTSTAMP:20260424T140118
CREATED:20250721T171527Z
LAST-MODIFIED:20250721T171527Z
UID:10018683-1755705600-1755712800@rihg.ca
SUMMARY:Half-Priced Mussels & $7 Pints!
DESCRIPTION:Every day between 4 and 6pm\, enjoy our tasty PEI mussels and your choice of draught beer for only $7. What a way to start your evening!
URL:https://rihg.ca/event/half-priced-mussels-7-pints/2025-08-20/
CATEGORIES:Charlottetown Beer Garden
END:VEVENT
BEGIN:VEVENT
DTSTART;TZID=America/Halifax:20250820T180000
DTEND;TZID=America/Halifax:20250820T220000
DTSTAMP:20260424T140118
CREATED:20250523T171336Z
LAST-MODIFIED:20250523T171336Z
UID:10018506-1755712800-1755727200@rihg.ca
SUMMARY:Vintage 2.0
DESCRIPTION:
URL:https://rihg.ca/event/vintage-2-0-23/2025-08-20/
CATEGORIES:Charlottetown Beer Garden
END:VEVENT
BEGIN:VEVENT
DTSTART;TZID=America/Halifax:20250821T160000
DTEND;TZID=America/Halifax:20250821T180000
DTSTAMP:20260424T140118
CREATED:20250721T171527Z
LAST-MODIFIED:20250721T171527Z
UID:10018684-1755792000-1755799200@rihg.ca
SUMMARY:Half-Priced Mussels & $7 Pints!
DESCRIPTION:Every day between 4 and 6pm\, enjoy our tasty PEI mussels and your choice of draught beer for only $7. What a way to start your evening!
URL:https://rihg.ca/event/half-priced-mussels-7-pints/2025-08-21/
CATEGORIES:Charlottetown Beer Garden
END:VEVENT
BEGIN:VEVENT
DTSTART;TZID=America/Halifax:20250821T180000
DTEND;TZID=America/Halifax:20250821T220000
DTSTAMP:20260424T140118
CREATED:20250523T170330Z
LAST-MODIFIED:20250523T170330Z
UID:10018457-1755799200-1755813600@rihg.ca
SUMMARY:Richie Bulger Duo
DESCRIPTION:
URL:https://rihg.ca/event/richie-bulger-duo-9/2025-08-21/
CATEGORIES:Charlottetown Beer Garden
END:VEVENT
BEGIN:VEVENT
DTSTART;TZID=America/Halifax:20250822T160000
DTEND;TZID=America/Halifax:20250822T180000
DTSTAMP:20260424T140118
CREATED:20250721T171527Z
LAST-MODIFIED:20250721T171527Z
UID:10018685-1755878400-1755885600@rihg.ca
SUMMARY:Half-Priced Mussels & $7 Pints!
DESCRIPTION:Every day between 4 and 6pm\, enjoy our tasty PEI mussels and your choice of draught beer for only $7. What a way to start your evening!
URL:https://rihg.ca/event/half-priced-mussels-7-pints/2025-08-22/
CATEGORIES:Charlottetown Beer Garden
END:VEVENT
END:VCALENDAR