BEGIN:VCALENDAR
VERSION:2.0
PRODID:-//Red Island Hospitality Group Inc. - ECPv6.15.20//NONSGML v1.0//EN
CALSCALE:GREGORIAN
METHOD:PUBLISH
X-ORIGINAL-URL:https://rihg.ca
X-WR-CALDESC:Events for Red Island Hospitality Group Inc.
REFRESH-INTERVAL;VALUE=DURATION:PT1H
X-Robots-Tag:noindex
X-PUBLISHED-TTL:PT1H
BEGIN:VTIMEZONE
TZID:America/Halifax
BEGIN:DAYLIGHT
TZOFFSETFROM:-0400
TZOFFSETTO:-0300
TZNAME:ADT
DTSTART:20210314T060000
END:DAYLIGHT
BEGIN:STANDARD
TZOFFSETFROM:-0300
TZOFFSETTO:-0400
TZNAME:AST
DTSTART:20211107T050000
END:STANDARD
BEGIN:DAYLIGHT
TZOFFSETFROM:-0400
TZOFFSETTO:-0300
TZNAME:ADT
DTSTART:20220313T060000
END:DAYLIGHT
BEGIN:STANDARD
TZOFFSETFROM:-0300
TZOFFSETTO:-0400
TZNAME:AST
DTSTART:20221106T050000
END:STANDARD
BEGIN:DAYLIGHT
TZOFFSETFROM:-0400
TZOFFSETTO:-0300
TZNAME:ADT
DTSTART:20230312T060000
END:DAYLIGHT
BEGIN:STANDARD
TZOFFSETFROM:-0300
TZOFFSETTO:-0400
TZNAME:AST
DTSTART:20231105T050000
END:STANDARD
BEGIN:DAYLIGHT
TZOFFSETFROM:-0400
TZOFFSETTO:-0300
TZNAME:ADT
DTSTART:20240310T060000
END:DAYLIGHT
BEGIN:STANDARD
TZOFFSETFROM:-0300
TZOFFSETTO:-0400
TZNAME:AST
DTSTART:20241103T050000
END:STANDARD
END:VTIMEZONE
BEGIN:VEVENT
DTSTART;TZID=America/Halifax:20220829T180000
DTEND;TZID=America/Halifax:20220829T220000
DTSTAMP:20260425T094752
CREATED:20220603T172214Z
LAST-MODIFIED:20220603T172214Z
UID:10007505-1661796000-1661810400@rihg.ca
SUMMARY:Saul Good Duo
DESCRIPTION:
URL:https://rihg.ca/event/saul-good-duo-13/2022-08-29/
CATEGORIES:Charlottetown Beer Garden
END:VEVENT
BEGIN:VEVENT
DTSTART;TZID=America/Halifax:20220830T180000
DTEND;TZID=America/Halifax:20220830T220000
DTSTAMP:20260425T094752
CREATED:20220603T204054Z
LAST-MODIFIED:20220603T204054Z
UID:10001859-1661882400-1661896800@rihg.ca
SUMMARY:Taylor & Dennis
DESCRIPTION:
URL:https://rihg.ca/event/taylor-dennis/2022-08-30/
CATEGORIES:Charlottetown Beer Garden
END:VEVENT
BEGIN:VEVENT
DTSTART;TZID=America/Halifax:20220831T180000
DTEND;TZID=America/Halifax:20220831T220000
DTSTAMP:20260425T094752
CREATED:20220603T204133Z
LAST-MODIFIED:20220603T204151Z
UID:10001880-1661968800-1661983200@rihg.ca
SUMMARY:Vintage 2.0
DESCRIPTION:
URL:https://rihg.ca/event/vintage-2-0-13/2022-08-31/
CATEGORIES:Charlottetown Beer Garden
END:VEVENT
BEGIN:VEVENT
DTSTART;TZID=America/Halifax:20220901T180000
DTEND;TZID=America/Halifax:20220901T220000
DTSTAMP:20260425T094752
CREATED:20220603T204232Z
LAST-MODIFIED:20220603T204517Z
UID:10011656-1662055200-1662069600@rihg.ca
SUMMARY:Richie & Brian
DESCRIPTION:
URL:https://rihg.ca/event/richie-brian/2022-09-01/
CATEGORIES:Charlottetown Beer Garden
END:VEVENT
BEGIN:VEVENT
DTSTART;TZID=America/Halifax:20220902T180000
DTEND;TZID=America/Halifax:20220902T220000
DTSTAMP:20260425T094752
CREATED:20220601T160212Z
LAST-MODIFIED:20220603T172016Z
UID:10006018-1662141600-1662156000@rihg.ca
SUMMARY:Kim Albert Band
DESCRIPTION:
URL:https://rihg.ca/event/kim-albert-band-2/2022-09-02/
CATEGORIES:Charlottetown Beer Garden
END:VEVENT
BEGIN:VEVENT
DTSTART;TZID=America/Halifax:20220903T180000
DTEND;TZID=America/Halifax:20220903T220000
DTSTAMP:20260425T094752
CREATED:20220603T204416Z
LAST-MODIFIED:20220603T204416Z
UID:10011646-1662228000-1662242400@rihg.ca
SUMMARY:Lu & The Crew
DESCRIPTION:
URL:https://rihg.ca/event/lu-the-crew/2022-09-03/
CATEGORIES:Charlottetown Beer Garden
END:VEVENT
BEGIN:VEVENT
DTSTART;TZID=America/Halifax:20220904T180000
DTEND;TZID=America/Halifax:20220904T220000
DTSTAMP:20260425T094752
CREATED:20220603T171848Z
LAST-MODIFIED:20220603T171848Z
UID:10001870-1662314400-1662328800@rihg.ca
SUMMARY:Brad & Griffen
DESCRIPTION:
URL:https://rihg.ca/event/brad-griffen-5/2022-09-04/
CATEGORIES:Charlottetown Beer Garden
END:VEVENT
BEGIN:VEVENT
DTSTART;TZID=America/Halifax:20220908T180000
DTEND;TZID=America/Halifax:20220908T180000
DTSTAMP:20260425T094752
CREATED:20220822T153959Z
LAST-MODIFIED:20220822T153959Z
UID:10009849-1662660000-1662660000@rihg.ca
SUMMARY:Saul Good Duo
DESCRIPTION:
URL:https://rihg.ca/event/saul-good-duo-15/2022-09-08/
CATEGORIES:Charlottetown Beer Garden
END:VEVENT
BEGIN:VEVENT
DTSTART;TZID=America/Halifax:20220915T180000
DTEND;TZID=America/Halifax:20220915T180000
DTSTAMP:20260425T094752
CREATED:20220822T153959Z
LAST-MODIFIED:20220822T153959Z
UID:10009850-1663264800-1663264800@rihg.ca
SUMMARY:Saul Good Duo
DESCRIPTION:
URL:https://rihg.ca/event/saul-good-duo-15/2022-09-15/
CATEGORIES:Charlottetown Beer Garden
END:VEVENT
BEGIN:VEVENT
DTSTART;TZID=America/Halifax:20220917T180000
DTEND;TZID=America/Halifax:20220917T180000
DTSTAMP:20260425T094752
CREATED:20220822T154044Z
LAST-MODIFIED:20220822T154044Z
UID:10004173-1663437600-1663437600@rihg.ca
SUMMARY:Alyssa & Corey
DESCRIPTION:
URL:https://rihg.ca/event/alyssa-corey-8/
CATEGORIES:Charlottetown Beer Garden
END:VEVENT
BEGIN:VEVENT
DTSTART;TZID=America/Halifax:20220922T180000
DTEND;TZID=America/Halifax:20220922T180000
DTSTAMP:20260425T094752
CREATED:20220822T153959Z
LAST-MODIFIED:20220822T153959Z
UID:10009851-1663869600-1663869600@rihg.ca
SUMMARY:Saul Good Duo
DESCRIPTION:
URL:https://rihg.ca/event/saul-good-duo-15/2022-09-22/
CATEGORIES:Charlottetown Beer Garden
END:VEVENT
BEGIN:VEVENT
DTSTART;TZID=America/Halifax:20220923T180000
DTEND;TZID=America/Halifax:20220923T180000
DTSTAMP:20260425T094752
CREATED:20220822T154142Z
LAST-MODIFIED:20220822T154142Z
UID:10005425-1663956000-1663956000@rihg.ca
SUMMARY:Brad & Griffen
DESCRIPTION:
URL:https://rihg.ca/event/brad-and-griffen-3/
CATEGORIES:Charlottetown Beer Garden
END:VEVENT
BEGIN:VEVENT
DTSTART;TZID=America/Halifax:20220929T180000
DTEND;TZID=America/Halifax:20220929T180000
DTSTAMP:20260425T094752
CREATED:20220822T153959Z
LAST-MODIFIED:20220822T153959Z
UID:10009852-1664474400-1664474400@rihg.ca
SUMMARY:Saul Good Duo
DESCRIPTION:
URL:https://rihg.ca/event/saul-good-duo-15/2022-09-29/
CATEGORIES:Charlottetown Beer Garden
END:VEVENT
BEGIN:VEVENT
DTSTART;TZID=America/Halifax:20230127T170000
DTEND;TZID=America/Halifax:20230127T190000
DTSTAMP:20260425T094752
CREATED:20230125T195415Z
LAST-MODIFIED:20230126T145440Z
UID:10013602-1674838800-1674846000@rihg.ca
SUMMARY:Ice City Festival presents Lisa Birt
DESCRIPTION:We’re kicking off Ice City Festival with country folk singer\, Lisa Birt. Find out more about Lisa here: http://www.lisabirt.com
URL:https://rihg.ca/event/ice-city-sugar-shack-presents-lisa-birt/
CATEGORIES:Charlottetown Beer Garden
END:VEVENT
BEGIN:VEVENT
DTSTART;TZID=America/Halifax:20230128T170000
DTEND;TZID=America/Halifax:20230128T190000
DTSTAMP:20260425T094752
CREATED:20230125T195517Z
LAST-MODIFIED:20230125T195517Z
UID:10013603-1674925200-1674932400@rihg.ca
SUMMARY:Ice City Festival presents DJ METHoD
DESCRIPTION:Get up and dance in those winter boots!
URL:https://rihg.ca/event/ice-city-festival-presents-dj-method/
CATEGORIES:Charlottetown Beer Garden
END:VEVENT
BEGIN:VEVENT
DTSTART;TZID=America/Halifax:20230128T190000
DTEND;TZID=America/Halifax:20230128T210000
DTSTAMP:20260425T094752
CREATED:20230125T195619Z
LAST-MODIFIED:20230125T195619Z
UID:10013604-1674932400-1674939600@rihg.ca
SUMMARY:Ice City Festival presents Lisa Birt
DESCRIPTION:
URL:https://rihg.ca/event/ice-city-festival-presents-lisa-birt/
CATEGORIES:Charlottetown Beer Garden
END:VEVENT
BEGIN:VEVENT
DTSTART;TZID=America/Halifax:20230129T170000
DTEND;TZID=America/Halifax:20230129T190000
DTSTAMP:20260425T094752
CREATED:20230125T195724Z
LAST-MODIFIED:20230125T195724Z
UID:10013605-1675011600-1675018800@rihg.ca
SUMMARY:Ice City Festival presents Dave Woodside
DESCRIPTION:
URL:https://rihg.ca/event/ice-city-festival-presents-dave-woodside/
CATEGORIES:Charlottetown Beer Garden
END:VEVENT
BEGIN:VEVENT
DTSTART;TZID=America/Halifax:20230203T183000
DTEND;TZID=America/Halifax:20230203T203000
DTSTAMP:20260425T094752
CREATED:20230126T152128Z
LAST-MODIFIED:20230126T152128Z
UID:10013626-1675449000-1675456200@rihg.ca
SUMMARY:Ice City Festival presents Matt Hannah
DESCRIPTION:
URL:https://rihg.ca/event/ice-city-festival-presents-matt-hannah-7/
CATEGORIES:Charlottetown Beer Garden
END:VEVENT
BEGIN:VEVENT
DTSTART;TZID=America/Halifax:20230204T160000
DTEND;TZID=America/Halifax:20230204T180000
DTSTAMP:20260425T094752
CREATED:20230126T150650Z
LAST-MODIFIED:20230126T151326Z
UID:10013619-1675526400-1675533600@rihg.ca
SUMMARY:Ice City Festival presents Lisa Birt
DESCRIPTION:
URL:https://rihg.ca/event/ice-city-festival-presents-lisa-birt-5/
CATEGORIES:Charlottetown Beer Garden
END:VEVENT
BEGIN:VEVENT
DTSTART;TZID=America/Halifax:20230204T180000
DTEND;TZID=America/Halifax:20230204T200000
DTSTAMP:20260425T094752
CREATED:20230126T150008Z
LAST-MODIFIED:20230126T151940Z
UID:10013611-1675533600-1675540800@rihg.ca
SUMMARY:Ice City Festival presents Matt Hannah
DESCRIPTION:
URL:https://rihg.ca/event/ice-city-festival-presents-matt-hannah/
CATEGORIES:Charlottetown Beer Garden
END:VEVENT
BEGIN:VEVENT
DTSTART;TZID=America/Halifax:20230205T170000
DTEND;TZID=America/Halifax:20230205T190000
DTSTAMP:20260425T094752
CREATED:20230126T150842Z
LAST-MODIFIED:20230126T150842Z
UID:10013621-1675616400-1675623600@rihg.ca
SUMMARY:Ice City Festival presents Dave Woodside
DESCRIPTION:
URL:https://rihg.ca/event/ice-city-festival-presents-dave-woodside-3/
CATEGORIES:Charlottetown Beer Garden
END:VEVENT
BEGIN:VEVENT
DTSTART;TZID=America/Halifax:20230210T180000
DTEND;TZID=America/Halifax:20230210T200000
DTSTAMP:20260425T094752
CREATED:20230126T145619Z
LAST-MODIFIED:20230126T145619Z
UID:10013606-1676052000-1676059200@rihg.ca
SUMMARY:Ice City Festival presents DJ METHoD
DESCRIPTION:
URL:https://rihg.ca/event/ice-city-festival-presents-dj-method-2/
CATEGORIES:Charlottetown Beer Garden
END:VEVENT
BEGIN:VEVENT
DTSTART;TZID=America/Halifax:20230211T170000
DTEND;TZID=America/Halifax:20230211T190000
DTSTAMP:20260425T094752
CREATED:20230126T150046Z
LAST-MODIFIED:20230126T150046Z
UID:10013612-1676134800-1676142000@rihg.ca
SUMMARY:Ice City Festival presents Matt Hannah
DESCRIPTION:
URL:https://rihg.ca/event/ice-city-festival-presents-matt-hannah-2/
CATEGORIES:Charlottetown Beer Garden
END:VEVENT
BEGIN:VEVENT
DTSTART;TZID=America/Halifax:20230211T190000
DTEND;TZID=America/Halifax:20230211T210000
DTSTAMP:20260425T094752
CREATED:20230126T150134Z
LAST-MODIFIED:20230126T150134Z
UID:10013613-1676142000-1676149200@rihg.ca
SUMMARY:Ice City Festival presents DJ METHoD
DESCRIPTION:
URL:https://rihg.ca/event/ice-city-festival-presents-dj-method-6/
CATEGORIES:Charlottetown Beer Garden
END:VEVENT
BEGIN:VEVENT
DTSTART;TZID=America/Halifax:20230212T170000
DTEND;TZID=America/Halifax:20230212T190000
DTSTAMP:20260425T094752
CREATED:20230126T150927Z
LAST-MODIFIED:20230126T150927Z
UID:10013622-1676221200-1676228400@rihg.ca
SUMMARY:Ice City Festival presents Matt Hannah
DESCRIPTION:
URL:https://rihg.ca/event/ice-city-festival-presents-matt-hannah-4/
CATEGORIES:Charlottetown Beer Garden
END:VEVENT
BEGIN:VEVENT
DTSTART;TZID=America/Halifax:20230217T180000
DTEND;TZID=America/Halifax:20230217T200000
DTSTAMP:20260425T094752
CREATED:20230126T145709Z
LAST-MODIFIED:20230126T145709Z
UID:10013607-1676656800-1676664000@rihg.ca
SUMMARY:Ice City Festival presents DJ METHoD
DESCRIPTION:
URL:https://rihg.ca/event/ice-city-festival-presents-dj-method-3/
CATEGORIES:Charlottetown Beer Garden
END:VEVENT
BEGIN:VEVENT
DTSTART;TZID=America/Halifax:20230218T160000
DTEND;TZID=America/Halifax:20230218T180000
DTSTAMP:20260425T094752
CREATED:20230126T150215Z
LAST-MODIFIED:20230126T150215Z
UID:10013614-1676736000-1676743200@rihg.ca
SUMMARY:Ice City Festival presents Dave Woodside
DESCRIPTION:
URL:https://rihg.ca/event/ice-city-festival-presents-dave-woodside-2/
CATEGORIES:Charlottetown Beer Garden
END:VEVENT
BEGIN:VEVENT
DTSTART;TZID=America/Halifax:20230218T180000
DTEND;TZID=America/Halifax:20230218T200000
DTSTAMP:20260425T094752
CREATED:20230126T150249Z
LAST-MODIFIED:20230126T150249Z
UID:10013615-1676743200-1676750400@rihg.ca
SUMMARY:Ice City Festival presents DJ METHoD
DESCRIPTION:
URL:https://rihg.ca/event/ice-city-festival-presents-dj-method-7/
CATEGORIES:Charlottetown Beer Garden
END:VEVENT
BEGIN:VEVENT
DTSTART;TZID=America/Halifax:20230219T170000
DTEND;TZID=America/Halifax:20230219T190000
DTSTAMP:20260425T094752
CREATED:20230126T151009Z
LAST-MODIFIED:20230126T151009Z
UID:10013623-1676826000-1676833200@rihg.ca
SUMMARY:Ice City Festival presents Matt Hannah
DESCRIPTION:
URL:https://rihg.ca/event/ice-city-festival-presents-matt-hannah-5/
CATEGORIES:Charlottetown Beer Garden
END:VEVENT
BEGIN:VEVENT
DTSTART;TZID=America/Halifax:20230224T180000
DTEND;TZID=America/Halifax:20230224T200000
DTSTAMP:20260425T094752
CREATED:20230126T145800Z
LAST-MODIFIED:20230126T145800Z
UID:10013608-1677261600-1677268800@rihg.ca
SUMMARY:Ice City Festival presents DJ METHoD
DESCRIPTION:
URL:https://rihg.ca/event/ice-city-festival-presents-dj-method-4/
CATEGORIES:Charlottetown Beer Garden
END:VEVENT
END:VCALENDAR