BEGIN:VCALENDAR
VERSION:2.0
PRODID:-//Red Island Hospitality Group Inc. - ECPv6.15.20//NONSGML v1.0//EN
CALSCALE:GREGORIAN
METHOD:PUBLISH
X-WR-CALNAME:Red Island Hospitality Group Inc.
X-ORIGINAL-URL:https://rihg.ca
X-WR-CALDESC:Events for Red Island Hospitality Group Inc.
REFRESH-INTERVAL;VALUE=DURATION:PT1H
X-Robots-Tag:noindex
X-PUBLISHED-TTL:PT1H
BEGIN:VTIMEZONE
TZID:America/Halifax
BEGIN:DAYLIGHT
TZOFFSETFROM:-0400
TZOFFSETTO:-0300
TZNAME:ADT
DTSTART:20250309T060000
END:DAYLIGHT
BEGIN:STANDARD
TZOFFSETFROM:-0300
TZOFFSETTO:-0400
TZNAME:AST
DTSTART:20251102T050000
END:STANDARD
BEGIN:DAYLIGHT
TZOFFSETFROM:-0400
TZOFFSETTO:-0300
TZNAME:ADT
DTSTART:20260308T060000
END:DAYLIGHT
BEGIN:STANDARD
TZOFFSETFROM:-0300
TZOFFSETTO:-0400
TZNAME:AST
DTSTART:20261101T050000
END:STANDARD
BEGIN:DAYLIGHT
TZOFFSETFROM:-0400
TZOFFSETTO:-0300
TZNAME:ADT
DTSTART:20270314T060000
END:DAYLIGHT
BEGIN:STANDARD
TZOFFSETFROM:-0300
TZOFFSETTO:-0400
TZNAME:AST
DTSTART:20271107T050000
END:STANDARD
END:VTIMEZONE
BEGIN:VEVENT
DTSTART;TZID=America/Halifax:20260501T210000
DTEND;TZID=America/Halifax:20260501T210000
DTSTAMP:20260421T020859
CREATED:20141210T153446Z
LAST-MODIFIED:20251223T194853Z
UID:10019619-1777669200-1777669200@rihg.ca
SUMMARY:Pitcher + Nachos = $27.99
DESCRIPTION:You get a pitcher & an order of nachos for only $27.99? Sounds like the combination of a good time to us! \n  \n**Special includes choice of a domestic Labatt product and an order of regular Hunter’s nachos.
URL:https://rihg.ca/event/pitcher-nachos-24-99-2015-09-04-2016-05-06-2016-06-03-2016-09-02-2016-11-04-2017-06-23-2018-10-05-2019-06-07/2026-05-01/
CATEGORIES:Hunter’s Ale House
END:VEVENT
BEGIN:VEVENT
DTSTART;TZID=America/Halifax:20260501T230000
DTEND;TZID=America/Halifax:20260501T230000
DTSTAMP:20260421T020859
CREATED:20260414T185449Z
LAST-MODIFIED:20260414T185449Z
UID:10020822-1777676400-1777676400@rihg.ca
SUMMARY:Liam & Adam
DESCRIPTION:
URL:https://rihg.ca/event/liam-adam/
CATEGORIES:Hunter’s Ale House
END:VEVENT
BEGIN:VEVENT
DTSTART;TZID=America/Halifax:20260502T210000
DTEND;TZID=America/Halifax:20260502T210000
DTSTAMP:20260421T020859
CREATED:20160505T164046Z
LAST-MODIFIED:20251223T194947Z
UID:10019670-1777755600-1777755600@rihg.ca
SUMMARY:Pitcher & Wings = $27.99
DESCRIPTION:Pick a pitcher and choose your sauce for only $27.99. We’ll do the rest! \n  \n**Special includes choice of a domestic Molson pitcher and 1 lb wings.
URL:https://rihg.ca/event/pitcher-wing-special-2016-06-04-2016-09-03-2016-11-05-2017-06-24-2018-10-06-2019-06-01/2026-05-02/
CATEGORIES:Hunter’s Ale House
END:VEVENT
BEGIN:VEVENT
DTSTART;TZID=America/Halifax:20260502T230000
DTEND;TZID=America/Halifax:20260502T230000
DTSTAMP:20260421T020859
CREATED:20260414T185526Z
LAST-MODIFIED:20260414T185526Z
UID:10020823-1777762800-1777762800@rihg.ca
SUMMARY:Boney Oaks
DESCRIPTION:
URL:https://rihg.ca/event/boney-oaks-10/
CATEGORIES:Hunter’s Ale House
END:VEVENT
BEGIN:VEVENT
DTSTART;TZID=America/Halifax:20260503T210000
DTEND;TZID=America/Halifax:20260503T210000
DTSTAMP:20260421T020859
CREATED:20160505T172902Z
LAST-MODIFIED:20251223T195103Z
UID:10019722-1777842000-1777842000@rihg.ca
SUMMARY:1/2 Priced Poutine
DESCRIPTION:Have your seen our Poutinerie? You could pretty much have a new one every week for a year! Well\, half a year anyway… \n  \n**Purchase of a beverage is required to order a 1/2 priced poutine.
URL:https://rihg.ca/event/12-price-poutine-2016-06-05-2016-09-04-2016-11-06-2017-06-25-2018-10-07-2019-06-02/2026-05-03/
CATEGORIES:Hunter’s Ale House
END:VEVENT
BEGIN:VEVENT
DTSTART;TZID=America/Halifax:20260503T210000
DTEND;TZID=America/Halifax:20260503T210000
DTSTAMP:20260421T020859
CREATED:20211203T211110Z
LAST-MODIFIED:20251223T195142Z
UID:10019774-1777842000-1777842000@rihg.ca
SUMMARY:Name That Tune Trivia with Andrew Rollins
DESCRIPTION:You think you know your music? Think again! Andrew will put your musical knowledge to the test! \nWe will be using Hunter’s “wooden nickel” drink tokens for beer questions. These can be redeemed for a domestic bottled beer\, well shot\, or non-alcoholic beverage\, when won or at any future time! \nWe look forward to seeing you on Sunday night!!!
URL:https://rihg.ca/event/name-that-tune-trivia-with-andrew-rollins-2/2026-05-03/
CATEGORIES:Hunter’s Ale House
END:VEVENT
BEGIN:VEVENT
DTSTART;TZID=America/Halifax:20260504T210000
DTEND;TZID=America/Halifax:20260504T210000
DTSTAMP:20260421T020859
CREATED:20181126T213257Z
LAST-MODIFIED:20251223T192532Z
UID:10019264-1777928400-1777928400@rihg.ca
SUMMARY:1/2 Priced Nachos
DESCRIPTION:Check out our variety of nachos: \nIt would take a few months to try a new one every week… \nCHALLENGE ACCEPTED! \n**Must purchase a beverage to order 1/2 priced nachos
URL:https://rihg.ca/event/1-2-priced-nachos-2019-06-03/2026-05-04/
CATEGORIES:Hunter’s Ale House
END:VEVENT
BEGIN:VEVENT
DTSTART;TZID=America/Halifax:20260504T220000
DTEND;TZID=America/Halifax:20260504T220000
DTSTAMP:20260421T020859
CREATED:20250404T165601Z
LAST-MODIFIED:20251223T192613Z
UID:10018224-1777932000-1777932000@rihg.ca
SUMMARY:Open Mic with Travis
DESCRIPTION:Monday Open Mic is BACK!!!!
URL:https://rihg.ca/event/open-mic-with-travis/2026-05-04/
CATEGORIES:Hunter’s Ale House
END:VEVENT
BEGIN:VEVENT
DTSTART;TZID=America/Halifax:20260505T210000
DTEND;TZID=America/Halifax:20260505T210000
DTSTAMP:20260421T020859
CREATED:20200602T212947Z
LAST-MODIFIED:20251223T192731Z
UID:10019333-1778014800-1778014800@rihg.ca
SUMMARY:75¢ Wing Night
DESCRIPTION:Come on in and enjoy all the 75¢ breaded wings your tummy can handle! Your choice of bone-in or boneless. \nShots of Canadian Club for only $3.50 for those 19 and over… Photo identification required upon request. \n**Purchase of a beverage required for each order of 20 wings. \n**Eat-in only
URL:https://rihg.ca/event/75%c2%a2-wing-night-2021-12-28/2026-05-05/
CATEGORIES:Hunter’s Ale House
END:VEVENT
BEGIN:VEVENT
DTSTART;TZID=America/Halifax:20260506T210000
DTEND;TZID=America/Halifax:20260506T210000
DTSTAMP:20260421T020859
CREATED:20181126T221709Z
LAST-MODIFIED:20251223T195308Z
UID:10019826-1778101200-1778101200@rihg.ca
SUMMARY:$13.50 Pitchers + 1/2 Priced Apps = Wicked Wednesday
DESCRIPTION:Lookin’ for something to do this Hump? Kick back with some Labatt draught & grab some Half Priced Apps.\nTrust me… they don’t call ’em Wicked Wednesday’s for nothin! \n**$13.50 Labatt pitcher consists of choice of Budweiser\, Bud Light\, or Alexander Keith. \n**1/2 priced appetizer offer excludes Nachos or Gang Platter and requires the purchase of a beverage.
URL:https://rihg.ca/event/13-50-pitchers-1-2-priced-apps-wicked-wednesday-2019-06-05/2026-05-06/
CATEGORIES:Hunter’s Ale House
END:VEVENT
BEGIN:VEVENT
DTSTART;TZID=America/Halifax:20260507T210000
DTEND;TZID=America/Halifax:20260507T210000
DTSTAMP:20260421T020859
CREATED:20200602T211925Z
LAST-MODIFIED:20251223T194603Z
UID:10019518-1778187600-1778187600@rihg.ca
SUMMARY:Entertainment Trivia with Darcy Campbell
DESCRIPTION:Wanna test your knowledge with our entertainment trivia night? There is high demand for seats for Charlottetown’s most popular Thursday night trivia so get here early to get a seat! \nThere are prizes for the top three teams\, plus tons of “wooden nickel” beer questions so make sure you bring some quarters along to play those as well. Redeem your Hunter’s wooden nickel for a domestic bottle beer or well shot\, or keep it as a souvenir!
URL:https://rihg.ca/event/entertainment-trivia-with-darcy-campbell-2/2026-05-07/
CATEGORIES:Hunter’s Ale House
END:VEVENT
BEGIN:VEVENT
DTSTART;TZID=America/Halifax:20260507T210000
DTEND;TZID=America/Halifax:20260507T210000
DTSTAMP:20260421T020859
CREATED:20201001T213045Z
LAST-MODIFIED:20251223T194723Z
UID:10019569-1778187600-1778187600@rihg.ca
SUMMARY:1/2 Priced Phillies
DESCRIPTION:Just in time for Thursday Night Entertainment Trivia\, we are offering every one of our massive Philly sandwiches for HALF-PRICE! \nThis offer does not include a side. But you can add one. But you probably won’t need to! \n*Dine-in only with beverage purchase required.
URL:https://rihg.ca/event/1-2-priced-phillies/2026-05-07/
CATEGORIES:Hunter’s Ale House
END:VEVENT
BEGIN:VEVENT
DTSTART;TZID=America/Halifax:20260507T230000
DTEND;TZID=America/Halifax:20260507T230000
DTSTAMP:20260421T020859
CREATED:20260414T185725Z
LAST-MODIFIED:20260414T185725Z
UID:10020824-1778194800-1778194800@rihg.ca
SUMMARY:Carter MacLellan
DESCRIPTION:
URL:https://rihg.ca/event/carter-maclellan-10/
CATEGORIES:Hunter’s Ale House
END:VEVENT
BEGIN:VEVENT
DTSTART;TZID=America/Halifax:20260508T210000
DTEND;TZID=America/Halifax:20260508T210000
DTSTAMP:20260421T020859
CREATED:20141210T153446Z
LAST-MODIFIED:20251223T194853Z
UID:10019620-1778274000-1778274000@rihg.ca
SUMMARY:Pitcher + Nachos = $27.99
DESCRIPTION:You get a pitcher & an order of nachos for only $27.99? Sounds like the combination of a good time to us! \n  \n**Special includes choice of a domestic Labatt product and an order of regular Hunter’s nachos.
URL:https://rihg.ca/event/pitcher-nachos-24-99-2015-09-04-2016-05-06-2016-06-03-2016-09-02-2016-11-04-2017-06-23-2018-10-05-2019-06-07/2026-05-08/
CATEGORIES:Hunter’s Ale House
END:VEVENT
BEGIN:VEVENT
DTSTART;TZID=America/Halifax:20260508T220000
DTEND;TZID=America/Halifax:20260508T220000
DTSTAMP:20260421T020859
CREATED:20260414T190130Z
LAST-MODIFIED:20260414T190130Z
UID:10020825-1778277600-1778277600@rihg.ca
SUMMARY:Camp Gencheff Fundraiser
DESCRIPTION:Rock out to the tunes of Mindgaze\, Day Blooms & YokoHomies \nMore info available here: https://www.facebook.com/photo?fbid=1360049166156893&set=pb.100064554678446.-2207520000 \nGet your tix here: https://www.zeffy.com/en-CA/ticketing/soundscape-live?fbclid=IwY2xjawRLbcZleHRuA2FlbQIxMABicmlkETFaODQ4Q1Y0MmM0cW9hZWVDc3J0YwZhcHBfaWQQMjIyMDM5MTc4ODIwMDg5MgABHo1GsUnFH3umFrMSWv3SBYrSdBHAN12oBjQ6PTHXDhSF7Eq5IlnGsep-a9UM_aem_GaW9Q4XJXzd53-htN7pEGw
URL:https://rihg.ca/event/camp-gencheff-fundraiser/
CATEGORIES:Hunter’s Ale House
END:VEVENT
BEGIN:VEVENT
DTSTART;TZID=America/Halifax:20260509T210000
DTEND;TZID=America/Halifax:20260509T210000
DTSTAMP:20260421T020859
CREATED:20160505T164046Z
LAST-MODIFIED:20251223T194947Z
UID:10019671-1778360400-1778360400@rihg.ca
SUMMARY:Pitcher & Wings = $27.99
DESCRIPTION:Pick a pitcher and choose your sauce for only $27.99. We’ll do the rest! \n  \n**Special includes choice of a domestic Molson pitcher and 1 lb wings.
URL:https://rihg.ca/event/pitcher-wing-special-2016-06-04-2016-09-03-2016-11-05-2017-06-24-2018-10-06-2019-06-01/2026-05-09/
CATEGORIES:Hunter’s Ale House
END:VEVENT
BEGIN:VEVENT
DTSTART;TZID=America/Halifax:20260509T230000
DTEND;TZID=America/Halifax:20260509T230000
DTSTAMP:20260421T020859
CREATED:20260414T190216Z
LAST-MODIFIED:20260414T190216Z
UID:10020826-1778367600-1778367600@rihg.ca
SUMMARY:Liam & Jon
DESCRIPTION:
URL:https://rihg.ca/event/liam-jon-8/
CATEGORIES:Hunter’s Ale House
END:VEVENT
BEGIN:VEVENT
DTSTART;TZID=America/Halifax:20260510T210000
DTEND;TZID=America/Halifax:20260510T210000
DTSTAMP:20260421T020859
CREATED:20160505T172902Z
LAST-MODIFIED:20251223T195103Z
UID:10019723-1778446800-1778446800@rihg.ca
SUMMARY:1/2 Priced Poutine
DESCRIPTION:Have your seen our Poutinerie? You could pretty much have a new one every week for a year! Well\, half a year anyway… \n  \n**Purchase of a beverage is required to order a 1/2 priced poutine.
URL:https://rihg.ca/event/12-price-poutine-2016-06-05-2016-09-04-2016-11-06-2017-06-25-2018-10-07-2019-06-02/2026-05-10/
CATEGORIES:Hunter’s Ale House
END:VEVENT
BEGIN:VEVENT
DTSTART;TZID=America/Halifax:20260510T210000
DTEND;TZID=America/Halifax:20260510T210000
DTSTAMP:20260421T020859
CREATED:20211203T211110Z
LAST-MODIFIED:20251223T195142Z
UID:10019775-1778446800-1778446800@rihg.ca
SUMMARY:Name That Tune Trivia with Andrew Rollins
DESCRIPTION:You think you know your music? Think again! Andrew will put your musical knowledge to the test! \nWe will be using Hunter’s “wooden nickel” drink tokens for beer questions. These can be redeemed for a domestic bottled beer\, well shot\, or non-alcoholic beverage\, when won or at any future time! \nWe look forward to seeing you on Sunday night!!!
URL:https://rihg.ca/event/name-that-tune-trivia-with-andrew-rollins-2/2026-05-10/
CATEGORIES:Hunter’s Ale House
END:VEVENT
BEGIN:VEVENT
DTSTART;TZID=America/Halifax:20260511T210000
DTEND;TZID=America/Halifax:20260511T210000
DTSTAMP:20260421T020859
CREATED:20181126T213257Z
LAST-MODIFIED:20251223T192532Z
UID:10019265-1778533200-1778533200@rihg.ca
SUMMARY:1/2 Priced Nachos
DESCRIPTION:Check out our variety of nachos: \nIt would take a few months to try a new one every week… \nCHALLENGE ACCEPTED! \n**Must purchase a beverage to order 1/2 priced nachos
URL:https://rihg.ca/event/1-2-priced-nachos-2019-06-03/2026-05-11/
CATEGORIES:Hunter’s Ale House
END:VEVENT
BEGIN:VEVENT
DTSTART;TZID=America/Halifax:20260511T220000
DTEND;TZID=America/Halifax:20260511T220000
DTSTAMP:20260421T020859
CREATED:20250404T165601Z
LAST-MODIFIED:20251223T192613Z
UID:10018225-1778536800-1778536800@rihg.ca
SUMMARY:Open Mic with Travis
DESCRIPTION:Monday Open Mic is BACK!!!!
URL:https://rihg.ca/event/open-mic-with-travis/2026-05-11/
CATEGORIES:Hunter’s Ale House
END:VEVENT
BEGIN:VEVENT
DTSTART;TZID=America/Halifax:20260512T210000
DTEND;TZID=America/Halifax:20260512T210000
DTSTAMP:20260421T020859
CREATED:20200602T212947Z
LAST-MODIFIED:20251223T192731Z
UID:10019334-1778619600-1778619600@rihg.ca
SUMMARY:75¢ Wing Night
DESCRIPTION:Come on in and enjoy all the 75¢ breaded wings your tummy can handle! Your choice of bone-in or boneless. \nShots of Canadian Club for only $3.50 for those 19 and over… Photo identification required upon request. \n**Purchase of a beverage required for each order of 20 wings. \n**Eat-in only
URL:https://rihg.ca/event/75%c2%a2-wing-night-2021-12-28/2026-05-12/
CATEGORIES:Hunter’s Ale House
END:VEVENT
BEGIN:VEVENT
DTSTART;TZID=America/Halifax:20260513T210000
DTEND;TZID=America/Halifax:20260513T210000
DTSTAMP:20260421T020859
CREATED:20181126T221709Z
LAST-MODIFIED:20251223T195308Z
UID:10019827-1778706000-1778706000@rihg.ca
SUMMARY:$13.50 Pitchers + 1/2 Priced Apps = Wicked Wednesday
DESCRIPTION:Lookin’ for something to do this Hump? Kick back with some Labatt draught & grab some Half Priced Apps.\nTrust me… they don’t call ’em Wicked Wednesday’s for nothin! \n**$13.50 Labatt pitcher consists of choice of Budweiser\, Bud Light\, or Alexander Keith. \n**1/2 priced appetizer offer excludes Nachos or Gang Platter and requires the purchase of a beverage.
URL:https://rihg.ca/event/13-50-pitchers-1-2-priced-apps-wicked-wednesday-2019-06-05/2026-05-13/
CATEGORIES:Hunter’s Ale House
END:VEVENT
BEGIN:VEVENT
DTSTART;TZID=America/Halifax:20260514T210000
DTEND;TZID=America/Halifax:20260514T210000
DTSTAMP:20260421T020859
CREATED:20200602T211925Z
LAST-MODIFIED:20251223T194603Z
UID:10019519-1778792400-1778792400@rihg.ca
SUMMARY:Entertainment Trivia with Darcy Campbell
DESCRIPTION:Wanna test your knowledge with our entertainment trivia night? There is high demand for seats for Charlottetown’s most popular Thursday night trivia so get here early to get a seat! \nThere are prizes for the top three teams\, plus tons of “wooden nickel” beer questions so make sure you bring some quarters along to play those as well. Redeem your Hunter’s wooden nickel for a domestic bottle beer or well shot\, or keep it as a souvenir!
URL:https://rihg.ca/event/entertainment-trivia-with-darcy-campbell-2/2026-05-14/
CATEGORIES:Hunter’s Ale House
END:VEVENT
BEGIN:VEVENT
DTSTART;TZID=America/Halifax:20260514T210000
DTEND;TZID=America/Halifax:20260514T210000
DTSTAMP:20260421T020859
CREATED:20201001T213045Z
LAST-MODIFIED:20251223T194723Z
UID:10019570-1778792400-1778792400@rihg.ca
SUMMARY:1/2 Priced Phillies
DESCRIPTION:Just in time for Thursday Night Entertainment Trivia\, we are offering every one of our massive Philly sandwiches for HALF-PRICE! \nThis offer does not include a side. But you can add one. But you probably won’t need to! \n*Dine-in only with beverage purchase required.
URL:https://rihg.ca/event/1-2-priced-phillies/2026-05-14/
CATEGORIES:Hunter’s Ale House
END:VEVENT
BEGIN:VEVENT
DTSTART;TZID=America/Halifax:20260514T230000
DTEND;TZID=America/Halifax:20260514T230000
DTSTAMP:20260421T020859
CREATED:20260414T190324Z
LAST-MODIFIED:20260414T190324Z
UID:10020827-1778799600-1778799600@rihg.ca
SUMMARY:Mat & Jeff
DESCRIPTION:
URL:https://rihg.ca/event/mat-jeff/
CATEGORIES:Hunter’s Ale House
END:VEVENT
BEGIN:VEVENT
DTSTART;TZID=America/Halifax:20260515T210000
DTEND;TZID=America/Halifax:20260515T210000
DTSTAMP:20260421T020859
CREATED:20141210T153446Z
LAST-MODIFIED:20251223T194853Z
UID:10019621-1778878800-1778878800@rihg.ca
SUMMARY:Pitcher + Nachos = $27.99
DESCRIPTION:You get a pitcher & an order of nachos for only $27.99? Sounds like the combination of a good time to us! \n  \n**Special includes choice of a domestic Labatt product and an order of regular Hunter’s nachos.
URL:https://rihg.ca/event/pitcher-nachos-24-99-2015-09-04-2016-05-06-2016-06-03-2016-09-02-2016-11-04-2017-06-23-2018-10-05-2019-06-07/2026-05-15/
CATEGORIES:Hunter’s Ale House
END:VEVENT
BEGIN:VEVENT
DTSTART;TZID=America/Halifax:20260515T230000
DTEND;TZID=America/Halifax:20260515T230000
DTSTAMP:20260421T020859
CREATED:20260414T191407Z
LAST-MODIFIED:20260414T191407Z
UID:10020828-1778886000-1778886000@rihg.ca
SUMMARY:Laura & Donovan
DESCRIPTION:
URL:https://rihg.ca/event/laura-donovan/
CATEGORIES:Hunter’s Ale House
END:VEVENT
BEGIN:VEVENT
DTSTART;TZID=America/Halifax:20260516T210000
DTEND;TZID=America/Halifax:20260516T210000
DTSTAMP:20260421T020859
CREATED:20160505T164046Z
LAST-MODIFIED:20251223T194947Z
UID:10019672-1778965200-1778965200@rihg.ca
SUMMARY:Pitcher & Wings = $27.99
DESCRIPTION:Pick a pitcher and choose your sauce for only $27.99. We’ll do the rest! \n  \n**Special includes choice of a domestic Molson pitcher and 1 lb wings.
URL:https://rihg.ca/event/pitcher-wing-special-2016-06-04-2016-09-03-2016-11-05-2017-06-24-2018-10-06-2019-06-01/2026-05-16/
CATEGORIES:Hunter’s Ale House
END:VEVENT
BEGIN:VEVENT
DTSTART;TZID=America/Halifax:20260516T230000
DTEND;TZID=America/Halifax:20260516T230000
DTSTAMP:20260421T020859
CREATED:20260414T191431Z
LAST-MODIFIED:20260414T191431Z
UID:10020829-1778972400-1778972400@rihg.ca
SUMMARY:Crimson Clay
DESCRIPTION:
URL:https://rihg.ca/event/crimson-clay-7/
CATEGORIES:Hunter’s Ale House
END:VEVENT
END:VCALENDAR