BEGIN:VCALENDAR
VERSION:2.0
PRODID:-//Red Island Hospitality Group Inc. - ECPv6.15.20//NONSGML v1.0//EN
CALSCALE:GREGORIAN
METHOD:PUBLISH
X-WR-CALNAME:Red Island Hospitality Group Inc.
X-ORIGINAL-URL:https://rihg.ca
X-WR-CALDESC:Events for Red Island Hospitality Group Inc.
REFRESH-INTERVAL;VALUE=DURATION:PT1H
X-Robots-Tag:noindex
X-PUBLISHED-TTL:PT1H
BEGIN:VTIMEZONE
TZID:America/Halifax
BEGIN:DAYLIGHT
TZOFFSETFROM:-0400
TZOFFSETTO:-0300
TZNAME:ADT
DTSTART:20250309T060000
END:DAYLIGHT
BEGIN:STANDARD
TZOFFSETFROM:-0300
TZOFFSETTO:-0400
TZNAME:AST
DTSTART:20251102T050000
END:STANDARD
BEGIN:DAYLIGHT
TZOFFSETFROM:-0400
TZOFFSETTO:-0300
TZNAME:ADT
DTSTART:20260308T060000
END:DAYLIGHT
BEGIN:STANDARD
TZOFFSETFROM:-0300
TZOFFSETTO:-0400
TZNAME:AST
DTSTART:20261101T050000
END:STANDARD
BEGIN:DAYLIGHT
TZOFFSETFROM:-0400
TZOFFSETTO:-0300
TZNAME:ADT
DTSTART:20270314T060000
END:DAYLIGHT
BEGIN:STANDARD
TZOFFSETFROM:-0300
TZOFFSETTO:-0400
TZNAME:AST
DTSTART:20271107T050000
END:STANDARD
END:VTIMEZONE
BEGIN:VEVENT
DTSTART;TZID=America/Halifax:20260415T210000
DTEND;TZID=America/Halifax:20260415T210000
DTSTAMP:20260421T022006
CREATED:20181126T221709Z
LAST-MODIFIED:20251223T195308Z
UID:10019823-1776286800-1776286800@rihg.ca
SUMMARY:$13.50 Pitchers + 1/2 Priced Apps = Wicked Wednesday
DESCRIPTION:Lookin’ for something to do this Hump? Kick back with some Labatt draught & grab some Half Priced Apps.\nTrust me… they don’t call ’em Wicked Wednesday’s for nothin! \n**$13.50 Labatt pitcher consists of choice of Budweiser\, Bud Light\, or Alexander Keith. \n**1/2 priced appetizer offer excludes Nachos or Gang Platter and requires the purchase of a beverage.
URL:https://rihg.ca/event/13-50-pitchers-1-2-priced-apps-wicked-wednesday-2019-06-05/2026-04-15/
CATEGORIES:Hunter’s Ale House
END:VEVENT
END:VCALENDAR