BEGIN:VCALENDAR
VERSION:2.0
PRODID:-//Red Island Hospitality Group Inc. - ECPv6.15.20//NONSGML v1.0//EN
CALSCALE:GREGORIAN
METHOD:PUBLISH
X-WR-CALNAME:Red Island Hospitality Group Inc.
X-ORIGINAL-URL:https://rihg.ca
X-WR-CALDESC:Events for Red Island Hospitality Group Inc.
REFRESH-INTERVAL;VALUE=DURATION:PT1H
X-Robots-Tag:noindex
X-PUBLISHED-TTL:PT1H
BEGIN:VTIMEZONE
TZID:America/Halifax
BEGIN:DAYLIGHT
TZOFFSETFROM:-0400
TZOFFSETTO:-0300
TZNAME:ADT
DTSTART:20240310T060000
END:DAYLIGHT
BEGIN:STANDARD
TZOFFSETFROM:-0300
TZOFFSETTO:-0400
TZNAME:AST
DTSTART:20241103T050000
END:STANDARD
BEGIN:DAYLIGHT
TZOFFSETFROM:-0400
TZOFFSETTO:-0300
TZNAME:ADT
DTSTART:20250309T060000
END:DAYLIGHT
BEGIN:STANDARD
TZOFFSETFROM:-0300
TZOFFSETTO:-0400
TZNAME:AST
DTSTART:20251102T050000
END:STANDARD
BEGIN:DAYLIGHT
TZOFFSETFROM:-0400
TZOFFSETTO:-0300
TZNAME:ADT
DTSTART:20260308T060000
END:DAYLIGHT
BEGIN:STANDARD
TZOFFSETFROM:-0300
TZOFFSETTO:-0400
TZNAME:AST
DTSTART:20261101T050000
END:STANDARD
BEGIN:DAYLIGHT
TZOFFSETFROM:-0400
TZOFFSETTO:-0300
TZNAME:ADT
DTSTART:20270314T060000
END:DAYLIGHT
BEGIN:STANDARD
TZOFFSETFROM:-0300
TZOFFSETTO:-0400
TZNAME:AST
DTSTART:20271107T050000
END:STANDARD
END:VTIMEZONE
BEGIN:VEVENT
DTSTART;TZID=America/Halifax:20260112T220000
DTEND;TZID=America/Halifax:20260112T220000
DTSTAMP:20260422T084253
CREATED:20250404T165601Z
LAST-MODIFIED:20251223T192613Z
UID:10018208-1768255200-1768255200@rihg.ca
SUMMARY:Open Mic with Travis
DESCRIPTION:Monday Open Mic is BACK!!!!
URL:https://rihg.ca/event/open-mic-with-travis/2026-01-12/
CATEGORIES:Hunter’s Ale House
END:VEVENT
BEGIN:VEVENT
DTSTART;TZID=America/Halifax:20260112T210000
DTEND;TZID=America/Halifax:20260112T210000
DTSTAMP:20260422T084253
CREATED:20181126T213257Z
LAST-MODIFIED:20251223T192532Z
UID:10019248-1768251600-1768251600@rihg.ca
SUMMARY:1/2 Priced Nachos
DESCRIPTION:Check out our variety of nachos: \nIt would take a few months to try a new one every week… \nCHALLENGE ACCEPTED! \n**Must purchase a beverage to order 1/2 priced nachos
URL:https://rihg.ca/event/1-2-priced-nachos-2019-06-03/2026-01-12/
CATEGORIES:Hunter’s Ale House
END:VEVENT
BEGIN:VEVENT
DTSTART;TZID=America/Halifax:20260111T210000
DTEND;TZID=America/Halifax:20260111T210000
DTSTAMP:20260422T084253
CREATED:20211203T211110Z
LAST-MODIFIED:20251223T195142Z
UID:10019758-1768165200-1768165200@rihg.ca
SUMMARY:Name That Tune Trivia with Andrew Rollins
DESCRIPTION:You think you know your music? Think again! Andrew will put your musical knowledge to the test! \nWe will be using Hunter’s “wooden nickel” drink tokens for beer questions. These can be redeemed for a domestic bottled beer\, well shot\, or non-alcoholic beverage\, when won or at any future time! \nWe look forward to seeing you on Sunday night!!!
URL:https://rihg.ca/event/name-that-tune-trivia-with-andrew-rollins-2/2026-01-11/
CATEGORIES:Hunter’s Ale House
END:VEVENT
BEGIN:VEVENT
DTSTART;TZID=America/Halifax:20260111T210000
DTEND;TZID=America/Halifax:20260111T210000
DTSTAMP:20260422T084253
CREATED:20160505T172902Z
LAST-MODIFIED:20251223T195103Z
UID:10019706-1768165200-1768165200@rihg.ca
SUMMARY:1/2 Priced Poutine
DESCRIPTION:Have your seen our Poutinerie? You could pretty much have a new one every week for a year! Well\, half a year anyway… \n  \n**Purchase of a beverage is required to order a 1/2 priced poutine.
URL:https://rihg.ca/event/12-price-poutine-2016-06-05-2016-09-04-2016-11-06-2017-06-25-2018-10-07-2019-06-02/2026-01-11/
CATEGORIES:Hunter’s Ale House
END:VEVENT
BEGIN:VEVENT
DTSTART;TZID=America/Halifax:20260110T230000
DTEND;TZID=America/Halifax:20260110T230000
DTSTAMP:20260422T084253
CREATED:20260107T150435Z
LAST-MODIFIED:20260107T150435Z
UID:10020720-1768086000-1768086000@rihg.ca
SUMMARY:Neon Country
DESCRIPTION:
URL:https://rihg.ca/event/neon-country-5/
CATEGORIES:Hunter’s Ale House
END:VEVENT
BEGIN:VEVENT
DTSTART;TZID=America/Halifax:20260110T210000
DTEND;TZID=America/Halifax:20260110T210000
DTSTAMP:20260422T084253
CREATED:20160505T164046Z
LAST-MODIFIED:20251223T194947Z
UID:10019654-1768078800-1768078800@rihg.ca
SUMMARY:Pitcher & Wings = $27.99
DESCRIPTION:Pick a pitcher and choose your sauce for only $27.99. We’ll do the rest! \n  \n**Special includes choice of a domestic Molson pitcher and 1 lb wings.
URL:https://rihg.ca/event/pitcher-wing-special-2016-06-04-2016-09-03-2016-11-05-2017-06-24-2018-10-06-2019-06-01/2026-01-10/
CATEGORIES:Hunter’s Ale House
END:VEVENT
BEGIN:VEVENT
DTSTART;TZID=America/Halifax:20260109T230000
DTEND;TZID=America/Halifax:20260109T230000
DTSTAMP:20260422T084253
CREATED:20260107T150408Z
LAST-MODIFIED:20260107T150408Z
UID:10020719-1767999600-1767999600@rihg.ca
SUMMARY:Holy Hannah Trio
DESCRIPTION:
URL:https://rihg.ca/event/holy-hannah-trio-2/
CATEGORIES:Hunter’s Ale House
END:VEVENT
BEGIN:VEVENT
DTSTART;TZID=America/Halifax:20260109T210000
DTEND;TZID=America/Halifax:20260109T210000
DTSTAMP:20260422T084253
CREATED:20141210T153446Z
LAST-MODIFIED:20251223T194853Z
UID:10019603-1767992400-1767992400@rihg.ca
SUMMARY:Pitcher + Nachos = $27.99
DESCRIPTION:You get a pitcher & an order of nachos for only $27.99? Sounds like the combination of a good time to us! \n  \n**Special includes choice of a domestic Labatt product and an order of regular Hunter’s nachos.
URL:https://rihg.ca/event/pitcher-nachos-24-99-2015-09-04-2016-05-06-2016-06-03-2016-09-02-2016-11-04-2017-06-23-2018-10-05-2019-06-07/2026-01-09/
CATEGORIES:Hunter’s Ale House
END:VEVENT
BEGIN:VEVENT
DTSTART;TZID=America/Halifax:20260108T230000
DTEND;TZID=America/Halifax:20260108T230000
DTSTAMP:20260422T084253
CREATED:20260107T150339Z
LAST-MODIFIED:20260107T150339Z
UID:10020718-1767913200-1767913200@rihg.ca
SUMMARY:Carter MacLellan
DESCRIPTION:
URL:https://rihg.ca/event/carter-maclellan-3/
CATEGORIES:Hunter’s Ale House
END:VEVENT
BEGIN:VEVENT
DTSTART;TZID=America/Halifax:20260108T210000
DTEND;TZID=America/Halifax:20260108T210000
DTSTAMP:20260422T084253
CREATED:20201001T213045Z
LAST-MODIFIED:20251223T194723Z
UID:10019552-1767906000-1767906000@rihg.ca
SUMMARY:1/2 Priced Phillies
DESCRIPTION:Just in time for Thursday Night Entertainment Trivia\, we are offering every one of our massive Philly sandwiches for HALF-PRICE! \nThis offer does not include a side. But you can add one. But you probably won’t need to! \n*Dine-in only with beverage purchase required.
URL:https://rihg.ca/event/1-2-priced-phillies/2026-01-08/
CATEGORIES:Hunter’s Ale House
END:VEVENT
BEGIN:VEVENT
DTSTART;TZID=America/Halifax:20260108T210000
DTEND;TZID=America/Halifax:20260108T210000
DTSTAMP:20260422T084253
CREATED:20200602T211925Z
LAST-MODIFIED:20251223T194603Z
UID:10019501-1767906000-1767906000@rihg.ca
SUMMARY:Entertainment Trivia with Darcy Campbell
DESCRIPTION:Wanna test your knowledge with our entertainment trivia night? There is high demand for seats for Charlottetown’s most popular Thursday night trivia so get here early to get a seat! \nThere are prizes for the top three teams\, plus tons of “wooden nickel” beer questions so make sure you bring some quarters along to play those as well. Redeem your Hunter’s wooden nickel for a domestic bottle beer or well shot\, or keep it as a souvenir!
URL:https://rihg.ca/event/entertainment-trivia-with-darcy-campbell-2/2026-01-08/
CATEGORIES:Hunter’s Ale House
END:VEVENT
BEGIN:VEVENT
DTSTART;TZID=America/Halifax:20260107T210000
DTEND;TZID=America/Halifax:20260107T210000
DTSTAMP:20260422T084253
CREATED:20181126T221709Z
LAST-MODIFIED:20251223T195308Z
UID:10019809-1767819600-1767819600@rihg.ca
SUMMARY:$13.50 Pitchers + 1/2 Priced Apps = Wicked Wednesday
DESCRIPTION:Lookin’ for something to do this Hump? Kick back with some Labatt draught & grab some Half Priced Apps.\nTrust me… they don’t call ’em Wicked Wednesday’s for nothin! \n**$13.50 Labatt pitcher consists of choice of Budweiser\, Bud Light\, or Alexander Keith. \n**1/2 priced appetizer offer excludes Nachos or Gang Platter and requires the purchase of a beverage.
URL:https://rihg.ca/event/13-50-pitchers-1-2-priced-apps-wicked-wednesday-2019-06-05/2026-01-07/
CATEGORIES:Hunter’s Ale House
END:VEVENT
BEGIN:VEVENT
DTSTART;TZID=America/Halifax:20260106T210000
DTEND;TZID=America/Halifax:20260106T210000
DTSTAMP:20260422T084253
CREATED:20200602T212947Z
LAST-MODIFIED:20251223T192731Z
UID:10019316-1767733200-1767733200@rihg.ca
SUMMARY:75¢ Wing Night
DESCRIPTION:Come on in and enjoy all the 75¢ breaded wings your tummy can handle! Your choice of bone-in or boneless. \nShots of Canadian Club for only $3.50 for those 19 and over… Photo identification required upon request. \n**Purchase of a beverage required for each order of 20 wings. \n**Eat-in only
URL:https://rihg.ca/event/75%c2%a2-wing-night-2021-12-28/2026-01-06/
CATEGORIES:Hunter’s Ale House
END:VEVENT
BEGIN:VEVENT
DTSTART;TZID=America/Halifax:20260105T220000
DTEND;TZID=America/Halifax:20260105T220000
DTSTAMP:20260422T084253
CREATED:20250404T165601Z
LAST-MODIFIED:20251223T192613Z
UID:10018207-1767650400-1767650400@rihg.ca
SUMMARY:Open Mic with Travis
DESCRIPTION:Monday Open Mic is BACK!!!!
URL:https://rihg.ca/event/open-mic-with-travis/2026-01-05/
CATEGORIES:Hunter’s Ale House
END:VEVENT
BEGIN:VEVENT
DTSTART;TZID=America/Halifax:20260105T210000
DTEND;TZID=America/Halifax:20260105T210000
DTSTAMP:20260422T084253
CREATED:20181126T213257Z
LAST-MODIFIED:20251223T192532Z
UID:10019247-1767646800-1767646800@rihg.ca
SUMMARY:1/2 Priced Nachos
DESCRIPTION:Check out our variety of nachos: \nIt would take a few months to try a new one every week… \nCHALLENGE ACCEPTED! \n**Must purchase a beverage to order 1/2 priced nachos
URL:https://rihg.ca/event/1-2-priced-nachos-2019-06-03/2026-01-05/
CATEGORIES:Hunter’s Ale House
END:VEVENT
BEGIN:VEVENT
DTSTART;TZID=America/Halifax:20260104T210000
DTEND;TZID=America/Halifax:20260104T210000
DTSTAMP:20260422T084253
CREATED:20211203T211110Z
LAST-MODIFIED:20251223T195142Z
UID:10019757-1767560400-1767560400@rihg.ca
SUMMARY:Name That Tune Trivia with Andrew Rollins
DESCRIPTION:You think you know your music? Think again! Andrew will put your musical knowledge to the test! \nWe will be using Hunter’s “wooden nickel” drink tokens for beer questions. These can be redeemed for a domestic bottled beer\, well shot\, or non-alcoholic beverage\, when won or at any future time! \nWe look forward to seeing you on Sunday night!!!
URL:https://rihg.ca/event/name-that-tune-trivia-with-andrew-rollins-2/2026-01-04/
CATEGORIES:Hunter’s Ale House
END:VEVENT
BEGIN:VEVENT
DTSTART;TZID=America/Halifax:20260104T210000
DTEND;TZID=America/Halifax:20260104T210000
DTSTAMP:20260422T084253
CREATED:20160505T172902Z
LAST-MODIFIED:20251223T195103Z
UID:10019705-1767560400-1767560400@rihg.ca
SUMMARY:1/2 Priced Poutine
DESCRIPTION:Have your seen our Poutinerie? You could pretty much have a new one every week for a year! Well\, half a year anyway… \n  \n**Purchase of a beverage is required to order a 1/2 priced poutine.
URL:https://rihg.ca/event/12-price-poutine-2016-06-05-2016-09-04-2016-11-06-2017-06-25-2018-10-07-2019-06-02/2026-01-04/
CATEGORIES:Hunter’s Ale House
END:VEVENT
BEGIN:VEVENT
DTSTART;TZID=America/Halifax:20260103T230000
DTEND;TZID=America/Halifax:20260103T230000
DTSTAMP:20260422T084253
CREATED:20260106T145541Z
LAST-MODIFIED:20260106T145541Z
UID:10020717-1767481200-1767481200@rihg.ca
SUMMARY:Boney Oaks
DESCRIPTION:
URL:https://rihg.ca/event/boney-oaks-8/
CATEGORIES:Hunter’s Ale House
END:VEVENT
BEGIN:VEVENT
DTSTART;TZID=America/Halifax:20260103T210000
DTEND;TZID=America/Halifax:20260103T210000
DTSTAMP:20260422T084253
CREATED:20160505T164046Z
LAST-MODIFIED:20251223T194947Z
UID:10019653-1767474000-1767474000@rihg.ca
SUMMARY:Pitcher & Wings = $27.99
DESCRIPTION:Pick a pitcher and choose your sauce for only $27.99. We’ll do the rest! \n  \n**Special includes choice of a domestic Molson pitcher and 1 lb wings.
URL:https://rihg.ca/event/pitcher-wing-special-2016-06-04-2016-09-03-2016-11-05-2017-06-24-2018-10-06-2019-06-01/2026-01-03/
CATEGORIES:Hunter’s Ale House
END:VEVENT
BEGIN:VEVENT
DTSTART;TZID=America/Halifax:20260102T210000
DTEND;TZID=America/Halifax:20260102T210000
DTSTAMP:20260422T084253
CREATED:20141210T153446Z
LAST-MODIFIED:20251223T194853Z
UID:10019602-1767387600-1767387600@rihg.ca
SUMMARY:Pitcher + Nachos = $27.99
DESCRIPTION:You get a pitcher & an order of nachos for only $27.99? Sounds like the combination of a good time to us! \n  \n**Special includes choice of a domestic Labatt product and an order of regular Hunter’s nachos.
URL:https://rihg.ca/event/pitcher-nachos-24-99-2015-09-04-2016-05-06-2016-06-03-2016-09-02-2016-11-04-2017-06-23-2018-10-05-2019-06-07/2026-01-02/
CATEGORIES:Hunter’s Ale House
END:VEVENT
BEGIN:VEVENT
DTSTART;TZID=America/Halifax:20260101T210000
DTEND;TZID=America/Halifax:20260101T210000
DTSTAMP:20260422T084253
CREATED:20201001T213045Z
LAST-MODIFIED:20251223T194723Z
UID:10019551-1767301200-1767301200@rihg.ca
SUMMARY:1/2 Priced Phillies
DESCRIPTION:Just in time for Thursday Night Entertainment Trivia\, we are offering every one of our massive Philly sandwiches for HALF-PRICE! \nThis offer does not include a side. But you can add one. But you probably won’t need to! \n*Dine-in only with beverage purchase required.
URL:https://rihg.ca/event/1-2-priced-phillies/2026-01-01/
CATEGORIES:Hunter’s Ale House
END:VEVENT
BEGIN:VEVENT
DTSTART;TZID=America/Halifax:20260101T210000
DTEND;TZID=America/Halifax:20260101T210000
DTSTAMP:20260422T084253
CREATED:20200602T211925Z
LAST-MODIFIED:20251223T194603Z
UID:10019500-1767301200-1767301200@rihg.ca
SUMMARY:Entertainment Trivia with Darcy Campbell
DESCRIPTION:Wanna test your knowledge with our entertainment trivia night? There is high demand for seats for Charlottetown’s most popular Thursday night trivia so get here early to get a seat! \nThere are prizes for the top three teams\, plus tons of “wooden nickel” beer questions so make sure you bring some quarters along to play those as well. Redeem your Hunter’s wooden nickel for a domestic bottle beer or well shot\, or keep it as a souvenir!
URL:https://rihg.ca/event/entertainment-trivia-with-darcy-campbell-2/2026-01-01/
CATEGORIES:Hunter’s Ale House
END:VEVENT
BEGIN:VEVENT
DTSTART;TZID=America/Halifax:20260101T120000
DTEND;TZID=America/Halifax:20260101T150000
DTSTAMP:20260422T084253
CREATED:20260106T145446Z
LAST-MODIFIED:20260106T145446Z
UID:10020716-1767268800-1767279600@rihg.ca
SUMMARY:New Year's Levée with Travis & Nikki
DESCRIPTION:Ring in the New Year at Hunter’s levée! \nWe’ll be serving our weekend breakfast menu between 12 and 3\, featuring $5 Caesars and Mimosas. \nStart that New Year’s resolution tomorrow!
URL:https://rihg.ca/event/new-years-levee-with-travis-nikki/
CATEGORIES:Hunter’s Ale House
END:VEVENT
BEGIN:VEVENT
DTSTART;TZID=America/Halifax:20251231T223000
DTEND;TZID=America/Halifax:20251231T223000
DTSTAMP:20260422T084253
CREATED:20251118T162240Z
LAST-MODIFIED:20251118T162240Z
UID:10019235-1767220200-1767220200@rihg.ca
SUMMARY:NYE with The Soosh!
DESCRIPTION:Get ready for a funk-filled New Year’s Eve in downtown Charlottetown! \n🎶 Join the retro-funk crew The Soosh as they take the stage at Hunter’s Ale House for a high-energy celebration to ring in 2026. Expect big grooves\, bold horn riffs\, and a party vibe you won’t forget. Facebook+1 \n📍 Where: Hunter’s Ale House\, 185 Kent Street\, Charlottetown\, PE🕙 Date & Time: Wednesday\, December 31 – doors around 10:30 PM.🎟️ Tickets: Grab yours here: https://www.eventbrite.ca/e/retro-funk-nye-with-the-soosh-at-hunters-ale-house-tickets-1972832816060?aff=ebdssbcategorybrowse \nCome dressed to groove\, bring your best dance moves\, and let’s kick off 2026 with style!
URL:https://rihg.ca/event/nye-with-the-soosh/
CATEGORIES:Hunter’s Ale House
END:VEVENT
BEGIN:VEVENT
DTSTART;TZID=America/Halifax:20251231T210000
DTEND;TZID=America/Halifax:20251231T210000
DTSTAMP:20260422T084253
CREATED:20181126T221709Z
LAST-MODIFIED:20251223T195308Z
UID:10017054-1767214800-1767214800@rihg.ca
SUMMARY:$13.50 Pitchers + 1/2 Priced Apps = Wicked Wednesday
DESCRIPTION:Lookin’ for something to do this Hump? Kick back with some Labatt draught & grab some Half Priced Apps.\nTrust me… they don’t call ’em Wicked Wednesday’s for nothin! \n**$13.50 Labatt pitcher consists of choice of Budweiser\, Bud Light\, or Alexander Keith. \n**1/2 priced appetizer offer excludes Nachos or Gang Platter and requires the purchase of a beverage.
URL:https://rihg.ca/event/13-50-pitchers-1-2-priced-apps-wicked-wednesday-2019-06-05/2025-12-31/
CATEGORIES:Hunter’s Ale House
END:VEVENT
BEGIN:VEVENT
DTSTART;TZID=America/Halifax:20251230T210000
DTEND;TZID=America/Halifax:20251230T210000
DTSTAMP:20260422T084253
CREATED:20200602T212947Z
LAST-MODIFIED:20251223T192731Z
UID:10016932-1767128400-1767128400@rihg.ca
SUMMARY:75¢ Wing Night
DESCRIPTION:Come on in and enjoy all the 75¢ breaded wings your tummy can handle! Your choice of bone-in or boneless. \nShots of Canadian Club for only $3.50 for those 19 and over… Photo identification required upon request. \n**Purchase of a beverage required for each order of 20 wings. \n**Eat-in only
URL:https://rihg.ca/event/75%c2%a2-wing-night-2021-12-28/2025-12-30/
CATEGORIES:Hunter’s Ale House
END:VEVENT
BEGIN:VEVENT
DTSTART;TZID=America/Halifax:20251229T220000
DTEND;TZID=America/Halifax:20251229T220000
DTSTAMP:20260422T084253
CREATED:20250404T165601Z
LAST-MODIFIED:20251223T192613Z
UID:10018206-1767045600-1767045600@rihg.ca
SUMMARY:Open Mic with Travis
DESCRIPTION:Monday Open Mic is BACK!!!!
URL:https://rihg.ca/event/open-mic-with-travis/2025-12-29/
CATEGORIES:Hunter’s Ale House
END:VEVENT
BEGIN:VEVENT
DTSTART;TZID=America/Halifax:20251229T210000
DTEND;TZID=America/Halifax:20251229T210000
DTSTAMP:20260422T084253
CREATED:20181126T213257Z
LAST-MODIFIED:20251223T192532Z
UID:10017106-1767042000-1767042000@rihg.ca
SUMMARY:1/2 Priced Nachos
DESCRIPTION:Check out our variety of nachos: \nIt would take a few months to try a new one every week… \nCHALLENGE ACCEPTED! \n**Must purchase a beverage to order 1/2 priced nachos
URL:https://rihg.ca/event/1-2-priced-nachos-2019-06-03/2025-12-29/
CATEGORIES:Hunter’s Ale House
END:VEVENT
BEGIN:VEVENT
DTSTART;TZID=America/Halifax:20251228T210000
DTEND;TZID=America/Halifax:20251228T210000
DTSTAMP:20260422T084253
CREATED:20211203T211110Z
LAST-MODIFIED:20251223T195142Z
UID:10017420-1766955600-1766955600@rihg.ca
SUMMARY:Name That Tune Trivia with Andrew Rollins
DESCRIPTION:You think you know your music? Think again! Andrew will put your musical knowledge to the test! \nWe will be using Hunter’s “wooden nickel” drink tokens for beer questions. These can be redeemed for a domestic bottled beer\, well shot\, or non-alcoholic beverage\, when won or at any future time! \nWe look forward to seeing you on Sunday night!!!
URL:https://rihg.ca/event/name-that-tune-trivia-with-andrew-rollins-2/2025-12-28/
CATEGORIES:Hunter’s Ale House
END:VEVENT
BEGIN:VEVENT
DTSTART;TZID=America/Halifax:20251228T210000
DTEND;TZID=America/Halifax:20251228T210000
DTSTAMP:20260422T084253
CREATED:20160505T172902Z
LAST-MODIFIED:20251223T195103Z
UID:10017315-1766955600-1766955600@rihg.ca
SUMMARY:1/2 Priced Poutine
DESCRIPTION:Have your seen our Poutinerie? You could pretty much have a new one every week for a year! Well\, half a year anyway… \n  \n**Purchase of a beverage is required to order a 1/2 priced poutine.
URL:https://rihg.ca/event/12-price-poutine-2016-06-05-2016-09-04-2016-11-06-2017-06-25-2018-10-07-2019-06-02/2025-12-28/
CATEGORIES:Hunter’s Ale House
END:VEVENT
END:VCALENDAR