BEGIN:VCALENDAR
VERSION:2.0
PRODID:-//Red Island Hospitality Group Inc. - ECPv6.15.20//NONSGML v1.0//EN
CALSCALE:GREGORIAN
METHOD:PUBLISH
X-WR-CALNAME:Red Island Hospitality Group Inc.
X-ORIGINAL-URL:https://rihg.ca
X-WR-CALDESC:Events for Red Island Hospitality Group Inc.
REFRESH-INTERVAL;VALUE=DURATION:PT1H
X-Robots-Tag:noindex
X-PUBLISHED-TTL:PT1H
BEGIN:VTIMEZONE
TZID:America/Halifax
BEGIN:DAYLIGHT
TZOFFSETFROM:-0400
TZOFFSETTO:-0300
TZNAME:ADT
DTSTART:20240310T060000
END:DAYLIGHT
BEGIN:STANDARD
TZOFFSETFROM:-0300
TZOFFSETTO:-0400
TZNAME:AST
DTSTART:20241103T050000
END:STANDARD
BEGIN:DAYLIGHT
TZOFFSETFROM:-0400
TZOFFSETTO:-0300
TZNAME:ADT
DTSTART:20250309T060000
END:DAYLIGHT
BEGIN:STANDARD
TZOFFSETFROM:-0300
TZOFFSETTO:-0400
TZNAME:AST
DTSTART:20251102T050000
END:STANDARD
BEGIN:DAYLIGHT
TZOFFSETFROM:-0400
TZOFFSETTO:-0300
TZNAME:ADT
DTSTART:20260308T060000
END:DAYLIGHT
BEGIN:STANDARD
TZOFFSETFROM:-0300
TZOFFSETTO:-0400
TZNAME:AST
DTSTART:20261101T050000
END:STANDARD
END:VTIMEZONE
BEGIN:VEVENT
DTSTART;TZID=America/Halifax:20251227T210000
DTEND;TZID=America/Halifax:20251227T210000
DTSTAMP:20260422T134608
CREATED:20160505T164046Z
LAST-MODIFIED:20251223T194947Z
UID:10017263-1766869200-1766869200@rihg.ca
SUMMARY:Pitcher & Wings = $27.99
DESCRIPTION:Pick a pitcher and choose your sauce for only $27.99. We’ll do the rest! \n  \n**Special includes choice of a domestic Molson pitcher and 1 lb wings.
URL:https://rihg.ca/event/pitcher-wing-special-2016-06-04-2016-09-03-2016-11-05-2017-06-24-2018-10-06-2019-06-01/2025-12-27/
CATEGORIES:Hunter’s Ale House
END:VEVENT
BEGIN:VEVENT
DTSTART;TZID=America/Halifax:20251226T230000
DTEND;TZID=America/Halifax:20251226T230000
DTSTAMP:20260422T134608
CREATED:20251224T183550Z
LAST-MODIFIED:20251224T183550Z
UID:10020715-1766790000-1766790000@rihg.ca
SUMMARY:Gin & Tonic
DESCRIPTION:
URL:https://rihg.ca/event/gin-tonic-4/
CATEGORIES:Hunter’s Ale House
END:VEVENT
BEGIN:VEVENT
DTSTART;TZID=America/Halifax:20251226T210000
DTEND;TZID=America/Halifax:20251226T210000
DTSTAMP:20260422T134608
CREATED:20141210T153446Z
LAST-MODIFIED:20251223T194853Z
UID:10017211-1766782800-1766782800@rihg.ca
SUMMARY:Pitcher + Nachos = $27.99
DESCRIPTION:You get a pitcher & an order of nachos for only $27.99? Sounds like the combination of a good time to us! \n  \n**Special includes choice of a domestic Labatt product and an order of regular Hunter’s nachos.
URL:https://rihg.ca/event/pitcher-nachos-24-99-2015-09-04-2016-05-06-2016-06-03-2016-09-02-2016-11-04-2017-06-23-2018-10-05-2019-06-07/2025-12-26/
CATEGORIES:Hunter’s Ale House
END:VEVENT
BEGIN:VEVENT
DTSTART;TZID=America/Halifax:20251226T170000
DTEND;TZID=America/Halifax:20251226T220000
DTSTAMP:20260422T134608
CREATED:20241223T204151Z
LAST-MODIFIED:20251224T183512Z
UID:10016945-1766768400-1766786400@rihg.ca
SUMMARY:20th Annual Boxing Day Trivia Bout
DESCRIPTION:Let’s keep the holiday spirit rolling into Hunter’s 20th Annual Boxing Day Trivia Extravaganza!\nThe fun starts at 6pm\, but we recommend you get here early! All tables are first come\, first served\, NO reservations.\n\nWe will have 3 rounds of trivia with some of Charlottetown’s most renowned trivia hosts\, including: the man himself\, Steve Barber; trivia legend Stephen Newman; and current Triviameister Darcy Campbell.\n\nRounds\n\nSteve Barber’s TOTALLY ISLAND TRIVIA\nStephen Newman’s 1995 – 2015 Entertainment Trivia\nDarcy Campbell’s 2015 – 2025 Entertainment Trivia\n\n\nMark it on your calendars\, get your power team of friends and family together\, and join us for the all day event (or join in as you please)! Max 10 per team.\n\nTips & things to remember:\n\nCome prepared with your clever team name!\nBring quarters for those awesome drink questions.\nThere will be prizes!\n\nEach round will have a $60 first place\, and $40 second place gift card\nAny team that plays all three rounds\, your lowest round’s score will be dropped\nOverall average score = Winner take all: $200 gift card\n\n\n\n** 19+ event **
URL:https://rihg.ca/event/20th-annual-boxing-day-trivia-bout/
CATEGORIES:Hunter’s Ale House
END:VEVENT
BEGIN:VEVENT
DTSTART;TZID=America/Halifax:20251223T230000
DTEND;TZID=America/Halifax:20251223T230000
DTSTAMP:20260422T134608
CREATED:20251224T182510Z
LAST-MODIFIED:20251224T182510Z
UID:10020714-1766530800-1766530800@rihg.ca
SUMMARY:Love Junkies
DESCRIPTION:
URL:https://rihg.ca/event/love-junkies-7/
CATEGORIES:Hunter’s Ale House
END:VEVENT
BEGIN:VEVENT
DTSTART;TZID=America/Halifax:20251223T210000
DTEND;TZID=America/Halifax:20251223T210000
DTSTAMP:20260422T134608
CREATED:20200602T212947Z
LAST-MODIFIED:20251223T192731Z
UID:10016931-1766523600-1766523600@rihg.ca
SUMMARY:75¢ Wing Night
DESCRIPTION:Come on in and enjoy all the 75¢ breaded wings your tummy can handle! Your choice of bone-in or boneless. \nShots of Canadian Club for only $3.50 for those 19 and over… Photo identification required upon request. \n**Purchase of a beverage required for each order of 20 wings. \n**Eat-in only
URL:https://rihg.ca/event/75%c2%a2-wing-night-2021-12-28/2025-12-23/
CATEGORIES:Hunter’s Ale House
END:VEVENT
BEGIN:VEVENT
DTSTART;TZID=America/Halifax:20251222T230000
DTEND;TZID=America/Halifax:20251222T230000
DTSTAMP:20260422T134608
CREATED:20251224T182438Z
LAST-MODIFIED:20251224T182438Z
UID:10020713-1766444400-1766444400@rihg.ca
SUMMARY:Liam & Jon
DESCRIPTION:
URL:https://rihg.ca/event/liam-jon-6/
CATEGORIES:Hunter’s Ale House
END:VEVENT
BEGIN:VEVENT
DTSTART;TZID=America/Halifax:20251222T220000
DTEND;TZID=America/Halifax:20251222T220000
DTSTAMP:20260422T134608
CREATED:20250404T165601Z
LAST-MODIFIED:20251223T192613Z
UID:10018205-1766440800-1766440800@rihg.ca
SUMMARY:Open Mic with Travis
DESCRIPTION:Monday Open Mic is BACK!!!!
URL:https://rihg.ca/event/open-mic-with-travis/2025-12-22/
CATEGORIES:Hunter’s Ale House
END:VEVENT
BEGIN:VEVENT
DTSTART;TZID=America/Halifax:20251222T210000
DTEND;TZID=America/Halifax:20251222T210000
DTSTAMP:20260422T134608
CREATED:20181126T213257Z
LAST-MODIFIED:20251223T192532Z
UID:10017105-1766437200-1766437200@rihg.ca
SUMMARY:1/2 Priced Nachos
DESCRIPTION:Check out our variety of nachos: \nIt would take a few months to try a new one every week… \nCHALLENGE ACCEPTED! \n**Must purchase a beverage to order 1/2 priced nachos
URL:https://rihg.ca/event/1-2-priced-nachos-2019-06-03/2025-12-22/
CATEGORIES:Hunter’s Ale House
END:VEVENT
BEGIN:VEVENT
DTSTART;TZID=America/Halifax:20251221T210000
DTEND;TZID=America/Halifax:20251221T210000
DTSTAMP:20260422T134608
CREATED:20211203T211110Z
LAST-MODIFIED:20251223T195142Z
UID:10017419-1766350800-1766350800@rihg.ca
SUMMARY:Name That Tune Trivia with Andrew Rollins
DESCRIPTION:You think you know your music? Think again! Andrew will put your musical knowledge to the test! \nWe will be using Hunter’s “wooden nickel” drink tokens for beer questions. These can be redeemed for a domestic bottled beer\, well shot\, or non-alcoholic beverage\, when won or at any future time! \nWe look forward to seeing you on Sunday night!!!
URL:https://rihg.ca/event/name-that-tune-trivia-with-andrew-rollins-2/2025-12-21/
CATEGORIES:Hunter’s Ale House
END:VEVENT
BEGIN:VEVENT
DTSTART;TZID=America/Halifax:20251221T210000
DTEND;TZID=America/Halifax:20251221T210000
DTSTAMP:20260422T134608
CREATED:20160505T172902Z
LAST-MODIFIED:20251223T195103Z
UID:10017314-1766350800-1766350800@rihg.ca
SUMMARY:1/2 Priced Poutine
DESCRIPTION:Have your seen our Poutinerie? You could pretty much have a new one every week for a year! Well\, half a year anyway… \n  \n**Purchase of a beverage is required to order a 1/2 priced poutine.
URL:https://rihg.ca/event/12-price-poutine-2016-06-05-2016-09-04-2016-11-06-2017-06-25-2018-10-07-2019-06-02/2025-12-21/
CATEGORIES:Hunter’s Ale House
END:VEVENT
BEGIN:VEVENT
DTSTART;TZID=America/Halifax:20251220T230000
DTEND;TZID=America/Halifax:20251220T230000
DTSTAMP:20260422T134608
CREATED:20251224T182401Z
LAST-MODIFIED:20251224T182401Z
UID:10020712-1766271600-1766271600@rihg.ca
SUMMARY:Gin & Tonic
DESCRIPTION:
URL:https://rihg.ca/event/gin-tonic-3/
CATEGORIES:Hunter’s Ale House
END:VEVENT
BEGIN:VEVENT
DTSTART;TZID=America/Halifax:20251220T210000
DTEND;TZID=America/Halifax:20251220T210000
DTSTAMP:20260422T134608
CREATED:20160505T164046Z
LAST-MODIFIED:20251223T194947Z
UID:10017262-1766264400-1766264400@rihg.ca
SUMMARY:Pitcher & Wings = $27.99
DESCRIPTION:Pick a pitcher and choose your sauce for only $27.99. We’ll do the rest! \n  \n**Special includes choice of a domestic Molson pitcher and 1 lb wings.
URL:https://rihg.ca/event/pitcher-wing-special-2016-06-04-2016-09-03-2016-11-05-2017-06-24-2018-10-06-2019-06-01/2025-12-20/
CATEGORIES:Hunter’s Ale House
END:VEVENT
BEGIN:VEVENT
DTSTART;TZID=America/Halifax:20251219T230000
DTEND;TZID=America/Halifax:20251219T230000
DTSTAMP:20260422T134608
CREATED:20251224T182336Z
LAST-MODIFIED:20251224T182336Z
UID:10020711-1766185200-1766185200@rihg.ca
SUMMARY:YakBak
DESCRIPTION:
URL:https://rihg.ca/event/yakbak-2/
CATEGORIES:Hunter’s Ale House
END:VEVENT
BEGIN:VEVENT
DTSTART;TZID=America/Halifax:20251219T210000
DTEND;TZID=America/Halifax:20251219T210000
DTSTAMP:20260422T134608
CREATED:20141210T153446Z
LAST-MODIFIED:20251223T194853Z
UID:10017210-1766178000-1766178000@rihg.ca
SUMMARY:Pitcher + Nachos = $27.99
DESCRIPTION:You get a pitcher & an order of nachos for only $27.99? Sounds like the combination of a good time to us! \n  \n**Special includes choice of a domestic Labatt product and an order of regular Hunter’s nachos.
URL:https://rihg.ca/event/pitcher-nachos-24-99-2015-09-04-2016-05-06-2016-06-03-2016-09-02-2016-11-04-2017-06-23-2018-10-05-2019-06-07/2025-12-19/
CATEGORIES:Hunter’s Ale House
END:VEVENT
BEGIN:VEVENT
DTSTART;TZID=America/Halifax:20251218T230000
DTEND;TZID=America/Halifax:20251218T230000
DTSTAMP:20260422T134608
CREATED:20251224T182241Z
LAST-MODIFIED:20251224T182241Z
UID:10020710-1766098800-1766098800@rihg.ca
SUMMARY:Green Day Tribute
DESCRIPTION:
URL:https://rihg.ca/event/green-day-tribute/
CATEGORIES:Hunter’s Ale House
END:VEVENT
BEGIN:VEVENT
DTSTART;TZID=America/Halifax:20251218T210000
DTEND;TZID=America/Halifax:20251218T210000
DTSTAMP:20260422T134608
CREATED:20201001T213045Z
LAST-MODIFIED:20251223T194723Z
UID:10017158-1766091600-1766091600@rihg.ca
SUMMARY:1/2 Priced Phillies
DESCRIPTION:Just in time for Thursday Night Entertainment Trivia\, we are offering every one of our massive Philly sandwiches for HALF-PRICE! \nThis offer does not include a side. But you can add one. But you probably won’t need to! \n*Dine-in only with beverage purchase required.
URL:https://rihg.ca/event/1-2-priced-phillies/2025-12-18/
CATEGORIES:Hunter’s Ale House
END:VEVENT
BEGIN:VEVENT
DTSTART;TZID=America/Halifax:20251218T210000
DTEND;TZID=America/Halifax:20251218T210000
DTSTAMP:20260422T134608
CREATED:20200602T211925Z
LAST-MODIFIED:20251223T194603Z
UID:10017367-1766091600-1766091600@rihg.ca
SUMMARY:Entertainment Trivia with Darcy Campbell
DESCRIPTION:Wanna test your knowledge with our entertainment trivia night? There is high demand for seats for Charlottetown’s most popular Thursday night trivia so get here early to get a seat! \nThere are prizes for the top three teams\, plus tons of “wooden nickel” beer questions so make sure you bring some quarters along to play those as well. Redeem your Hunter’s wooden nickel for a domestic bottle beer or well shot\, or keep it as a souvenir!
URL:https://rihg.ca/event/entertainment-trivia-with-darcy-campbell-2/2025-12-18/
CATEGORIES:Hunter’s Ale House
END:VEVENT
BEGIN:VEVENT
DTSTART;TZID=America/Halifax:20251217T230000
DTEND;TZID=America/Halifax:20251217T230000
DTSTAMP:20260422T134608
CREATED:20251224T182216Z
LAST-MODIFIED:20251224T182216Z
UID:10020709-1766012400-1766012400@rihg.ca
SUMMARY:Matt & Adam
DESCRIPTION:
URL:https://rihg.ca/event/matt-adam-6/
CATEGORIES:Hunter’s Ale House
END:VEVENT
BEGIN:VEVENT
DTSTART;TZID=America/Halifax:20251217T210000
DTEND;TZID=America/Halifax:20251217T210000
DTSTAMP:20260422T134608
CREATED:20181126T221709Z
LAST-MODIFIED:20251223T195308Z
UID:10017053-1766005200-1766005200@rihg.ca
SUMMARY:$13.50 Pitchers + 1/2 Priced Apps = Wicked Wednesday
DESCRIPTION:Lookin’ for something to do this Hump? Kick back with some Labatt draught & grab some Half Priced Apps.\nTrust me… they don’t call ’em Wicked Wednesday’s for nothin! \n**$13.50 Labatt pitcher consists of choice of Budweiser\, Bud Light\, or Alexander Keith. \n**1/2 priced appetizer offer excludes Nachos or Gang Platter and requires the purchase of a beverage.
URL:https://rihg.ca/event/13-50-pitchers-1-2-priced-apps-wicked-wednesday-2019-06-05/2025-12-17/
CATEGORIES:Hunter’s Ale House
END:VEVENT
BEGIN:VEVENT
DTSTART;TZID=America/Halifax:20251216T230000
DTEND;TZID=America/Halifax:20251216T230000
DTSTAMP:20260422T134608
CREATED:20251224T182153Z
LAST-MODIFIED:20251224T182153Z
UID:10020708-1765926000-1765926000@rihg.ca
SUMMARY:Isaac & Brad
DESCRIPTION:
URL:https://rihg.ca/event/isaac-brad-3/
CATEGORIES:Hunter’s Ale House
END:VEVENT
BEGIN:VEVENT
DTSTART;TZID=America/Halifax:20251216T210000
DTEND;TZID=America/Halifax:20251216T210000
DTSTAMP:20260422T134608
CREATED:20200602T212947Z
LAST-MODIFIED:20251223T192731Z
UID:10016930-1765918800-1765918800@rihg.ca
SUMMARY:75¢ Wing Night
DESCRIPTION:Come on in and enjoy all the 75¢ breaded wings your tummy can handle! Your choice of bone-in or boneless. \nShots of Canadian Club for only $3.50 for those 19 and over… Photo identification required upon request. \n**Purchase of a beverage required for each order of 20 wings. \n**Eat-in only
URL:https://rihg.ca/event/75%c2%a2-wing-night-2021-12-28/2025-12-16/
CATEGORIES:Hunter’s Ale House
END:VEVENT
BEGIN:VEVENT
DTSTART;TZID=America/Halifax:20251215T230000
DTEND;TZID=America/Halifax:20251215T230000
DTSTAMP:20260422T134608
CREATED:20251224T182127Z
LAST-MODIFIED:20251224T182127Z
UID:10020707-1765839600-1765839600@rihg.ca
SUMMARY:Adam & a Foe
DESCRIPTION:
URL:https://rihg.ca/event/adam-a-foe/
CATEGORIES:Hunter’s Ale House
END:VEVENT
BEGIN:VEVENT
DTSTART;TZID=America/Halifax:20251215T220000
DTEND;TZID=America/Halifax:20251215T220000
DTSTAMP:20260422T134608
CREATED:20250404T165601Z
LAST-MODIFIED:20251223T192613Z
UID:10018204-1765836000-1765836000@rihg.ca
SUMMARY:Open Mic with Travis
DESCRIPTION:Monday Open Mic is BACK!!!!
URL:https://rihg.ca/event/open-mic-with-travis/2025-12-15/
CATEGORIES:Hunter’s Ale House
END:VEVENT
BEGIN:VEVENT
DTSTART;TZID=America/Halifax:20251215T210000
DTEND;TZID=America/Halifax:20251215T210000
DTSTAMP:20260422T134608
CREATED:20181126T213257Z
LAST-MODIFIED:20251223T192532Z
UID:10017104-1765832400-1765832400@rihg.ca
SUMMARY:1/2 Priced Nachos
DESCRIPTION:Check out our variety of nachos: \nIt would take a few months to try a new one every week… \nCHALLENGE ACCEPTED! \n**Must purchase a beverage to order 1/2 priced nachos
URL:https://rihg.ca/event/1-2-priced-nachos-2019-06-03/2025-12-15/
CATEGORIES:Hunter’s Ale House
END:VEVENT
BEGIN:VEVENT
DTSTART;TZID=America/Halifax:20251214T210000
DTEND;TZID=America/Halifax:20251214T210000
DTSTAMP:20260422T134608
CREATED:20211203T211110Z
LAST-MODIFIED:20251223T195142Z
UID:10017418-1765746000-1765746000@rihg.ca
SUMMARY:Name That Tune Trivia with Andrew Rollins
DESCRIPTION:You think you know your music? Think again! Andrew will put your musical knowledge to the test! \nWe will be using Hunter’s “wooden nickel” drink tokens for beer questions. These can be redeemed for a domestic bottled beer\, well shot\, or non-alcoholic beverage\, when won or at any future time! \nWe look forward to seeing you on Sunday night!!!
URL:https://rihg.ca/event/name-that-tune-trivia-with-andrew-rollins-2/2025-12-14/
CATEGORIES:Hunter’s Ale House
END:VEVENT
BEGIN:VEVENT
DTSTART;TZID=America/Halifax:20251214T210000
DTEND;TZID=America/Halifax:20251214T210000
DTSTAMP:20260422T134608
CREATED:20160505T172902Z
LAST-MODIFIED:20251223T195103Z
UID:10017313-1765746000-1765746000@rihg.ca
SUMMARY:1/2 Priced Poutine
DESCRIPTION:Have your seen our Poutinerie? You could pretty much have a new one every week for a year! Well\, half a year anyway… \n  \n**Purchase of a beverage is required to order a 1/2 priced poutine.
URL:https://rihg.ca/event/12-price-poutine-2016-06-05-2016-09-04-2016-11-06-2017-06-25-2018-10-07-2019-06-02/2025-12-14/
CATEGORIES:Hunter’s Ale House
END:VEVENT
BEGIN:VEVENT
DTSTART;TZID=America/Halifax:20251213T230000
DTEND;TZID=America/Halifax:20251213T230000
DTSTAMP:20260422T134608
CREATED:20251224T182051Z
LAST-MODIFIED:20251224T182051Z
UID:10020706-1765666800-1765666800@rihg.ca
SUMMARY:The Last Forevers
DESCRIPTION:
URL:https://rihg.ca/event/the-last-forevers-3/
CATEGORIES:Hunter’s Ale House
END:VEVENT
BEGIN:VEVENT
DTSTART;TZID=America/Halifax:20251213T210000
DTEND;TZID=America/Halifax:20251213T210000
DTSTAMP:20260422T134609
CREATED:20160505T164046Z
LAST-MODIFIED:20251223T194947Z
UID:10017261-1765659600-1765659600@rihg.ca
SUMMARY:Pitcher & Wings = $27.99
DESCRIPTION:Pick a pitcher and choose your sauce for only $27.99. We’ll do the rest! \n  \n**Special includes choice of a domestic Molson pitcher and 1 lb wings.
URL:https://rihg.ca/event/pitcher-wing-special-2016-06-04-2016-09-03-2016-11-05-2017-06-24-2018-10-06-2019-06-01/2025-12-13/
CATEGORIES:Hunter’s Ale House
END:VEVENT
BEGIN:VEVENT
DTSTART;TZID=America/Halifax:20251212T230000
DTEND;TZID=America/Halifax:20251212T230000
DTSTAMP:20260422T134609
CREATED:20251224T182026Z
LAST-MODIFIED:20251224T182026Z
UID:10020705-1765580400-1765580400@rihg.ca
SUMMARY:Pretty Tragic
DESCRIPTION:
URL:https://rihg.ca/event/pretty-tragic/
CATEGORIES:Hunter’s Ale House
END:VEVENT
END:VCALENDAR