BEGIN:VCALENDAR
VERSION:2.0
PRODID:-//Red Island Hospitality Group Inc. - ECPv6.15.20//NONSGML v1.0//EN
CALSCALE:GREGORIAN
METHOD:PUBLISH
X-ORIGINAL-URL:https://rihg.ca
X-WR-CALDESC:Events for Red Island Hospitality Group Inc.
REFRESH-INTERVAL;VALUE=DURATION:PT1H
X-Robots-Tag:noindex
X-PUBLISHED-TTL:PT1H
BEGIN:VTIMEZONE
TZID:America/Halifax
BEGIN:DAYLIGHT
TZOFFSETFROM:-0400
TZOFFSETTO:-0300
TZNAME:ADT
DTSTART:20250309T060000
END:DAYLIGHT
BEGIN:STANDARD
TZOFFSETFROM:-0300
TZOFFSETTO:-0400
TZNAME:AST
DTSTART:20251102T050000
END:STANDARD
BEGIN:DAYLIGHT
TZOFFSETFROM:-0400
TZOFFSETTO:-0300
TZNAME:ADT
DTSTART:20260308T060000
END:DAYLIGHT
BEGIN:STANDARD
TZOFFSETFROM:-0300
TZOFFSETTO:-0400
TZNAME:AST
DTSTART:20261101T050000
END:STANDARD
BEGIN:DAYLIGHT
TZOFFSETFROM:-0400
TZOFFSETTO:-0300
TZNAME:ADT
DTSTART:20270314T060000
END:DAYLIGHT
BEGIN:STANDARD
TZOFFSETFROM:-0300
TZOFFSETTO:-0400
TZNAME:AST
DTSTART:20271107T050000
END:STANDARD
END:VTIMEZONE
BEGIN:VEVENT
DTSTART;TZID=America/Halifax:20261218T210000
DTEND;TZID=America/Halifax:20261218T210000
DTSTAMP:20260421T172759
CREATED:20141210T153446Z
LAST-MODIFIED:20251223T194853Z
UID:10019652-1797627600-1797627600@rihg.ca
SUMMARY:Pitcher + Nachos = $27.99
DESCRIPTION:You get a pitcher & an order of nachos for only $27.99? Sounds like the combination of a good time to us! \n  \n**Special includes choice of a domestic Labatt product and an order of regular Hunter’s nachos.
URL:https://rihg.ca/event/pitcher-nachos-24-99-2015-09-04-2016-05-06-2016-06-03-2016-09-02-2016-11-04-2017-06-23-2018-10-05-2019-06-07/2026-12-18/
CATEGORIES:Hunter’s Ale House
END:VEVENT
BEGIN:VEVENT
DTSTART;TZID=America/Halifax:20261219T210000
DTEND;TZID=America/Halifax:20261219T210000
DTSTAMP:20260421T172759
CREATED:20160505T164046Z
LAST-MODIFIED:20251223T194947Z
UID:10019703-1797714000-1797714000@rihg.ca
SUMMARY:Pitcher & Wings = $27.99
DESCRIPTION:Pick a pitcher and choose your sauce for only $27.99. We’ll do the rest! \n  \n**Special includes choice of a domestic Molson pitcher and 1 lb wings.
URL:https://rihg.ca/event/pitcher-wing-special-2016-06-04-2016-09-03-2016-11-05-2017-06-24-2018-10-06-2019-06-01/2026-12-19/
CATEGORIES:Hunter’s Ale House
END:VEVENT
BEGIN:VEVENT
DTSTART;TZID=America/Halifax:20261220T210000
DTEND;TZID=America/Halifax:20261220T210000
DTSTAMP:20260421T172759
CREATED:20160505T172902Z
LAST-MODIFIED:20251223T195103Z
UID:10019755-1797800400-1797800400@rihg.ca
SUMMARY:1/2 Priced Poutine
DESCRIPTION:Have your seen our Poutinerie? You could pretty much have a new one every week for a year! Well\, half a year anyway… \n  \n**Purchase of a beverage is required to order a 1/2 priced poutine.
URL:https://rihg.ca/event/12-price-poutine-2016-06-05-2016-09-04-2016-11-06-2017-06-25-2018-10-07-2019-06-02/2026-12-20/
CATEGORIES:Hunter’s Ale House
END:VEVENT
BEGIN:VEVENT
DTSTART;TZID=America/Halifax:20261220T210000
DTEND;TZID=America/Halifax:20261220T210000
DTSTAMP:20260421T172759
CREATED:20211203T211110Z
LAST-MODIFIED:20251223T195142Z
UID:10019807-1797800400-1797800400@rihg.ca
SUMMARY:Name That Tune Trivia with Andrew Rollins
DESCRIPTION:You think you know your music? Think again! Andrew will put your musical knowledge to the test! \nWe will be using Hunter’s “wooden nickel” drink tokens for beer questions. These can be redeemed for a domestic bottled beer\, well shot\, or non-alcoholic beverage\, when won or at any future time! \nWe look forward to seeing you on Sunday night!!!
URL:https://rihg.ca/event/name-that-tune-trivia-with-andrew-rollins-2/2026-12-20/
CATEGORIES:Hunter’s Ale House
END:VEVENT
BEGIN:VEVENT
DTSTART;TZID=America/Halifax:20261221T210000
DTEND;TZID=America/Halifax:20261221T210000
DTSTAMP:20260421T172759
CREATED:20181126T213257Z
LAST-MODIFIED:20251223T192532Z
UID:10019297-1797886800-1797886800@rihg.ca
SUMMARY:1/2 Priced Nachos
DESCRIPTION:Check out our variety of nachos: \nIt would take a few months to try a new one every week… \nCHALLENGE ACCEPTED! \n**Must purchase a beverage to order 1/2 priced nachos
URL:https://rihg.ca/event/1-2-priced-nachos-2019-06-03/2026-12-21/
CATEGORIES:Hunter’s Ale House
END:VEVENT
BEGIN:VEVENT
DTSTART;TZID=America/Halifax:20261221T220000
DTEND;TZID=America/Halifax:20261221T220000
DTSTAMP:20260421T172759
CREATED:20250404T165601Z
LAST-MODIFIED:20251223T192613Z
UID:10019314-1797890400-1797890400@rihg.ca
SUMMARY:Open Mic with Travis
DESCRIPTION:Monday Open Mic is BACK!!!!
URL:https://rihg.ca/event/open-mic-with-travis/2026-12-21/
CATEGORIES:Hunter’s Ale House
END:VEVENT
BEGIN:VEVENT
DTSTART;TZID=America/Halifax:20261222T210000
DTEND;TZID=America/Halifax:20261222T210000
DTSTAMP:20260421T172759
CREATED:20200602T212947Z
LAST-MODIFIED:20251223T192731Z
UID:10019366-1797973200-1797973200@rihg.ca
SUMMARY:75¢ Wing Night
DESCRIPTION:Come on in and enjoy all the 75¢ breaded wings your tummy can handle! Your choice of bone-in or boneless. \nShots of Canadian Club for only $3.50 for those 19 and over… Photo identification required upon request. \n**Purchase of a beverage required for each order of 20 wings. \n**Eat-in only
URL:https://rihg.ca/event/75%c2%a2-wing-night-2021-12-28/2026-12-22/
CATEGORIES:Hunter’s Ale House
END:VEVENT
BEGIN:VEVENT
DTSTART;TZID=America/Halifax:20261223T210000
DTEND;TZID=America/Halifax:20261223T210000
DTSTAMP:20260421T172759
CREATED:20181126T221709Z
LAST-MODIFIED:20251223T195308Z
UID:10019859-1798059600-1798059600@rihg.ca
SUMMARY:$13.50 Pitchers + 1/2 Priced Apps = Wicked Wednesday
DESCRIPTION:Lookin’ for something to do this Hump? Kick back with some Labatt draught & grab some Half Priced Apps.\nTrust me… they don’t call ’em Wicked Wednesday’s for nothin! \n**$13.50 Labatt pitcher consists of choice of Budweiser\, Bud Light\, or Alexander Keith. \n**1/2 priced appetizer offer excludes Nachos or Gang Platter and requires the purchase of a beverage.
URL:https://rihg.ca/event/13-50-pitchers-1-2-priced-apps-wicked-wednesday-2019-06-05/2026-12-23/
CATEGORIES:Hunter’s Ale House
END:VEVENT
BEGIN:VEVENT
DTSTART;TZID=America/Halifax:20261226T210000
DTEND;TZID=America/Halifax:20261226T210000
DTSTAMP:20260421T172759
CREATED:20160505T164046Z
LAST-MODIFIED:20251223T194947Z
UID:10019704-1798318800-1798318800@rihg.ca
SUMMARY:Pitcher & Wings = $27.99
DESCRIPTION:Pick a pitcher and choose your sauce for only $27.99. We’ll do the rest! \n  \n**Special includes choice of a domestic Molson pitcher and 1 lb wings.
URL:https://rihg.ca/event/pitcher-wing-special-2016-06-04-2016-09-03-2016-11-05-2017-06-24-2018-10-06-2019-06-01/2026-12-26/
CATEGORIES:Hunter’s Ale House
END:VEVENT
BEGIN:VEVENT
DTSTART;TZID=America/Halifax:20261227T210000
DTEND;TZID=America/Halifax:20261227T210000
DTSTAMP:20260421T172759
CREATED:20160505T172902Z
LAST-MODIFIED:20251223T195103Z
UID:10019756-1798405200-1798405200@rihg.ca
SUMMARY:1/2 Priced Poutine
DESCRIPTION:Have your seen our Poutinerie? You could pretty much have a new one every week for a year! Well\, half a year anyway… \n  \n**Purchase of a beverage is required to order a 1/2 priced poutine.
URL:https://rihg.ca/event/12-price-poutine-2016-06-05-2016-09-04-2016-11-06-2017-06-25-2018-10-07-2019-06-02/2026-12-27/
CATEGORIES:Hunter’s Ale House
END:VEVENT
BEGIN:VEVENT
DTSTART;TZID=America/Halifax:20261227T210000
DTEND;TZID=America/Halifax:20261227T210000
DTSTAMP:20260421T172759
CREATED:20211203T211110Z
LAST-MODIFIED:20251223T195142Z
UID:10019808-1798405200-1798405200@rihg.ca
SUMMARY:Name That Tune Trivia with Andrew Rollins
DESCRIPTION:You think you know your music? Think again! Andrew will put your musical knowledge to the test! \nWe will be using Hunter’s “wooden nickel” drink tokens for beer questions. These can be redeemed for a domestic bottled beer\, well shot\, or non-alcoholic beverage\, when won or at any future time! \nWe look forward to seeing you on Sunday night!!!
URL:https://rihg.ca/event/name-that-tune-trivia-with-andrew-rollins-2/2026-12-27/
CATEGORIES:Hunter’s Ale House
END:VEVENT
BEGIN:VEVENT
DTSTART;TZID=America/Halifax:20261228T210000
DTEND;TZID=America/Halifax:20261228T210000
DTSTAMP:20260421T172759
CREATED:20181126T213257Z
LAST-MODIFIED:20251223T192532Z
UID:10019298-1798491600-1798491600@rihg.ca
SUMMARY:1/2 Priced Nachos
DESCRIPTION:Check out our variety of nachos: \nIt would take a few months to try a new one every week… \nCHALLENGE ACCEPTED! \n**Must purchase a beverage to order 1/2 priced nachos
URL:https://rihg.ca/event/1-2-priced-nachos-2019-06-03/2026-12-28/
CATEGORIES:Hunter’s Ale House
END:VEVENT
BEGIN:VEVENT
DTSTART;TZID=America/Halifax:20261228T220000
DTEND;TZID=America/Halifax:20261228T220000
DTSTAMP:20260421T172759
CREATED:20250404T165601Z
LAST-MODIFIED:20251223T192613Z
UID:10019315-1798495200-1798495200@rihg.ca
SUMMARY:Open Mic with Travis
DESCRIPTION:Monday Open Mic is BACK!!!!
URL:https://rihg.ca/event/open-mic-with-travis/2026-12-28/
CATEGORIES:Hunter’s Ale House
END:VEVENT
BEGIN:VEVENT
DTSTART;TZID=America/Halifax:20261229T210000
DTEND;TZID=America/Halifax:20261229T210000
DTSTAMP:20260421T172759
CREATED:20200602T212947Z
LAST-MODIFIED:20251223T192731Z
UID:10019367-1798578000-1798578000@rihg.ca
SUMMARY:75¢ Wing Night
DESCRIPTION:Come on in and enjoy all the 75¢ breaded wings your tummy can handle! Your choice of bone-in or boneless. \nShots of Canadian Club for only $3.50 for those 19 and over… Photo identification required upon request. \n**Purchase of a beverage required for each order of 20 wings. \n**Eat-in only
URL:https://rihg.ca/event/75%c2%a2-wing-night-2021-12-28/2026-12-29/
CATEGORIES:Hunter’s Ale House
END:VEVENT
BEGIN:VEVENT
DTSTART;TZID=America/Halifax:20261230T210000
DTEND;TZID=America/Halifax:20261230T210000
DTSTAMP:20260421T172759
CREATED:20181126T221709Z
LAST-MODIFIED:20251223T195308Z
UID:10019860-1798664400-1798664400@rihg.ca
SUMMARY:$13.50 Pitchers + 1/2 Priced Apps = Wicked Wednesday
DESCRIPTION:Lookin’ for something to do this Hump? Kick back with some Labatt draught & grab some Half Priced Apps.\nTrust me… they don’t call ’em Wicked Wednesday’s for nothin! \n**$13.50 Labatt pitcher consists of choice of Budweiser\, Bud Light\, or Alexander Keith. \n**1/2 priced appetizer offer excludes Nachos or Gang Platter and requires the purchase of a beverage.
URL:https://rihg.ca/event/13-50-pitchers-1-2-priced-apps-wicked-wednesday-2019-06-05/2026-12-30/
CATEGORIES:Hunter’s Ale House
END:VEVENT
END:VCALENDAR