BEGIN:VCALENDAR
VERSION:2.0
PRODID:-//Red Island Hospitality Group Inc. - ECPv6.15.20//NONSGML v1.0//EN
CALSCALE:GREGORIAN
METHOD:PUBLISH
X-ORIGINAL-URL:https://rihg.ca
X-WR-CALDESC:Events for Red Island Hospitality Group Inc.
REFRESH-INTERVAL;VALUE=DURATION:PT1H
X-Robots-Tag:noindex
X-PUBLISHED-TTL:PT1H
BEGIN:VTIMEZONE
TZID:America/Halifax
BEGIN:DAYLIGHT
TZOFFSETFROM:-0400
TZOFFSETTO:-0300
TZNAME:ADT
DTSTART:20250309T060000
END:DAYLIGHT
BEGIN:STANDARD
TZOFFSETFROM:-0300
TZOFFSETTO:-0400
TZNAME:AST
DTSTART:20251102T050000
END:STANDARD
BEGIN:DAYLIGHT
TZOFFSETFROM:-0400
TZOFFSETTO:-0300
TZNAME:ADT
DTSTART:20260308T060000
END:DAYLIGHT
BEGIN:STANDARD
TZOFFSETFROM:-0300
TZOFFSETTO:-0400
TZNAME:AST
DTSTART:20261101T050000
END:STANDARD
BEGIN:DAYLIGHT
TZOFFSETFROM:-0400
TZOFFSETTO:-0300
TZNAME:ADT
DTSTART:20270314T060000
END:DAYLIGHT
BEGIN:STANDARD
TZOFFSETFROM:-0300
TZOFFSETTO:-0400
TZNAME:AST
DTSTART:20271107T050000
END:STANDARD
END:VTIMEZONE
BEGIN:VEVENT
DTSTART;TZID=America/Halifax:20260421T210000
DTEND;TZID=America/Halifax:20260421T210000
DTSTAMP:20260421T020947
CREATED:20200602T212947Z
LAST-MODIFIED:20251223T192731Z
UID:10019331-1776805200-1776805200@rihg.ca
SUMMARY:75¢ Wing Night
DESCRIPTION:Come on in and enjoy all the 75¢ breaded wings your tummy can handle! Your choice of bone-in or boneless. \nShots of Canadian Club for only $3.50 for those 19 and over… Photo identification required upon request. \n**Purchase of a beverage required for each order of 20 wings. \n**Eat-in only
URL:https://rihg.ca/event/75%c2%a2-wing-night-2021-12-28/2026-04-21/
CATEGORIES:Hunter’s Ale House
END:VEVENT
END:VCALENDAR