BEGIN:VCALENDAR
VERSION:2.0
PRODID:-//Red Island Hospitality Group Inc. - ECPv6.15.20//NONSGML v1.0//EN
CALSCALE:GREGORIAN
METHOD:PUBLISH
X-WR-CALNAME:Red Island Hospitality Group Inc.
X-ORIGINAL-URL:https://rihg.ca
X-WR-CALDESC:Events for Red Island Hospitality Group Inc.
REFRESH-INTERVAL;VALUE=DURATION:PT1H
X-Robots-Tag:noindex
X-PUBLISHED-TTL:PT1H
BEGIN:VTIMEZONE
TZID:America/Halifax
BEGIN:DAYLIGHT
TZOFFSETFROM:-0400
TZOFFSETTO:-0300
TZNAME:ADT
DTSTART:20250309T060000
END:DAYLIGHT
BEGIN:STANDARD
TZOFFSETFROM:-0300
TZOFFSETTO:-0400
TZNAME:AST
DTSTART:20251102T050000
END:STANDARD
BEGIN:DAYLIGHT
TZOFFSETFROM:-0400
TZOFFSETTO:-0300
TZNAME:ADT
DTSTART:20260308T060000
END:DAYLIGHT
BEGIN:STANDARD
TZOFFSETFROM:-0300
TZOFFSETTO:-0400
TZNAME:AST
DTSTART:20261101T050000
END:STANDARD
BEGIN:DAYLIGHT
TZOFFSETFROM:-0400
TZOFFSETTO:-0300
TZNAME:ADT
DTSTART:20270314T060000
END:DAYLIGHT
BEGIN:STANDARD
TZOFFSETFROM:-0300
TZOFFSETTO:-0400
TZNAME:AST
DTSTART:20271107T050000
END:STANDARD
END:VTIMEZONE
BEGIN:VEVENT
DTSTART;TZID=America/Halifax:20260411T140000
DTEND;TZID=America/Halifax:20260411T160000
DTSTAMP:20260421T212511
CREATED:20200603T190545Z
LAST-MODIFIED:20251224T162430Z
UID:10020368-1775916000-1775923200@rihg.ca
SUMMARY:Half-Priced Mussels
DESCRIPTION:From 2 until 4 p.m. every day of the week\, our succulent PEI mussels are 50% of the price but still 100% of the flavour! \nYour choice of: \n\nWhite wine & garlic\nCreamy pancetta\nSpicy arribiata\nSpinach & goat cheese
URL:https://rihg.ca/event/half-priced-mussels-2020-10-04/2026-04-11/
CATEGORIES:John Brown Grille
END:VEVENT
BEGIN:VEVENT
DTSTART;TZID=America/Halifax:20260411T140000
DTEND;TZID=America/Halifax:20260411T170000
DTSTAMP:20260421T212511
CREATED:20260318T174252Z
LAST-MODIFIED:20260318T174252Z
UID:10020817-1775916000-1775926800@rihg.ca
SUMMARY:Saul Good Duo
DESCRIPTION:
URL:https://rihg.ca/event/saul-good-duo-25/
CATEGORIES:John Brown Grille
END:VEVENT
BEGIN:VEVENT
DTSTART;TZID=America/Halifax:20260411T170000
DTEND;TZID=America/Halifax:20260411T220000
DTSTAMP:20260421T212511
CREATED:20251117T202452Z
LAST-MODIFIED:20251117T202452Z
UID:10019075-1775926800-1775944800@rihg.ca
SUMMARY:Half-Priced Nachos
DESCRIPTION:Your choice of John Brown’s Classic or Southwest Nachos for half-price? Sold! \nPurchase of a beverage required. Dine-in only.
URL:https://rihg.ca/event/half-priced-nachos/2026-04-11/
CATEGORIES:John Brown Grille
END:VEVENT
BEGIN:VEVENT
DTSTART;TZID=America/Halifax:20260411T230000
DTEND;TZID=America/Halifax:20260411T230000
DTSTAMP:20260421T212511
CREATED:20260416T162634Z
LAST-MODIFIED:20260416T162634Z
UID:10021269-1775948400-1775948400@rihg.ca
SUMMARY:DJ Derek
DESCRIPTION:
URL:https://rihg.ca/event/dj-derek-44/
CATEGORIES:John Brown Grille
END:VEVENT
END:VCALENDAR