BEGIN:VCALENDAR
VERSION:2.0
PRODID:-//Red Island Hospitality Group Inc. - ECPv6.15.20//NONSGML v1.0//EN
CALSCALE:GREGORIAN
METHOD:PUBLISH
X-WR-CALNAME:Red Island Hospitality Group Inc.
X-ORIGINAL-URL:https://rihg.ca
X-WR-CALDESC:Events for Red Island Hospitality Group Inc.
REFRESH-INTERVAL;VALUE=DURATION:PT1H
X-Robots-Tag:noindex
X-PUBLISHED-TTL:PT1H
BEGIN:VTIMEZONE
TZID:America/Halifax
BEGIN:DAYLIGHT
TZOFFSETFROM:-0400
TZOFFSETTO:-0300
TZNAME:ADT
DTSTART:20250309T060000
END:DAYLIGHT
BEGIN:STANDARD
TZOFFSETFROM:-0300
TZOFFSETTO:-0400
TZNAME:AST
DTSTART:20251102T050000
END:STANDARD
BEGIN:DAYLIGHT
TZOFFSETFROM:-0400
TZOFFSETTO:-0300
TZNAME:ADT
DTSTART:20260308T060000
END:DAYLIGHT
BEGIN:STANDARD
TZOFFSETFROM:-0300
TZOFFSETTO:-0400
TZNAME:AST
DTSTART:20261101T050000
END:STANDARD
BEGIN:DAYLIGHT
TZOFFSETFROM:-0400
TZOFFSETTO:-0300
TZNAME:ADT
DTSTART:20270314T060000
END:DAYLIGHT
BEGIN:STANDARD
TZOFFSETFROM:-0300
TZOFFSETTO:-0400
TZNAME:AST
DTSTART:20271107T050000
END:STANDARD
END:VTIMEZONE
BEGIN:VEVENT
DTSTART;TZID=America/Halifax:20260324T170000
DTEND;TZID=America/Halifax:20260324T220000
DTSTAMP:20260422T200901
CREATED:20251117T200059Z
LAST-MODIFIED:20251224T162236Z
UID:10020262-1774371600-1774389600@rihg.ca
SUMMARY:2-4-1 Wings
DESCRIPTION:Three delicious sauce options: \n\n\n\n\nlemon pepper  |  sriracha  |  herbed butter and parmesan  |  maple bourbon  |  JB’s picante\n\n\n\n\nShare some delicious JB’s wings with a friend\, or keep them all to yourself. We’re not judging! \nPurchase of a beverage required. Dine-in only.
URL:https://rihg.ca/event/2-4-1-wings-3/2026-03-24/
CATEGORIES:John Brown Grille
END:VEVENT
BEGIN:VEVENT
DTSTART;TZID=America/Halifax:20260325T140000
DTEND;TZID=America/Halifax:20260325T160000
DTSTAMP:20260422T200901
CREATED:20200603T190545Z
LAST-MODIFIED:20251224T162430Z
UID:10020351-1774447200-1774454400@rihg.ca
SUMMARY:Half-Priced Mussels
DESCRIPTION:From 2 until 4 p.m. every day of the week\, our succulent PEI mussels are 50% of the price but still 100% of the flavour! \nYour choice of: \n\nWhite wine & garlic\nCreamy pancetta\nSpicy arribiata\nSpinach & goat cheese
URL:https://rihg.ca/event/half-priced-mussels-2020-10-04/2026-03-25/
CATEGORIES:John Brown Grille
END:VEVENT
BEGIN:VEVENT
DTSTART;TZID=America/Halifax:20260325T170000
DTEND;TZID=America/Halifax:20260325T220000
DTSTAMP:20260422T200901
CREATED:20251117T202141Z
LAST-MODIFIED:20251117T202141Z
UID:10018994-1774458000-1774476000@rihg.ca
SUMMARY:$15 Half-Rack Ribs
DESCRIPTION:Half-rack of smoked\, fall off the bone\, deliciously tender\, baby back ribs\, glazed with BBQ sauce \nPurchase of a beverage required. Dine-in only.
URL:https://rihg.ca/event/15-half-rack-ribs/2026-03-25/
CATEGORIES:John Brown Grille
END:VEVENT
BEGIN:VEVENT
DTSTART;TZID=America/Halifax:20260326T140000
DTEND;TZID=America/Halifax:20260326T160000
DTSTAMP:20260422T200901
CREATED:20200603T190545Z
LAST-MODIFIED:20251224T162430Z
UID:10020352-1774533600-1774540800@rihg.ca
SUMMARY:Half-Priced Mussels
DESCRIPTION:From 2 until 4 p.m. every day of the week\, our succulent PEI mussels are 50% of the price but still 100% of the flavour! \nYour choice of: \n\nWhite wine & garlic\nCreamy pancetta\nSpicy arribiata\nSpinach & goat cheese
URL:https://rihg.ca/event/half-priced-mussels-2020-10-04/2026-03-26/
CATEGORIES:John Brown Grille
END:VEVENT
BEGIN:VEVENT
DTSTART;TZID=America/Halifax:20260326T170000
DTEND;TZID=America/Halifax:20260326T220000
DTSTAMP:20260422T200901
CREATED:20251117T201649Z
LAST-MODIFIED:20251117T201649Z
UID:10019020-1774544400-1774562400@rihg.ca
SUMMARY:$20 Steak Sandwich
DESCRIPTION:5oz tenderloin\, sautéed portobello mushrooms & Spanish onions\, served open-faced on a grilled crostini with demi sauce \nPurchase of a beverage required. Dine-in only.
URL:https://rihg.ca/event/20-steak-sandwich/2026-03-26/
CATEGORIES:John Brown Grille
END:VEVENT
BEGIN:VEVENT
DTSTART;TZID=America/Halifax:20260327T140000
DTEND;TZID=America/Halifax:20260327T160000
DTSTAMP:20260422T200901
CREATED:20200603T190545Z
LAST-MODIFIED:20251224T162430Z
UID:10020353-1774620000-1774627200@rihg.ca
SUMMARY:Half-Priced Mussels
DESCRIPTION:From 2 until 4 p.m. every day of the week\, our succulent PEI mussels are 50% of the price but still 100% of the flavour! \nYour choice of: \n\nWhite wine & garlic\nCreamy pancetta\nSpicy arribiata\nSpinach & goat cheese
URL:https://rihg.ca/event/half-priced-mussels-2020-10-04/2026-03-27/
CATEGORIES:John Brown Grille
END:VEVENT
BEGIN:VEVENT
DTSTART;TZID=America/Halifax:20260327T170000
DTEND;TZID=America/Halifax:20260327T220000
DTSTAMP:20260422T200901
CREATED:20251117T201423Z
LAST-MODIFIED:20251117T201518Z
UID:10019046-1774630800-1774648800@rihg.ca
SUMMARY:$15 Fish & Chips
DESCRIPTION:8oz haddock filet hand-dipped in our gluten free batter\, served with our dill tartar sauce \nPurchase of a beverage required. Dine-in only.
URL:https://rihg.ca/event/15-fish-chips/2026-03-27/
CATEGORIES:John Brown Grille
END:VEVENT
BEGIN:VEVENT
DTSTART;TZID=America/Halifax:20260328T140000
DTEND;TZID=America/Halifax:20260328T160000
DTSTAMP:20260422T200901
CREATED:20200603T190545Z
LAST-MODIFIED:20251224T162430Z
UID:10020354-1774706400-1774713600@rihg.ca
SUMMARY:Half-Priced Mussels
DESCRIPTION:From 2 until 4 p.m. every day of the week\, our succulent PEI mussels are 50% of the price but still 100% of the flavour! \nYour choice of: \n\nWhite wine & garlic\nCreamy pancetta\nSpicy arribiata\nSpinach & goat cheese
URL:https://rihg.ca/event/half-priced-mussels-2020-10-04/2026-03-28/
CATEGORIES:John Brown Grille
END:VEVENT
BEGIN:VEVENT
DTSTART;TZID=America/Halifax:20260328T140000
DTEND;TZID=America/Halifax:20260328T170000
DTSTAMP:20260422T200901
CREATED:20260220T192509Z
LAST-MODIFIED:20260220T192509Z
UID:10020773-1774706400-1774717200@rihg.ca
SUMMARY:Kim Albert Trio
DESCRIPTION:
URL:https://rihg.ca/event/kim-albert-trio-16/
CATEGORIES:John Brown Grille
END:VEVENT
BEGIN:VEVENT
DTSTART;TZID=America/Halifax:20260328T170000
DTEND;TZID=America/Halifax:20260328T220000
DTSTAMP:20260422T200901
CREATED:20251117T202452Z
LAST-MODIFIED:20251117T202452Z
UID:10019073-1774717200-1774735200@rihg.ca
SUMMARY:Half-Priced Nachos
DESCRIPTION:Your choice of John Brown’s Classic or Southwest Nachos for half-price? Sold! \nPurchase of a beverage required. Dine-in only.
URL:https://rihg.ca/event/half-priced-nachos/2026-03-28/
CATEGORIES:John Brown Grille
END:VEVENT
BEGIN:VEVENT
DTSTART;TZID=America/Halifax:20260328T230000
DTEND;TZID=America/Halifax:20260328T230000
DTSTAMP:20260422T200901
CREATED:20260220T193102Z
LAST-MODIFIED:20260220T193102Z
UID:10020774-1774738800-1774738800@rihg.ca
SUMMARY:DJ Purdy
DESCRIPTION:
URL:https://rihg.ca/event/dj-purdy-6/
CATEGORIES:John Brown Grille
END:VEVENT
BEGIN:VEVENT
DTSTART;TZID=America/Halifax:20260329T140000
DTEND;TZID=America/Halifax:20260329T160000
DTSTAMP:20260422T200901
CREATED:20200603T190545Z
LAST-MODIFIED:20251224T162430Z
UID:10020355-1774792800-1774800000@rihg.ca
SUMMARY:Half-Priced Mussels
DESCRIPTION:From 2 until 4 p.m. every day of the week\, our succulent PEI mussels are 50% of the price but still 100% of the flavour! \nYour choice of: \n\nWhite wine & garlic\nCreamy pancetta\nSpicy arribiata\nSpinach & goat cheese
URL:https://rihg.ca/event/half-priced-mussels-2020-10-04/2026-03-29/
CATEGORIES:John Brown Grille
END:VEVENT
BEGIN:VEVENT
DTSTART;TZID=America/Halifax:20260329T170000
DTEND;TZID=America/Halifax:20260329T220000
DTSTAMP:20260422T200901
CREATED:20251117T205320Z
LAST-MODIFIED:20251117T205320Z
UID:10019100-1774803600-1774821600@rihg.ca
SUMMARY:2-4-1 Pub Fare
DESCRIPTION:Purchase one “Pub Fare” item and receive the second of equal or lesser value for free: https://johnbrowngrille.com/pub-fare/ \nPurchase of a beverage required. Dine-in only.
URL:https://rihg.ca/event/2-4-1-pub-fare/2026-03-29/
CATEGORIES:John Brown Grille
END:VEVENT
BEGIN:VEVENT
DTSTART;TZID=America/Halifax:20260330T140000
DTEND;TZID=America/Halifax:20260330T160000
DTSTAMP:20260422T200901
CREATED:20200603T190545Z
LAST-MODIFIED:20251224T162430Z
UID:10020356-1774879200-1774886400@rihg.ca
SUMMARY:Half-Priced Mussels
DESCRIPTION:From 2 until 4 p.m. every day of the week\, our succulent PEI mussels are 50% of the price but still 100% of the flavour! \nYour choice of: \n\nWhite wine & garlic\nCreamy pancetta\nSpicy arribiata\nSpinach & goat cheese
URL:https://rihg.ca/event/half-priced-mussels-2020-10-04/2026-03-30/
CATEGORIES:John Brown Grille
END:VEVENT
BEGIN:VEVENT
DTSTART;TZID=America/Halifax:20260330T170000
DTEND;TZID=America/Halifax:20260330T220000
DTSTAMP:20260422T200901
CREATED:20251117T195645Z
LAST-MODIFIED:20251117T195645Z
UID:10018968-1774890000-1774908000@rihg.ca
SUMMARY:Half Priced Apps
DESCRIPTION:Select appetizers available for 50% off. \nLots of tasty appetizers to choose from: https://johnbrowngrille.com/appetizers/ \nPurchase of a beverage required. Dine-in only.
URL:https://rihg.ca/event/half-priced-apps-2/2026-03-30/
CATEGORIES:John Brown Grille
END:VEVENT
BEGIN:VEVENT
DTSTART;TZID=America/Halifax:20260331T140000
DTEND;TZID=America/Halifax:20260331T160000
DTSTAMP:20260422T200901
CREATED:20200603T190545Z
LAST-MODIFIED:20251224T162430Z
UID:10020357-1774965600-1774972800@rihg.ca
SUMMARY:Half-Priced Mussels
DESCRIPTION:From 2 until 4 p.m. every day of the week\, our succulent PEI mussels are 50% of the price but still 100% of the flavour! \nYour choice of: \n\nWhite wine & garlic\nCreamy pancetta\nSpicy arribiata\nSpinach & goat cheese
URL:https://rihg.ca/event/half-priced-mussels-2020-10-04/2026-03-31/
CATEGORIES:John Brown Grille
END:VEVENT
BEGIN:VEVENT
DTSTART;TZID=America/Halifax:20260331T170000
DTEND;TZID=America/Halifax:20260331T220000
DTSTAMP:20260422T200901
CREATED:20251117T200059Z
LAST-MODIFIED:20251224T162236Z
UID:10020263-1774976400-1774994400@rihg.ca
SUMMARY:2-4-1 Wings
DESCRIPTION:Three delicious sauce options: \n\n\n\n\nlemon pepper  |  sriracha  |  herbed butter and parmesan  |  maple bourbon  |  JB’s picante\n\n\n\n\nShare some delicious JB’s wings with a friend\, or keep them all to yourself. We’re not judging! \nPurchase of a beverage required. Dine-in only.
URL:https://rihg.ca/event/2-4-1-wings-3/2026-03-31/
CATEGORIES:John Brown Grille
END:VEVENT
BEGIN:VEVENT
DTSTART;TZID=America/Halifax:20260401T140000
DTEND;TZID=America/Halifax:20260401T160000
DTSTAMP:20260422T200901
CREATED:20200603T190545Z
LAST-MODIFIED:20251224T162430Z
UID:10020358-1775052000-1775059200@rihg.ca
SUMMARY:Half-Priced Mussels
DESCRIPTION:From 2 until 4 p.m. every day of the week\, our succulent PEI mussels are 50% of the price but still 100% of the flavour! \nYour choice of: \n\nWhite wine & garlic\nCreamy pancetta\nSpicy arribiata\nSpinach & goat cheese
URL:https://rihg.ca/event/half-priced-mussels-2020-10-04/2026-04-01/
CATEGORIES:John Brown Grille
END:VEVENT
BEGIN:VEVENT
DTSTART;TZID=America/Halifax:20260401T170000
DTEND;TZID=America/Halifax:20260401T220000
DTSTAMP:20260422T200901
CREATED:20251117T202141Z
LAST-MODIFIED:20251117T202141Z
UID:10018995-1775062800-1775080800@rihg.ca
SUMMARY:$15 Half-Rack Ribs
DESCRIPTION:Half-rack of smoked\, fall off the bone\, deliciously tender\, baby back ribs\, glazed with BBQ sauce \nPurchase of a beverage required. Dine-in only.
URL:https://rihg.ca/event/15-half-rack-ribs/2026-04-01/
CATEGORIES:John Brown Grille
END:VEVENT
BEGIN:VEVENT
DTSTART;TZID=America/Halifax:20260402T140000
DTEND;TZID=America/Halifax:20260402T160000
DTSTAMP:20260422T200901
CREATED:20200603T190545Z
LAST-MODIFIED:20251224T162430Z
UID:10020359-1775138400-1775145600@rihg.ca
SUMMARY:Half-Priced Mussels
DESCRIPTION:From 2 until 4 p.m. every day of the week\, our succulent PEI mussels are 50% of the price but still 100% of the flavour! \nYour choice of: \n\nWhite wine & garlic\nCreamy pancetta\nSpicy arribiata\nSpinach & goat cheese
URL:https://rihg.ca/event/half-priced-mussels-2020-10-04/2026-04-02/
CATEGORIES:John Brown Grille
END:VEVENT
BEGIN:VEVENT
DTSTART;TZID=America/Halifax:20260402T170000
DTEND;TZID=America/Halifax:20260402T220000
DTSTAMP:20260422T200901
CREATED:20251117T201649Z
LAST-MODIFIED:20251117T201649Z
UID:10019021-1775149200-1775167200@rihg.ca
SUMMARY:$20 Steak Sandwich
DESCRIPTION:5oz tenderloin\, sautéed portobello mushrooms & Spanish onions\, served open-faced on a grilled crostini with demi sauce \nPurchase of a beverage required. Dine-in only.
URL:https://rihg.ca/event/20-steak-sandwich/2026-04-02/
CATEGORIES:John Brown Grille
END:VEVENT
BEGIN:VEVENT
DTSTART;TZID=America/Halifax:20260403T140000
DTEND;TZID=America/Halifax:20260403T160000
DTSTAMP:20260422T200901
CREATED:20200603T190545Z
LAST-MODIFIED:20251224T162430Z
UID:10020360-1775224800-1775232000@rihg.ca
SUMMARY:Half-Priced Mussels
DESCRIPTION:From 2 until 4 p.m. every day of the week\, our succulent PEI mussels are 50% of the price but still 100% of the flavour! \nYour choice of: \n\nWhite wine & garlic\nCreamy pancetta\nSpicy arribiata\nSpinach & goat cheese
URL:https://rihg.ca/event/half-priced-mussels-2020-10-04/2026-04-03/
CATEGORIES:John Brown Grille
END:VEVENT
BEGIN:VEVENT
DTSTART;TZID=America/Halifax:20260403T170000
DTEND;TZID=America/Halifax:20260403T220000
DTSTAMP:20260422T200901
CREATED:20251117T201423Z
LAST-MODIFIED:20251117T201518Z
UID:10019047-1775235600-1775253600@rihg.ca
SUMMARY:$15 Fish & Chips
DESCRIPTION:8oz haddock filet hand-dipped in our gluten free batter\, served with our dill tartar sauce \nPurchase of a beverage required. Dine-in only.
URL:https://rihg.ca/event/15-fish-chips/2026-04-03/
CATEGORIES:John Brown Grille
END:VEVENT
BEGIN:VEVENT
DTSTART;TZID=America/Halifax:20260404T140000
DTEND;TZID=America/Halifax:20260404T160000
DTSTAMP:20260422T200901
CREATED:20200603T190545Z
LAST-MODIFIED:20251224T162430Z
UID:10020361-1775311200-1775318400@rihg.ca
SUMMARY:Half-Priced Mussels
DESCRIPTION:From 2 until 4 p.m. every day of the week\, our succulent PEI mussels are 50% of the price but still 100% of the flavour! \nYour choice of: \n\nWhite wine & garlic\nCreamy pancetta\nSpicy arribiata\nSpinach & goat cheese
URL:https://rihg.ca/event/half-priced-mussels-2020-10-04/2026-04-04/
CATEGORIES:John Brown Grille
END:VEVENT
BEGIN:VEVENT
DTSTART;TZID=America/Halifax:20260404T140000
DTEND;TZID=America/Halifax:20260404T170000
DTSTAMP:20260422T200901
CREATED:20260318T174140Z
LAST-MODIFIED:20260318T174140Z
UID:10020815-1775311200-1775322000@rihg.ca
SUMMARY:Richie & Brian
DESCRIPTION:
URL:https://rihg.ca/event/richie-brian-14/
CATEGORIES:John Brown Grille
END:VEVENT
BEGIN:VEVENT
DTSTART;TZID=America/Halifax:20260404T170000
DTEND;TZID=America/Halifax:20260404T220000
DTSTAMP:20260422T200901
CREATED:20251117T202452Z
LAST-MODIFIED:20251117T202452Z
UID:10019074-1775322000-1775340000@rihg.ca
SUMMARY:Half-Priced Nachos
DESCRIPTION:Your choice of John Brown’s Classic or Southwest Nachos for half-price? Sold! \nPurchase of a beverage required. Dine-in only.
URL:https://rihg.ca/event/half-priced-nachos/2026-04-04/
CATEGORIES:John Brown Grille
END:VEVENT
BEGIN:VEVENT
DTSTART;TZID=America/Halifax:20260404T230000
DTEND;TZID=America/Halifax:20260404T230000
DTSTAMP:20260422T200901
CREATED:20260318T174226Z
LAST-MODIFIED:20260318T174441Z
UID:10020816-1775343600-1775343600@rihg.ca
SUMMARY:DJs Purdy & Jérémie
DESCRIPTION:
URL:https://rihg.ca/event/djs-purdy-jeremie/
CATEGORIES:John Brown Grille
END:VEVENT
BEGIN:VEVENT
DTSTART;TZID=America/Halifax:20260405T140000
DTEND;TZID=America/Halifax:20260405T160000
DTSTAMP:20260422T200901
CREATED:20200603T190545Z
LAST-MODIFIED:20251224T162430Z
UID:10020362-1775397600-1775404800@rihg.ca
SUMMARY:Half-Priced Mussels
DESCRIPTION:From 2 until 4 p.m. every day of the week\, our succulent PEI mussels are 50% of the price but still 100% of the flavour! \nYour choice of: \n\nWhite wine & garlic\nCreamy pancetta\nSpicy arribiata\nSpinach & goat cheese
URL:https://rihg.ca/event/half-priced-mussels-2020-10-04/2026-04-05/
CATEGORIES:John Brown Grille
END:VEVENT
BEGIN:VEVENT
DTSTART;TZID=America/Halifax:20260405T170000
DTEND;TZID=America/Halifax:20260405T220000
DTSTAMP:20260422T200901
CREATED:20251117T205320Z
LAST-MODIFIED:20251117T205320Z
UID:10019101-1775408400-1775426400@rihg.ca
SUMMARY:2-4-1 Pub Fare
DESCRIPTION:Purchase one “Pub Fare” item and receive the second of equal or lesser value for free: https://johnbrowngrille.com/pub-fare/ \nPurchase of a beverage required. Dine-in only.
URL:https://rihg.ca/event/2-4-1-pub-fare/2026-04-05/
CATEGORIES:John Brown Grille
END:VEVENT
BEGIN:VEVENT
DTSTART;TZID=America/Halifax:20260406T140000
DTEND;TZID=America/Halifax:20260406T160000
DTSTAMP:20260422T200901
CREATED:20200603T190545Z
LAST-MODIFIED:20251224T162430Z
UID:10020363-1775484000-1775491200@rihg.ca
SUMMARY:Half-Priced Mussels
DESCRIPTION:From 2 until 4 p.m. every day of the week\, our succulent PEI mussels are 50% of the price but still 100% of the flavour! \nYour choice of: \n\nWhite wine & garlic\nCreamy pancetta\nSpicy arribiata\nSpinach & goat cheese
URL:https://rihg.ca/event/half-priced-mussels-2020-10-04/2026-04-06/
CATEGORIES:John Brown Grille
END:VEVENT
END:VCALENDAR