BEGIN:VCALENDAR
VERSION:2.0
PRODID:-//Red Island Hospitality Group Inc. - ECPv6.15.20//NONSGML v1.0//EN
CALSCALE:GREGORIAN
METHOD:PUBLISH
X-ORIGINAL-URL:https://rihg.ca
X-WR-CALDESC:Events for Red Island Hospitality Group Inc.
REFRESH-INTERVAL;VALUE=DURATION:PT1H
X-Robots-Tag:noindex
X-PUBLISHED-TTL:PT1H
BEGIN:VTIMEZONE
TZID:America/Halifax
BEGIN:DAYLIGHT
TZOFFSETFROM:-0400
TZOFFSETTO:-0300
TZNAME:ADT
DTSTART:20250309T060000
END:DAYLIGHT
BEGIN:STANDARD
TZOFFSETFROM:-0300
TZOFFSETTO:-0400
TZNAME:AST
DTSTART:20251102T050000
END:STANDARD
BEGIN:DAYLIGHT
TZOFFSETFROM:-0400
TZOFFSETTO:-0300
TZNAME:ADT
DTSTART:20260308T060000
END:DAYLIGHT
BEGIN:STANDARD
TZOFFSETFROM:-0300
TZOFFSETTO:-0400
TZNAME:AST
DTSTART:20261101T050000
END:STANDARD
BEGIN:DAYLIGHT
TZOFFSETFROM:-0400
TZOFFSETTO:-0300
TZNAME:ADT
DTSTART:20270314T060000
END:DAYLIGHT
BEGIN:STANDARD
TZOFFSETFROM:-0300
TZOFFSETTO:-0400
TZNAME:AST
DTSTART:20271107T050000
END:STANDARD
END:VTIMEZONE
BEGIN:VEVENT
DTSTART;TZID=America/Halifax:20260224T140000
DTEND;TZID=America/Halifax:20260224T160000
DTSTAMP:20260422T214748
CREATED:20200603T190545Z
LAST-MODIFIED:20251224T162430Z
UID:10020322-1771941600-1771948800@rihg.ca
SUMMARY:Half-Priced Mussels
DESCRIPTION:From 2 until 4 p.m. every day of the week\, our succulent PEI mussels are 50% of the price but still 100% of the flavour! \nYour choice of: \n\nWhite wine & garlic\nCreamy pancetta\nSpicy arribiata\nSpinach & goat cheese
URL:https://rihg.ca/event/half-priced-mussels-2020-10-04/2026-02-24/
CATEGORIES:John Brown Grille
END:VEVENT
BEGIN:VEVENT
DTSTART;TZID=America/Halifax:20260223T170000
DTEND;TZID=America/Halifax:20260223T220000
DTSTAMP:20260422T214748
CREATED:20251117T195645Z
LAST-MODIFIED:20251117T195645Z
UID:10018963-1771866000-1771884000@rihg.ca
SUMMARY:Half Priced Apps
DESCRIPTION:Select appetizers available for 50% off. \nLots of tasty appetizers to choose from: https://johnbrowngrille.com/appetizers/ \nPurchase of a beverage required. Dine-in only.
URL:https://rihg.ca/event/half-priced-apps-2/2026-02-23/
CATEGORIES:John Brown Grille
END:VEVENT
BEGIN:VEVENT
DTSTART;TZID=America/Halifax:20260223T140000
DTEND;TZID=America/Halifax:20260223T160000
DTSTAMP:20260422T214748
CREATED:20200603T190545Z
LAST-MODIFIED:20251224T162430Z
UID:10020321-1771855200-1771862400@rihg.ca
SUMMARY:Half-Priced Mussels
DESCRIPTION:From 2 until 4 p.m. every day of the week\, our succulent PEI mussels are 50% of the price but still 100% of the flavour! \nYour choice of: \n\nWhite wine & garlic\nCreamy pancetta\nSpicy arribiata\nSpinach & goat cheese
URL:https://rihg.ca/event/half-priced-mussels-2020-10-04/2026-02-23/
CATEGORIES:John Brown Grille
END:VEVENT
BEGIN:VEVENT
DTSTART;TZID=America/Halifax:20260222T170000
DTEND;TZID=America/Halifax:20260222T220000
DTSTAMP:20260422T214748
CREATED:20251117T205320Z
LAST-MODIFIED:20251117T205320Z
UID:10019095-1771779600-1771797600@rihg.ca
SUMMARY:2-4-1 Pub Fare
DESCRIPTION:Purchase one “Pub Fare” item and receive the second of equal or lesser value for free: https://johnbrowngrille.com/pub-fare/ \nPurchase of a beverage required. Dine-in only.
URL:https://rihg.ca/event/2-4-1-pub-fare/2026-02-22/
CATEGORIES:John Brown Grille
END:VEVENT
BEGIN:VEVENT
DTSTART;TZID=America/Halifax:20260222T140000
DTEND;TZID=America/Halifax:20260222T160000
DTSTAMP:20260422T214748
CREATED:20200603T190545Z
LAST-MODIFIED:20251224T162430Z
UID:10020320-1771768800-1771776000@rihg.ca
SUMMARY:Half-Priced Mussels
DESCRIPTION:From 2 until 4 p.m. every day of the week\, our succulent PEI mussels are 50% of the price but still 100% of the flavour! \nYour choice of: \n\nWhite wine & garlic\nCreamy pancetta\nSpicy arribiata\nSpinach & goat cheese
URL:https://rihg.ca/event/half-priced-mussels-2020-10-04/2026-02-22/
CATEGORIES:John Brown Grille
END:VEVENT
BEGIN:VEVENT
DTSTART;TZID=America/Halifax:20260221T230000
DTEND;TZID=America/Halifax:20260221T230000
DTSTAMP:20260422T214748
CREATED:20251224T165310Z
LAST-MODIFIED:20251224T165310Z
UID:10020647-1771714800-1771714800@rihg.ca
SUMMARY:DJ MöJö
DESCRIPTION:
URL:https://rihg.ca/event/dj-mojo-7/
CATEGORIES:John Brown Grille
END:VEVENT
BEGIN:VEVENT
DTSTART;TZID=America/Halifax:20260221T170000
DTEND;TZID=America/Halifax:20260221T220000
DTSTAMP:20260422T214748
CREATED:20251117T202452Z
LAST-MODIFIED:20251117T202452Z
UID:10019068-1771693200-1771711200@rihg.ca
SUMMARY:Half-Priced Nachos
DESCRIPTION:Your choice of John Brown’s Classic or Southwest Nachos for half-price? Sold! \nPurchase of a beverage required. Dine-in only.
URL:https://rihg.ca/event/half-priced-nachos/2026-02-21/
CATEGORIES:John Brown Grille
END:VEVENT
BEGIN:VEVENT
DTSTART;TZID=America/Halifax:20260221T140000
DTEND;TZID=America/Halifax:20260221T170000
DTSTAMP:20260422T214748
CREATED:20251224T165216Z
LAST-MODIFIED:20251224T165240Z
UID:10020646-1771682400-1771693200@rihg.ca
SUMMARY:Dave Woodside
DESCRIPTION:
URL:https://rihg.ca/event/dave-woodside-10/
CATEGORIES:John Brown Grille
END:VEVENT
BEGIN:VEVENT
DTSTART;TZID=America/Halifax:20260221T140000
DTEND;TZID=America/Halifax:20260221T160000
DTSTAMP:20260422T214748
CREATED:20200603T190545Z
LAST-MODIFIED:20251224T162430Z
UID:10020319-1771682400-1771689600@rihg.ca
SUMMARY:Half-Priced Mussels
DESCRIPTION:From 2 until 4 p.m. every day of the week\, our succulent PEI mussels are 50% of the price but still 100% of the flavour! \nYour choice of: \n\nWhite wine & garlic\nCreamy pancetta\nSpicy arribiata\nSpinach & goat cheese
URL:https://rihg.ca/event/half-priced-mussels-2020-10-04/2026-02-21/
CATEGORIES:John Brown Grille
END:VEVENT
BEGIN:VEVENT
DTSTART;TZID=America/Halifax:20260220T170000
DTEND;TZID=America/Halifax:20260220T220000
DTSTAMP:20260422T214748
CREATED:20251117T201423Z
LAST-MODIFIED:20251117T201518Z
UID:10019041-1771606800-1771624800@rihg.ca
SUMMARY:$15 Fish & Chips
DESCRIPTION:8oz haddock filet hand-dipped in our gluten free batter\, served with our dill tartar sauce \nPurchase of a beverage required. Dine-in only.
URL:https://rihg.ca/event/15-fish-chips/2026-02-20/
CATEGORIES:John Brown Grille
END:VEVENT
BEGIN:VEVENT
DTSTART;TZID=America/Halifax:20260220T140000
DTEND;TZID=America/Halifax:20260220T160000
DTSTAMP:20260422T214748
CREATED:20200603T190545Z
LAST-MODIFIED:20251224T162430Z
UID:10020318-1771596000-1771603200@rihg.ca
SUMMARY:Half-Priced Mussels
DESCRIPTION:From 2 until 4 p.m. every day of the week\, our succulent PEI mussels are 50% of the price but still 100% of the flavour! \nYour choice of: \n\nWhite wine & garlic\nCreamy pancetta\nSpicy arribiata\nSpinach & goat cheese
URL:https://rihg.ca/event/half-priced-mussels-2020-10-04/2026-02-20/
CATEGORIES:John Brown Grille
END:VEVENT
BEGIN:VEVENT
DTSTART;TZID=America/Halifax:20260219T170000
DTEND;TZID=America/Halifax:20260219T220000
DTSTAMP:20260422T214748
CREATED:20251117T201649Z
LAST-MODIFIED:20251117T201649Z
UID:10019015-1771520400-1771538400@rihg.ca
SUMMARY:$20 Steak Sandwich
DESCRIPTION:5oz tenderloin\, sautéed portobello mushrooms & Spanish onions\, served open-faced on a grilled crostini with demi sauce \nPurchase of a beverage required. Dine-in only.
URL:https://rihg.ca/event/20-steak-sandwich/2026-02-19/
CATEGORIES:John Brown Grille
END:VEVENT
BEGIN:VEVENT
DTSTART;TZID=America/Halifax:20260219T140000
DTEND;TZID=America/Halifax:20260219T160000
DTSTAMP:20260422T214748
CREATED:20200603T190545Z
LAST-MODIFIED:20251224T162430Z
UID:10020317-1771509600-1771516800@rihg.ca
SUMMARY:Half-Priced Mussels
DESCRIPTION:From 2 until 4 p.m. every day of the week\, our succulent PEI mussels are 50% of the price but still 100% of the flavour! \nYour choice of: \n\nWhite wine & garlic\nCreamy pancetta\nSpicy arribiata\nSpinach & goat cheese
URL:https://rihg.ca/event/half-priced-mussels-2020-10-04/2026-02-19/
CATEGORIES:John Brown Grille
END:VEVENT
BEGIN:VEVENT
DTSTART;TZID=America/Halifax:20260218T170000
DTEND;TZID=America/Halifax:20260218T220000
DTSTAMP:20260422T214748
CREATED:20251117T202141Z
LAST-MODIFIED:20251117T202141Z
UID:10018989-1771434000-1771452000@rihg.ca
SUMMARY:$15 Half-Rack Ribs
DESCRIPTION:Half-rack of smoked\, fall off the bone\, deliciously tender\, baby back ribs\, glazed with BBQ sauce \nPurchase of a beverage required. Dine-in only.
URL:https://rihg.ca/event/15-half-rack-ribs/2026-02-18/
CATEGORIES:John Brown Grille
END:VEVENT
BEGIN:VEVENT
DTSTART;TZID=America/Halifax:20260218T140000
DTEND;TZID=America/Halifax:20260218T160000
DTSTAMP:20260422T214748
CREATED:20200603T190545Z
LAST-MODIFIED:20251224T162430Z
UID:10020316-1771423200-1771430400@rihg.ca
SUMMARY:Half-Priced Mussels
DESCRIPTION:From 2 until 4 p.m. every day of the week\, our succulent PEI mussels are 50% of the price but still 100% of the flavour! \nYour choice of: \n\nWhite wine & garlic\nCreamy pancetta\nSpicy arribiata\nSpinach & goat cheese
URL:https://rihg.ca/event/half-priced-mussels-2020-10-04/2026-02-18/
CATEGORIES:John Brown Grille
END:VEVENT
BEGIN:VEVENT
DTSTART;TZID=America/Halifax:20260217T170000
DTEND;TZID=America/Halifax:20260217T220000
DTSTAMP:20260422T214748
CREATED:20251117T200059Z
LAST-MODIFIED:20251224T162236Z
UID:10020257-1771347600-1771365600@rihg.ca
SUMMARY:2-4-1 Wings
DESCRIPTION:Three delicious sauce options: \n\n\n\n\nlemon pepper  |  sriracha  |  herbed butter and parmesan  |  maple bourbon  |  JB’s picante\n\n\n\n\nShare some delicious JB’s wings with a friend\, or keep them all to yourself. We’re not judging! \nPurchase of a beverage required. Dine-in only.
URL:https://rihg.ca/event/2-4-1-wings-3/2026-02-17/
CATEGORIES:John Brown Grille
END:VEVENT
BEGIN:VEVENT
DTSTART;TZID=America/Halifax:20260217T170000
DTEND;TZID=America/Halifax:20260217T200000
DTSTAMP:20260422T214748
CREATED:20251224T165144Z
LAST-MODIFIED:20251224T165144Z
UID:10020645-1771347600-1771358400@rihg.ca
SUMMARY:Adam & Liam
DESCRIPTION:
URL:https://rihg.ca/event/adam-liam-22/
CATEGORIES:John Brown Grille
END:VEVENT
BEGIN:VEVENT
DTSTART;TZID=America/Halifax:20260217T140000
DTEND;TZID=America/Halifax:20260217T160000
DTSTAMP:20260422T214748
CREATED:20200603T190545Z
LAST-MODIFIED:20251224T162430Z
UID:10020315-1771336800-1771344000@rihg.ca
SUMMARY:Half-Priced Mussels
DESCRIPTION:From 2 until 4 p.m. every day of the week\, our succulent PEI mussels are 50% of the price but still 100% of the flavour! \nYour choice of: \n\nWhite wine & garlic\nCreamy pancetta\nSpicy arribiata\nSpinach & goat cheese
URL:https://rihg.ca/event/half-priced-mussels-2020-10-04/2026-02-17/
CATEGORIES:John Brown Grille
END:VEVENT
BEGIN:VEVENT
DTSTART;TZID=America/Halifax:20260216T170000
DTEND;TZID=America/Halifax:20260216T220000
DTSTAMP:20260422T214748
CREATED:20251117T195645Z
LAST-MODIFIED:20251117T195645Z
UID:10018962-1771261200-1771279200@rihg.ca
SUMMARY:Half Priced Apps
DESCRIPTION:Select appetizers available for 50% off. \nLots of tasty appetizers to choose from: https://johnbrowngrille.com/appetizers/ \nPurchase of a beverage required. Dine-in only.
URL:https://rihg.ca/event/half-priced-apps-2/2026-02-16/
CATEGORIES:John Brown Grille
END:VEVENT
BEGIN:VEVENT
DTSTART;TZID=America/Halifax:20260216T140000
DTEND;TZID=America/Halifax:20260216T160000
DTSTAMP:20260422T214748
CREATED:20200603T190545Z
LAST-MODIFIED:20251224T162430Z
UID:10020314-1771250400-1771257600@rihg.ca
SUMMARY:Half-Priced Mussels
DESCRIPTION:From 2 until 4 p.m. every day of the week\, our succulent PEI mussels are 50% of the price but still 100% of the flavour! \nYour choice of: \n\nWhite wine & garlic\nCreamy pancetta\nSpicy arribiata\nSpinach & goat cheese
URL:https://rihg.ca/event/half-priced-mussels-2020-10-04/2026-02-16/
CATEGORIES:John Brown Grille
END:VEVENT
BEGIN:VEVENT
DTSTART;TZID=America/Halifax:20260215T170000
DTEND;TZID=America/Halifax:20260215T220000
DTSTAMP:20260422T214748
CREATED:20251117T205320Z
LAST-MODIFIED:20251117T205320Z
UID:10019094-1771174800-1771192800@rihg.ca
SUMMARY:2-4-1 Pub Fare
DESCRIPTION:Purchase one “Pub Fare” item and receive the second of equal or lesser value for free: https://johnbrowngrille.com/pub-fare/ \nPurchase of a beverage required. Dine-in only.
URL:https://rihg.ca/event/2-4-1-pub-fare/2026-02-15/
CATEGORIES:John Brown Grille
END:VEVENT
BEGIN:VEVENT
DTSTART;TZID=America/Halifax:20260215T140000
DTEND;TZID=America/Halifax:20260215T160000
DTSTAMP:20260422T214748
CREATED:20200603T190545Z
LAST-MODIFIED:20251224T162430Z
UID:10020313-1771164000-1771171200@rihg.ca
SUMMARY:Half-Priced Mussels
DESCRIPTION:From 2 until 4 p.m. every day of the week\, our succulent PEI mussels are 50% of the price but still 100% of the flavour! \nYour choice of: \n\nWhite wine & garlic\nCreamy pancetta\nSpicy arribiata\nSpinach & goat cheese
URL:https://rihg.ca/event/half-priced-mussels-2020-10-04/2026-02-15/
CATEGORIES:John Brown Grille
END:VEVENT
BEGIN:VEVENT
DTSTART;TZID=America/Halifax:20260214T230000
DTEND;TZID=America/Halifax:20260214T230000
DTSTAMP:20260422T214748
CREATED:20251224T165118Z
LAST-MODIFIED:20251224T165118Z
UID:10020644-1771110000-1771110000@rihg.ca
SUMMARY:DJ Dekz
DESCRIPTION:
URL:https://rihg.ca/event/dj-dekz-6/
CATEGORIES:John Brown Grille
END:VEVENT
BEGIN:VEVENT
DTSTART;TZID=America/Halifax:20260214T180000
DTEND;TZID=America/Halifax:20260214T210000
DTSTAMP:20260422T214748
CREATED:20251224T165052Z
LAST-MODIFIED:20251224T165052Z
UID:10020643-1771092000-1771102800@rihg.ca
SUMMARY:Stratton & Kays
DESCRIPTION:
URL:https://rihg.ca/event/stratton-kays-13/
CATEGORIES:John Brown Grille
END:VEVENT
BEGIN:VEVENT
DTSTART;TZID=America/Halifax:20260214T170000
DTEND;TZID=America/Halifax:20260214T220000
DTSTAMP:20260422T214748
CREATED:20251117T202452Z
LAST-MODIFIED:20251117T202452Z
UID:10019067-1771088400-1771106400@rihg.ca
SUMMARY:Half-Priced Nachos
DESCRIPTION:Your choice of John Brown’s Classic or Southwest Nachos for half-price? Sold! \nPurchase of a beverage required. Dine-in only.
URL:https://rihg.ca/event/half-priced-nachos/2026-02-14/
CATEGORIES:John Brown Grille
END:VEVENT
BEGIN:VEVENT
DTSTART;TZID=America/Halifax:20260214T140000
DTEND;TZID=America/Halifax:20260214T160000
DTSTAMP:20260422T214748
CREATED:20200603T190545Z
LAST-MODIFIED:20251224T162430Z
UID:10020312-1771077600-1771084800@rihg.ca
SUMMARY:Half-Priced Mussels
DESCRIPTION:From 2 until 4 p.m. every day of the week\, our succulent PEI mussels are 50% of the price but still 100% of the flavour! \nYour choice of: \n\nWhite wine & garlic\nCreamy pancetta\nSpicy arribiata\nSpinach & goat cheese
URL:https://rihg.ca/event/half-priced-mussels-2020-10-04/2026-02-14/
CATEGORIES:John Brown Grille
END:VEVENT
BEGIN:VEVENT
DTSTART;TZID=America/Halifax:20260213T170000
DTEND;TZID=America/Halifax:20260213T220000
DTSTAMP:20260422T214748
CREATED:20251117T201423Z
LAST-MODIFIED:20251117T201518Z
UID:10019040-1771002000-1771020000@rihg.ca
SUMMARY:$15 Fish & Chips
DESCRIPTION:8oz haddock filet hand-dipped in our gluten free batter\, served with our dill tartar sauce \nPurchase of a beverage required. Dine-in only.
URL:https://rihg.ca/event/15-fish-chips/2026-02-13/
CATEGORIES:John Brown Grille
END:VEVENT
BEGIN:VEVENT
DTSTART;TZID=America/Halifax:20260213T140000
DTEND;TZID=America/Halifax:20260213T160000
DTSTAMP:20260422T214748
CREATED:20200603T190545Z
LAST-MODIFIED:20251224T162430Z
UID:10020311-1770991200-1770998400@rihg.ca
SUMMARY:Half-Priced Mussels
DESCRIPTION:From 2 until 4 p.m. every day of the week\, our succulent PEI mussels are 50% of the price but still 100% of the flavour! \nYour choice of: \n\nWhite wine & garlic\nCreamy pancetta\nSpicy arribiata\nSpinach & goat cheese
URL:https://rihg.ca/event/half-priced-mussels-2020-10-04/2026-02-13/
CATEGORIES:John Brown Grille
END:VEVENT
BEGIN:VEVENT
DTSTART;TZID=America/Halifax:20260212T170000
DTEND;TZID=America/Halifax:20260212T220000
DTSTAMP:20260422T214748
CREATED:20251117T201649Z
LAST-MODIFIED:20251117T201649Z
UID:10019014-1770915600-1770933600@rihg.ca
SUMMARY:$20 Steak Sandwich
DESCRIPTION:5oz tenderloin\, sautéed portobello mushrooms & Spanish onions\, served open-faced on a grilled crostini with demi sauce \nPurchase of a beverage required. Dine-in only.
URL:https://rihg.ca/event/20-steak-sandwich/2026-02-12/
CATEGORIES:John Brown Grille
END:VEVENT
BEGIN:VEVENT
DTSTART;TZID=America/Halifax:20260212T140000
DTEND;TZID=America/Halifax:20260212T160000
DTSTAMP:20260422T214748
CREATED:20200603T190545Z
LAST-MODIFIED:20251224T162430Z
UID:10020310-1770904800-1770912000@rihg.ca
SUMMARY:Half-Priced Mussels
DESCRIPTION:From 2 until 4 p.m. every day of the week\, our succulent PEI mussels are 50% of the price but still 100% of the flavour! \nYour choice of: \n\nWhite wine & garlic\nCreamy pancetta\nSpicy arribiata\nSpinach & goat cheese
URL:https://rihg.ca/event/half-priced-mussels-2020-10-04/2026-02-12/
CATEGORIES:John Brown Grille
END:VEVENT
END:VCALENDAR