BEGIN:VCALENDAR
VERSION:2.0
PRODID:-//Red Island Hospitality Group Inc. - ECPv6.15.20//NONSGML v1.0//EN
CALSCALE:GREGORIAN
METHOD:PUBLISH
X-WR-CALNAME:Red Island Hospitality Group Inc.
X-ORIGINAL-URL:https://rihg.ca
X-WR-CALDESC:Events for Red Island Hospitality Group Inc.
REFRESH-INTERVAL;VALUE=DURATION:PT1H
X-Robots-Tag:noindex
X-PUBLISHED-TTL:PT1H
BEGIN:VTIMEZONE
TZID:America/Halifax
BEGIN:DAYLIGHT
TZOFFSETFROM:-0400
TZOFFSETTO:-0300
TZNAME:ADT
DTSTART:20250309T060000
END:DAYLIGHT
BEGIN:STANDARD
TZOFFSETFROM:-0300
TZOFFSETTO:-0400
TZNAME:AST
DTSTART:20251102T050000
END:STANDARD
BEGIN:DAYLIGHT
TZOFFSETFROM:-0400
TZOFFSETTO:-0300
TZNAME:ADT
DTSTART:20260308T060000
END:DAYLIGHT
BEGIN:STANDARD
TZOFFSETFROM:-0300
TZOFFSETTO:-0400
TZNAME:AST
DTSTART:20261101T050000
END:STANDARD
BEGIN:DAYLIGHT
TZOFFSETFROM:-0400
TZOFFSETTO:-0300
TZNAME:ADT
DTSTART:20270314T060000
END:DAYLIGHT
BEGIN:STANDARD
TZOFFSETFROM:-0300
TZOFFSETTO:-0400
TZNAME:AST
DTSTART:20271107T050000
END:STANDARD
END:VTIMEZONE
BEGIN:VEVENT
DTSTART;TZID=America/Halifax:20260121T140000
DTEND;TZID=America/Halifax:20260121T160000
DTSTAMP:20260423T114841
CREATED:20200603T190545Z
LAST-MODIFIED:20251224T162430Z
UID:10020288-1769004000-1769011200@rihg.ca
SUMMARY:Half-Priced Mussels
DESCRIPTION:From 2 until 4 p.m. every day of the week\, our succulent PEI mussels are 50% of the price but still 100% of the flavour! \nYour choice of: \n\nWhite wine & garlic\nCreamy pancetta\nSpicy arribiata\nSpinach & goat cheese
URL:https://rihg.ca/event/half-priced-mussels-2020-10-04/2026-01-21/
CATEGORIES:John Brown Grille
END:VEVENT
BEGIN:VEVENT
DTSTART;TZID=America/Halifax:20260120T170000
DTEND;TZID=America/Halifax:20260120T220000
DTSTAMP:20260423T114841
CREATED:20251117T200059Z
LAST-MODIFIED:20251224T162236Z
UID:10020253-1768928400-1768946400@rihg.ca
SUMMARY:2-4-1 Wings
DESCRIPTION:Three delicious sauce options: \n\n\n\n\nlemon pepper  |  sriracha  |  herbed butter and parmesan  |  maple bourbon  |  JB’s picante\n\n\n\n\nShare some delicious JB’s wings with a friend\, or keep them all to yourself. We’re not judging! \nPurchase of a beverage required. Dine-in only.
URL:https://rihg.ca/event/2-4-1-wings-3/2026-01-20/
CATEGORIES:John Brown Grille
END:VEVENT
BEGIN:VEVENT
DTSTART;TZID=America/Halifax:20260120T140000
DTEND;TZID=America/Halifax:20260120T160000
DTSTAMP:20260423T114841
CREATED:20200603T190545Z
LAST-MODIFIED:20251224T162430Z
UID:10020287-1768917600-1768924800@rihg.ca
SUMMARY:Half-Priced Mussels
DESCRIPTION:From 2 until 4 p.m. every day of the week\, our succulent PEI mussels are 50% of the price but still 100% of the flavour! \nYour choice of: \n\nWhite wine & garlic\nCreamy pancetta\nSpicy arribiata\nSpinach & goat cheese
URL:https://rihg.ca/event/half-priced-mussels-2020-10-04/2026-01-20/
CATEGORIES:John Brown Grille
END:VEVENT
BEGIN:VEVENT
DTSTART;TZID=America/Halifax:20260119T170000
DTEND;TZID=America/Halifax:20260119T220000
DTSTAMP:20260423T114841
CREATED:20251117T195645Z
LAST-MODIFIED:20251117T195645Z
UID:10018958-1768842000-1768860000@rihg.ca
SUMMARY:Half Priced Apps
DESCRIPTION:Select appetizers available for 50% off. \nLots of tasty appetizers to choose from: https://johnbrowngrille.com/appetizers/ \nPurchase of a beverage required. Dine-in only.
URL:https://rihg.ca/event/half-priced-apps-2/2026-01-19/
CATEGORIES:John Brown Grille
END:VEVENT
BEGIN:VEVENT
DTSTART;TZID=America/Halifax:20260119T140000
DTEND;TZID=America/Halifax:20260119T160000
DTSTAMP:20260423T114841
CREATED:20200603T190545Z
LAST-MODIFIED:20251224T162430Z
UID:10020286-1768831200-1768838400@rihg.ca
SUMMARY:Half-Priced Mussels
DESCRIPTION:From 2 until 4 p.m. every day of the week\, our succulent PEI mussels are 50% of the price but still 100% of the flavour! \nYour choice of: \n\nWhite wine & garlic\nCreamy pancetta\nSpicy arribiata\nSpinach & goat cheese
URL:https://rihg.ca/event/half-priced-mussels-2020-10-04/2026-01-19/
CATEGORIES:John Brown Grille
END:VEVENT
BEGIN:VEVENT
DTSTART;TZID=America/Halifax:20260118T170000
DTEND;TZID=America/Halifax:20260118T220000
DTSTAMP:20260423T114841
CREATED:20251117T205320Z
LAST-MODIFIED:20251117T205320Z
UID:10019090-1768755600-1768773600@rihg.ca
SUMMARY:2-4-1 Pub Fare
DESCRIPTION:Purchase one “Pub Fare” item and receive the second of equal or lesser value for free: https://johnbrowngrille.com/pub-fare/ \nPurchase of a beverage required. Dine-in only.
URL:https://rihg.ca/event/2-4-1-pub-fare/2026-01-18/
CATEGORIES:John Brown Grille
END:VEVENT
BEGIN:VEVENT
DTSTART;TZID=America/Halifax:20260118T140000
DTEND;TZID=America/Halifax:20260118T160000
DTSTAMP:20260423T114841
CREATED:20200603T190545Z
LAST-MODIFIED:20251224T162430Z
UID:10020285-1768744800-1768752000@rihg.ca
SUMMARY:Half-Priced Mussels
DESCRIPTION:From 2 until 4 p.m. every day of the week\, our succulent PEI mussels are 50% of the price but still 100% of the flavour! \nYour choice of: \n\nWhite wine & garlic\nCreamy pancetta\nSpicy arribiata\nSpinach & goat cheese
URL:https://rihg.ca/event/half-priced-mussels-2020-10-04/2026-01-18/
CATEGORIES:John Brown Grille
END:VEVENT
BEGIN:VEVENT
DTSTART;TZID=America/Halifax:20260117T230000
DTEND;TZID=America/Halifax:20260117T230000
DTSTAMP:20260423T114841
CREATED:20251224T164717Z
LAST-MODIFIED:20251224T164717Z
UID:10020636-1768690800-1768690800@rihg.ca
SUMMARY:DJ MöJö
DESCRIPTION:
URL:https://rihg.ca/event/dj-mojo-6/
CATEGORIES:John Brown Grille
END:VEVENT
BEGIN:VEVENT
DTSTART;TZID=America/Halifax:20260117T170000
DTEND;TZID=America/Halifax:20260117T220000
DTSTAMP:20260423T114841
CREATED:20251117T202452Z
LAST-MODIFIED:20251117T202452Z
UID:10019063-1768669200-1768687200@rihg.ca
SUMMARY:Half-Priced Nachos
DESCRIPTION:Your choice of John Brown’s Classic or Southwest Nachos for half-price? Sold! \nPurchase of a beverage required. Dine-in only.
URL:https://rihg.ca/event/half-priced-nachos/2026-01-17/
CATEGORIES:John Brown Grille
END:VEVENT
BEGIN:VEVENT
DTSTART;TZID=America/Halifax:20260117T140000
DTEND;TZID=America/Halifax:20260117T170000
DTSTAMP:20260423T114841
CREATED:20251224T164623Z
LAST-MODIFIED:20251224T164623Z
UID:10020635-1768658400-1768669200@rihg.ca
SUMMARY:Stratton & Kays
DESCRIPTION:
URL:https://rihg.ca/event/stratton-kays-12/
CATEGORIES:John Brown Grille
END:VEVENT
BEGIN:VEVENT
DTSTART;TZID=America/Halifax:20260117T140000
DTEND;TZID=America/Halifax:20260117T160000
DTSTAMP:20260423T114841
CREATED:20200603T190545Z
LAST-MODIFIED:20251224T162430Z
UID:10020284-1768658400-1768665600@rihg.ca
SUMMARY:Half-Priced Mussels
DESCRIPTION:From 2 until 4 p.m. every day of the week\, our succulent PEI mussels are 50% of the price but still 100% of the flavour! \nYour choice of: \n\nWhite wine & garlic\nCreamy pancetta\nSpicy arribiata\nSpinach & goat cheese
URL:https://rihg.ca/event/half-priced-mussels-2020-10-04/2026-01-17/
CATEGORIES:John Brown Grille
END:VEVENT
BEGIN:VEVENT
DTSTART;TZID=America/Halifax:20260116T170000
DTEND;TZID=America/Halifax:20260116T220000
DTSTAMP:20260423T114841
CREATED:20251117T201423Z
LAST-MODIFIED:20251117T201518Z
UID:10019036-1768582800-1768600800@rihg.ca
SUMMARY:$15 Fish & Chips
DESCRIPTION:8oz haddock filet hand-dipped in our gluten free batter\, served with our dill tartar sauce \nPurchase of a beverage required. Dine-in only.
URL:https://rihg.ca/event/15-fish-chips/2026-01-16/
CATEGORIES:John Brown Grille
END:VEVENT
BEGIN:VEVENT
DTSTART;TZID=America/Halifax:20260116T140000
DTEND;TZID=America/Halifax:20260116T160000
DTSTAMP:20260423T114841
CREATED:20200603T190545Z
LAST-MODIFIED:20251224T162430Z
UID:10020283-1768572000-1768579200@rihg.ca
SUMMARY:Half-Priced Mussels
DESCRIPTION:From 2 until 4 p.m. every day of the week\, our succulent PEI mussels are 50% of the price but still 100% of the flavour! \nYour choice of: \n\nWhite wine & garlic\nCreamy pancetta\nSpicy arribiata\nSpinach & goat cheese
URL:https://rihg.ca/event/half-priced-mussels-2020-10-04/2026-01-16/
CATEGORIES:John Brown Grille
END:VEVENT
BEGIN:VEVENT
DTSTART;TZID=America/Halifax:20260115T170000
DTEND;TZID=America/Halifax:20260115T220000
DTSTAMP:20260423T114841
CREATED:20251117T201649Z
LAST-MODIFIED:20251117T201649Z
UID:10019010-1768496400-1768514400@rihg.ca
SUMMARY:$20 Steak Sandwich
DESCRIPTION:5oz tenderloin\, sautéed portobello mushrooms & Spanish onions\, served open-faced on a grilled crostini with demi sauce \nPurchase of a beverage required. Dine-in only.
URL:https://rihg.ca/event/20-steak-sandwich/2026-01-15/
CATEGORIES:John Brown Grille
END:VEVENT
BEGIN:VEVENT
DTSTART;TZID=America/Halifax:20260115T140000
DTEND;TZID=America/Halifax:20260115T160000
DTSTAMP:20260423T114841
CREATED:20200603T190545Z
LAST-MODIFIED:20251224T162430Z
UID:10020282-1768485600-1768492800@rihg.ca
SUMMARY:Half-Priced Mussels
DESCRIPTION:From 2 until 4 p.m. every day of the week\, our succulent PEI mussels are 50% of the price but still 100% of the flavour! \nYour choice of: \n\nWhite wine & garlic\nCreamy pancetta\nSpicy arribiata\nSpinach & goat cheese
URL:https://rihg.ca/event/half-priced-mussels-2020-10-04/2026-01-15/
CATEGORIES:John Brown Grille
END:VEVENT
BEGIN:VEVENT
DTSTART;TZID=America/Halifax:20260114T170000
DTEND;TZID=America/Halifax:20260114T220000
DTSTAMP:20260423T114841
CREATED:20251117T202141Z
LAST-MODIFIED:20251117T202141Z
UID:10018984-1768410000-1768428000@rihg.ca
SUMMARY:$15 Half-Rack Ribs
DESCRIPTION:Half-rack of smoked\, fall off the bone\, deliciously tender\, baby back ribs\, glazed with BBQ sauce \nPurchase of a beverage required. Dine-in only.
URL:https://rihg.ca/event/15-half-rack-ribs/2026-01-14/
CATEGORIES:John Brown Grille
END:VEVENT
BEGIN:VEVENT
DTSTART;TZID=America/Halifax:20260114T140000
DTEND;TZID=America/Halifax:20260114T160000
DTSTAMP:20260423T114841
CREATED:20200603T190545Z
LAST-MODIFIED:20251224T162430Z
UID:10020281-1768399200-1768406400@rihg.ca
SUMMARY:Half-Priced Mussels
DESCRIPTION:From 2 until 4 p.m. every day of the week\, our succulent PEI mussels are 50% of the price but still 100% of the flavour! \nYour choice of: \n\nWhite wine & garlic\nCreamy pancetta\nSpicy arribiata\nSpinach & goat cheese
URL:https://rihg.ca/event/half-priced-mussels-2020-10-04/2026-01-14/
CATEGORIES:John Brown Grille
END:VEVENT
BEGIN:VEVENT
DTSTART;TZID=America/Halifax:20260113T170000
DTEND;TZID=America/Halifax:20260113T220000
DTSTAMP:20260423T114841
CREATED:20251117T200059Z
LAST-MODIFIED:20251224T162236Z
UID:10020252-1768323600-1768341600@rihg.ca
SUMMARY:2-4-1 Wings
DESCRIPTION:Three delicious sauce options: \n\n\n\n\nlemon pepper  |  sriracha  |  herbed butter and parmesan  |  maple bourbon  |  JB’s picante\n\n\n\n\nShare some delicious JB’s wings with a friend\, or keep them all to yourself. We’re not judging! \nPurchase of a beverage required. Dine-in only.
URL:https://rihg.ca/event/2-4-1-wings-3/2026-01-13/
CATEGORIES:John Brown Grille
END:VEVENT
BEGIN:VEVENT
DTSTART;TZID=America/Halifax:20260113T140000
DTEND;TZID=America/Halifax:20260113T160000
DTSTAMP:20260423T114841
CREATED:20200603T190545Z
LAST-MODIFIED:20251224T162430Z
UID:10020280-1768312800-1768320000@rihg.ca
SUMMARY:Half-Priced Mussels
DESCRIPTION:From 2 until 4 p.m. every day of the week\, our succulent PEI mussels are 50% of the price but still 100% of the flavour! \nYour choice of: \n\nWhite wine & garlic\nCreamy pancetta\nSpicy arribiata\nSpinach & goat cheese
URL:https://rihg.ca/event/half-priced-mussels-2020-10-04/2026-01-13/
CATEGORIES:John Brown Grille
END:VEVENT
BEGIN:VEVENT
DTSTART;TZID=America/Halifax:20260112T170000
DTEND;TZID=America/Halifax:20260112T220000
DTSTAMP:20260423T114841
CREATED:20251117T195645Z
LAST-MODIFIED:20251117T195645Z
UID:10018957-1768237200-1768255200@rihg.ca
SUMMARY:Half Priced Apps
DESCRIPTION:Select appetizers available for 50% off. \nLots of tasty appetizers to choose from: https://johnbrowngrille.com/appetizers/ \nPurchase of a beverage required. Dine-in only.
URL:https://rihg.ca/event/half-priced-apps-2/2026-01-12/
CATEGORIES:John Brown Grille
END:VEVENT
BEGIN:VEVENT
DTSTART;TZID=America/Halifax:20260112T140000
DTEND;TZID=America/Halifax:20260112T160000
DTSTAMP:20260423T114841
CREATED:20200603T190545Z
LAST-MODIFIED:20251224T162430Z
UID:10020279-1768226400-1768233600@rihg.ca
SUMMARY:Half-Priced Mussels
DESCRIPTION:From 2 until 4 p.m. every day of the week\, our succulent PEI mussels are 50% of the price but still 100% of the flavour! \nYour choice of: \n\nWhite wine & garlic\nCreamy pancetta\nSpicy arribiata\nSpinach & goat cheese
URL:https://rihg.ca/event/half-priced-mussels-2020-10-04/2026-01-12/
CATEGORIES:John Brown Grille
END:VEVENT
BEGIN:VEVENT
DTSTART;TZID=America/Halifax:20260111T170000
DTEND;TZID=America/Halifax:20260111T220000
DTSTAMP:20260423T114841
CREATED:20251117T205320Z
LAST-MODIFIED:20251117T205320Z
UID:10019089-1768150800-1768168800@rihg.ca
SUMMARY:2-4-1 Pub Fare
DESCRIPTION:Purchase one “Pub Fare” item and receive the second of equal or lesser value for free: https://johnbrowngrille.com/pub-fare/ \nPurchase of a beverage required. Dine-in only.
URL:https://rihg.ca/event/2-4-1-pub-fare/2026-01-11/
CATEGORIES:John Brown Grille
END:VEVENT
BEGIN:VEVENT
DTSTART;TZID=America/Halifax:20260111T140000
DTEND;TZID=America/Halifax:20260111T160000
DTSTAMP:20260423T114841
CREATED:20200603T190545Z
LAST-MODIFIED:20251224T162430Z
UID:10020278-1768140000-1768147200@rihg.ca
SUMMARY:Half-Priced Mussels
DESCRIPTION:From 2 until 4 p.m. every day of the week\, our succulent PEI mussels are 50% of the price but still 100% of the flavour! \nYour choice of: \n\nWhite wine & garlic\nCreamy pancetta\nSpicy arribiata\nSpinach & goat cheese
URL:https://rihg.ca/event/half-priced-mussels-2020-10-04/2026-01-11/
CATEGORIES:John Brown Grille
END:VEVENT
BEGIN:VEVENT
DTSTART;TZID=America/Halifax:20260110T230000
DTEND;TZID=America/Halifax:20260110T230000
DTSTAMP:20260423T114841
CREATED:20251224T164552Z
LAST-MODIFIED:20251224T164552Z
UID:10020634-1768086000-1768086000@rihg.ca
SUMMARY:DJ Purdy
DESCRIPTION:
URL:https://rihg.ca/event/dj-purdy-4/
CATEGORIES:John Brown Grille
END:VEVENT
BEGIN:VEVENT
DTSTART;TZID=America/Halifax:20260110T170000
DTEND;TZID=America/Halifax:20260110T220000
DTSTAMP:20260423T114841
CREATED:20251117T202452Z
LAST-MODIFIED:20251117T202452Z
UID:10019062-1768064400-1768082400@rihg.ca
SUMMARY:Half-Priced Nachos
DESCRIPTION:Your choice of John Brown’s Classic or Southwest Nachos for half-price? Sold! \nPurchase of a beverage required. Dine-in only.
URL:https://rihg.ca/event/half-priced-nachos/2026-01-10/
CATEGORIES:John Brown Grille
END:VEVENT
BEGIN:VEVENT
DTSTART;TZID=America/Halifax:20260110T140000
DTEND;TZID=America/Halifax:20260110T170000
DTSTAMP:20260423T114841
CREATED:20251224T164523Z
LAST-MODIFIED:20251224T164523Z
UID:10020633-1768053600-1768064400@rihg.ca
SUMMARY:Richie & Brian
DESCRIPTION:
URL:https://rihg.ca/event/richie-brian-13/
CATEGORIES:John Brown Grille
END:VEVENT
BEGIN:VEVENT
DTSTART;TZID=America/Halifax:20260110T140000
DTEND;TZID=America/Halifax:20260110T160000
DTSTAMP:20260423T114841
CREATED:20200603T190545Z
LAST-MODIFIED:20251224T162430Z
UID:10020277-1768053600-1768060800@rihg.ca
SUMMARY:Half-Priced Mussels
DESCRIPTION:From 2 until 4 p.m. every day of the week\, our succulent PEI mussels are 50% of the price but still 100% of the flavour! \nYour choice of: \n\nWhite wine & garlic\nCreamy pancetta\nSpicy arribiata\nSpinach & goat cheese
URL:https://rihg.ca/event/half-priced-mussels-2020-10-04/2026-01-10/
CATEGORIES:John Brown Grille
END:VEVENT
BEGIN:VEVENT
DTSTART;TZID=America/Halifax:20260109T170000
DTEND;TZID=America/Halifax:20260109T220000
DTSTAMP:20260423T114841
CREATED:20251117T201423Z
LAST-MODIFIED:20251117T201518Z
UID:10019035-1767978000-1767996000@rihg.ca
SUMMARY:$15 Fish & Chips
DESCRIPTION:8oz haddock filet hand-dipped in our gluten free batter\, served with our dill tartar sauce \nPurchase of a beverage required. Dine-in only.
URL:https://rihg.ca/event/15-fish-chips/2026-01-09/
CATEGORIES:John Brown Grille
END:VEVENT
BEGIN:VEVENT
DTSTART;TZID=America/Halifax:20260109T140000
DTEND;TZID=America/Halifax:20260109T160000
DTSTAMP:20260423T114841
CREATED:20200603T190545Z
LAST-MODIFIED:20251224T162430Z
UID:10020276-1767967200-1767974400@rihg.ca
SUMMARY:Half-Priced Mussels
DESCRIPTION:From 2 until 4 p.m. every day of the week\, our succulent PEI mussels are 50% of the price but still 100% of the flavour! \nYour choice of: \n\nWhite wine & garlic\nCreamy pancetta\nSpicy arribiata\nSpinach & goat cheese
URL:https://rihg.ca/event/half-priced-mussels-2020-10-04/2026-01-09/
CATEGORIES:John Brown Grille
END:VEVENT
BEGIN:VEVENT
DTSTART;TZID=America/Halifax:20260108T170000
DTEND;TZID=America/Halifax:20260108T220000
DTSTAMP:20260423T114841
CREATED:20251117T201649Z
LAST-MODIFIED:20251117T201649Z
UID:10019009-1767891600-1767909600@rihg.ca
SUMMARY:$20 Steak Sandwich
DESCRIPTION:5oz tenderloin\, sautéed portobello mushrooms & Spanish onions\, served open-faced on a grilled crostini with demi sauce \nPurchase of a beverage required. Dine-in only.
URL:https://rihg.ca/event/20-steak-sandwich/2026-01-08/
CATEGORIES:John Brown Grille
END:VEVENT
END:VCALENDAR