BEGIN:VCALENDAR
VERSION:2.0
PRODID:-//Red Island Hospitality Group Inc. - ECPv6.15.20//NONSGML v1.0//EN
CALSCALE:GREGORIAN
METHOD:PUBLISH
X-ORIGINAL-URL:https://rihg.ca
X-WR-CALDESC:Events for Red Island Hospitality Group Inc.
REFRESH-INTERVAL;VALUE=DURATION:PT1H
X-Robots-Tag:noindex
X-PUBLISHED-TTL:PT1H
BEGIN:VTIMEZONE
TZID:America/Halifax
BEGIN:DAYLIGHT
TZOFFSETFROM:-0400
TZOFFSETTO:-0300
TZNAME:ADT
DTSTART:20240310T060000
END:DAYLIGHT
BEGIN:STANDARD
TZOFFSETFROM:-0300
TZOFFSETTO:-0400
TZNAME:AST
DTSTART:20241103T050000
END:STANDARD
BEGIN:DAYLIGHT
TZOFFSETFROM:-0400
TZOFFSETTO:-0300
TZNAME:ADT
DTSTART:20250309T060000
END:DAYLIGHT
BEGIN:STANDARD
TZOFFSETFROM:-0300
TZOFFSETTO:-0400
TZNAME:AST
DTSTART:20251102T050000
END:STANDARD
BEGIN:DAYLIGHT
TZOFFSETFROM:-0400
TZOFFSETTO:-0300
TZNAME:ADT
DTSTART:20260308T060000
END:DAYLIGHT
BEGIN:STANDARD
TZOFFSETFROM:-0300
TZOFFSETTO:-0400
TZNAME:AST
DTSTART:20261101T050000
END:STANDARD
END:VTIMEZONE
BEGIN:VEVENT
DTSTART;TZID=America/Halifax:20251220T140000
DTEND;TZID=America/Halifax:20251220T170000
DTSTAMP:20260425T164057
CREATED:20251117T183106Z
LAST-MODIFIED:20251117T183106Z
UID:10018942-1766239200-1766250000@rihg.ca
SUMMARY:Kim Albert Trio
DESCRIPTION:
URL:https://rihg.ca/event/kim-albert-trio-13/
CATEGORIES:John Brown Grille
END:VEVENT
BEGIN:VEVENT
DTSTART;TZID=America/Halifax:20251220T140000
DTEND;TZID=America/Halifax:20251220T160000
DTSTAMP:20260425T164057
CREATED:20200603T190545Z
LAST-MODIFIED:20251224T162430Z
UID:10017779-1766239200-1766246400@rihg.ca
SUMMARY:Half-Priced Mussels
DESCRIPTION:From 2 until 4 p.m. every day of the week\, our succulent PEI mussels are 50% of the price but still 100% of the flavour! \nYour choice of: \n\nWhite wine & garlic\nCreamy pancetta\nSpicy arribiata\nSpinach & goat cheese
URL:https://rihg.ca/event/half-priced-mussels-2020-10-04/2025-12-20/
CATEGORIES:John Brown Grille
END:VEVENT
BEGIN:VEVENT
DTSTART;TZID=America/Halifax:20251219T170000
DTEND;TZID=America/Halifax:20251219T220000
DTSTAMP:20260425T164057
CREATED:20251117T201423Z
LAST-MODIFIED:20251117T201518Z
UID:10019032-1766163600-1766181600@rihg.ca
SUMMARY:$15 Fish & Chips
DESCRIPTION:8oz haddock filet hand-dipped in our gluten free batter\, served with our dill tartar sauce \nPurchase of a beverage required. Dine-in only.
URL:https://rihg.ca/event/15-fish-chips/2025-12-19/
CATEGORIES:John Brown Grille
END:VEVENT
BEGIN:VEVENT
DTSTART;TZID=America/Halifax:20251219T140000
DTEND;TZID=America/Halifax:20251219T160000
DTSTAMP:20260425T164057
CREATED:20200603T190545Z
LAST-MODIFIED:20251224T162430Z
UID:10017778-1766152800-1766160000@rihg.ca
SUMMARY:Half-Priced Mussels
DESCRIPTION:From 2 until 4 p.m. every day of the week\, our succulent PEI mussels are 50% of the price but still 100% of the flavour! \nYour choice of: \n\nWhite wine & garlic\nCreamy pancetta\nSpicy arribiata\nSpinach & goat cheese
URL:https://rihg.ca/event/half-priced-mussels-2020-10-04/2025-12-19/
CATEGORIES:John Brown Grille
END:VEVENT
BEGIN:VEVENT
DTSTART;TZID=America/Halifax:20251218T170000
DTEND;TZID=America/Halifax:20251218T220000
DTSTAMP:20260425T164057
CREATED:20251117T201649Z
LAST-MODIFIED:20251117T201649Z
UID:10019006-1766077200-1766095200@rihg.ca
SUMMARY:$20 Steak Sandwich
DESCRIPTION:5oz tenderloin\, sautéed portobello mushrooms & Spanish onions\, served open-faced on a grilled crostini with demi sauce \nPurchase of a beverage required. Dine-in only.
URL:https://rihg.ca/event/20-steak-sandwich/2025-12-18/
CATEGORIES:John Brown Grille
END:VEVENT
BEGIN:VEVENT
DTSTART;TZID=America/Halifax:20251218T140000
DTEND;TZID=America/Halifax:20251218T160000
DTSTAMP:20260425T164057
CREATED:20200603T190545Z
LAST-MODIFIED:20251224T162430Z
UID:10017777-1766066400-1766073600@rihg.ca
SUMMARY:Half-Priced Mussels
DESCRIPTION:From 2 until 4 p.m. every day of the week\, our succulent PEI mussels are 50% of the price but still 100% of the flavour! \nYour choice of: \n\nWhite wine & garlic\nCreamy pancetta\nSpicy arribiata\nSpinach & goat cheese
URL:https://rihg.ca/event/half-priced-mussels-2020-10-04/2025-12-18/
CATEGORIES:John Brown Grille
END:VEVENT
BEGIN:VEVENT
DTSTART;TZID=America/Halifax:20251217T170000
DTEND;TZID=America/Halifax:20251217T220000
DTSTAMP:20260425T164057
CREATED:20251117T202141Z
LAST-MODIFIED:20251117T202141Z
UID:10018980-1765990800-1766008800@rihg.ca
SUMMARY:$15 Half-Rack Ribs
DESCRIPTION:Half-rack of smoked\, fall off the bone\, deliciously tender\, baby back ribs\, glazed with BBQ sauce \nPurchase of a beverage required. Dine-in only.
URL:https://rihg.ca/event/15-half-rack-ribs/2025-12-17/
CATEGORIES:John Brown Grille
END:VEVENT
BEGIN:VEVENT
DTSTART;TZID=America/Halifax:20251217T140000
DTEND;TZID=America/Halifax:20251217T160000
DTSTAMP:20260425T164057
CREATED:20200603T190545Z
LAST-MODIFIED:20251224T162430Z
UID:10017776-1765980000-1765987200@rihg.ca
SUMMARY:Half-Priced Mussels
DESCRIPTION:From 2 until 4 p.m. every day of the week\, our succulent PEI mussels are 50% of the price but still 100% of the flavour! \nYour choice of: \n\nWhite wine & garlic\nCreamy pancetta\nSpicy arribiata\nSpinach & goat cheese
URL:https://rihg.ca/event/half-priced-mussels-2020-10-04/2025-12-17/
CATEGORIES:John Brown Grille
END:VEVENT
BEGIN:VEVENT
DTSTART;TZID=America/Halifax:20251216T170000
DTEND;TZID=America/Halifax:20251216T220000
DTSTAMP:20260425T164057
CREATED:20251117T200059Z
LAST-MODIFIED:20251224T162236Z
UID:10020248-1765904400-1765922400@rihg.ca
SUMMARY:2-4-1 Wings
DESCRIPTION:Three delicious sauce options: \n\n\n\n\nlemon pepper  |  sriracha  |  herbed butter and parmesan  |  maple bourbon  |  JB’s picante\n\n\n\n\nShare some delicious JB’s wings with a friend\, or keep them all to yourself. We’re not judging! \nPurchase of a beverage required. Dine-in only.
URL:https://rihg.ca/event/2-4-1-wings-3/2025-12-16/
CATEGORIES:John Brown Grille
END:VEVENT
BEGIN:VEVENT
DTSTART;TZID=America/Halifax:20251216T140000
DTEND;TZID=America/Halifax:20251216T160000
DTSTAMP:20260425T164057
CREATED:20200603T190545Z
LAST-MODIFIED:20251224T162430Z
UID:10017775-1765893600-1765900800@rihg.ca
SUMMARY:Half-Priced Mussels
DESCRIPTION:From 2 until 4 p.m. every day of the week\, our succulent PEI mussels are 50% of the price but still 100% of the flavour! \nYour choice of: \n\nWhite wine & garlic\nCreamy pancetta\nSpicy arribiata\nSpinach & goat cheese
URL:https://rihg.ca/event/half-priced-mussels-2020-10-04/2025-12-16/
CATEGORIES:John Brown Grille
END:VEVENT
BEGIN:VEVENT
DTSTART;TZID=America/Halifax:20251215T170000
DTEND;TZID=America/Halifax:20251215T220000
DTSTAMP:20260425T164057
CREATED:20251117T195645Z
LAST-MODIFIED:20251117T195645Z
UID:10018953-1765818000-1765836000@rihg.ca
SUMMARY:Half Priced Apps
DESCRIPTION:Select appetizers available for 50% off. \nLots of tasty appetizers to choose from: https://johnbrowngrille.com/appetizers/ \nPurchase of a beverage required. Dine-in only.
URL:https://rihg.ca/event/half-priced-apps-2/2025-12-15/
CATEGORIES:John Brown Grille
END:VEVENT
BEGIN:VEVENT
DTSTART;TZID=America/Halifax:20251215T140000
DTEND;TZID=America/Halifax:20251215T160000
DTSTAMP:20260425T164057
CREATED:20200603T190545Z
LAST-MODIFIED:20251224T162430Z
UID:10017774-1765807200-1765814400@rihg.ca
SUMMARY:Half-Priced Mussels
DESCRIPTION:From 2 until 4 p.m. every day of the week\, our succulent PEI mussels are 50% of the price but still 100% of the flavour! \nYour choice of: \n\nWhite wine & garlic\nCreamy pancetta\nSpicy arribiata\nSpinach & goat cheese
URL:https://rihg.ca/event/half-priced-mussels-2020-10-04/2025-12-15/
CATEGORIES:John Brown Grille
END:VEVENT
BEGIN:VEVENT
DTSTART;TZID=America/Halifax:20251214T170000
DTEND;TZID=America/Halifax:20251214T220000
DTSTAMP:20260425T164057
CREATED:20251117T205320Z
LAST-MODIFIED:20251117T205320Z
UID:10019085-1765731600-1765749600@rihg.ca
SUMMARY:2-4-1 Pub Fare
DESCRIPTION:Purchase one “Pub Fare” item and receive the second of equal or lesser value for free: https://johnbrowngrille.com/pub-fare/ \nPurchase of a beverage required. Dine-in only.
URL:https://rihg.ca/event/2-4-1-pub-fare/2025-12-14/
CATEGORIES:John Brown Grille
END:VEVENT
BEGIN:VEVENT
DTSTART;TZID=America/Halifax:20251214T140000
DTEND;TZID=America/Halifax:20251214T160000
DTSTAMP:20260425T164057
CREATED:20200603T190545Z
LAST-MODIFIED:20251224T162430Z
UID:10017773-1765720800-1765728000@rihg.ca
SUMMARY:Half-Priced Mussels
DESCRIPTION:From 2 until 4 p.m. every day of the week\, our succulent PEI mussels are 50% of the price but still 100% of the flavour! \nYour choice of: \n\nWhite wine & garlic\nCreamy pancetta\nSpicy arribiata\nSpinach & goat cheese
URL:https://rihg.ca/event/half-priced-mussels-2020-10-04/2025-12-14/
CATEGORIES:John Brown Grille
END:VEVENT
BEGIN:VEVENT
DTSTART;TZID=America/Halifax:20251213T230000
DTEND;TZID=America/Halifax:20251213T230000
DTSTAMP:20260425T164057
CREATED:20251117T182635Z
LAST-MODIFIED:20251117T182635Z
UID:10018941-1765666800-1765666800@rihg.ca
SUMMARY:DJ Purdy
DESCRIPTION:
URL:https://rihg.ca/event/dj-purdy-3/
CATEGORIES:John Brown Grille
END:VEVENT
BEGIN:VEVENT
DTSTART;TZID=America/Halifax:20251213T170000
DTEND;TZID=America/Halifax:20251213T220000
DTSTAMP:20260425T164057
CREATED:20251117T202452Z
LAST-MODIFIED:20251117T202452Z
UID:10019058-1765645200-1765663200@rihg.ca
SUMMARY:Half-Priced Nachos
DESCRIPTION:Your choice of John Brown’s Classic or Southwest Nachos for half-price? Sold! \nPurchase of a beverage required. Dine-in only.
URL:https://rihg.ca/event/half-priced-nachos/2025-12-13/
CATEGORIES:John Brown Grille
END:VEVENT
BEGIN:VEVENT
DTSTART;TZID=America/Halifax:20251213T140000
DTEND;TZID=America/Halifax:20251213T170000
DTSTAMP:20260425T164057
CREATED:20251117T182228Z
LAST-MODIFIED:20251117T182228Z
UID:10018940-1765634400-1765645200@rihg.ca
SUMMARY:Acoustic Brothers
DESCRIPTION:
URL:https://rihg.ca/event/acoustic-brothers-3/
CATEGORIES:John Brown Grille
END:VEVENT
BEGIN:VEVENT
DTSTART;TZID=America/Halifax:20251213T140000
DTEND;TZID=America/Halifax:20251213T160000
DTSTAMP:20260425T164057
CREATED:20200603T190545Z
LAST-MODIFIED:20251224T162430Z
UID:10017772-1765634400-1765641600@rihg.ca
SUMMARY:Half-Priced Mussels
DESCRIPTION:From 2 until 4 p.m. every day of the week\, our succulent PEI mussels are 50% of the price but still 100% of the flavour! \nYour choice of: \n\nWhite wine & garlic\nCreamy pancetta\nSpicy arribiata\nSpinach & goat cheese
URL:https://rihg.ca/event/half-priced-mussels-2020-10-04/2025-12-13/
CATEGORIES:John Brown Grille
END:VEVENT
BEGIN:VEVENT
DTSTART;TZID=America/Halifax:20251212T170000
DTEND;TZID=America/Halifax:20251212T220000
DTSTAMP:20260425T164057
CREATED:20251117T201423Z
LAST-MODIFIED:20251117T201518Z
UID:10019031-1765558800-1765576800@rihg.ca
SUMMARY:$15 Fish & Chips
DESCRIPTION:8oz haddock filet hand-dipped in our gluten free batter\, served with our dill tartar sauce \nPurchase of a beverage required. Dine-in only.
URL:https://rihg.ca/event/15-fish-chips/2025-12-12/
CATEGORIES:John Brown Grille
END:VEVENT
BEGIN:VEVENT
DTSTART;TZID=America/Halifax:20251212T140000
DTEND;TZID=America/Halifax:20251212T160000
DTSTAMP:20260425T164057
CREATED:20200603T190545Z
LAST-MODIFIED:20251224T162430Z
UID:10017771-1765548000-1765555200@rihg.ca
SUMMARY:Half-Priced Mussels
DESCRIPTION:From 2 until 4 p.m. every day of the week\, our succulent PEI mussels are 50% of the price but still 100% of the flavour! \nYour choice of: \n\nWhite wine & garlic\nCreamy pancetta\nSpicy arribiata\nSpinach & goat cheese
URL:https://rihg.ca/event/half-priced-mussels-2020-10-04/2025-12-12/
CATEGORIES:John Brown Grille
END:VEVENT
BEGIN:VEVENT
DTSTART;TZID=America/Halifax:20251211T170000
DTEND;TZID=America/Halifax:20251211T220000
DTSTAMP:20260425T164057
CREATED:20251117T201649Z
LAST-MODIFIED:20251117T201649Z
UID:10019005-1765472400-1765490400@rihg.ca
SUMMARY:$20 Steak Sandwich
DESCRIPTION:5oz tenderloin\, sautéed portobello mushrooms & Spanish onions\, served open-faced on a grilled crostini with demi sauce \nPurchase of a beverage required. Dine-in only.
URL:https://rihg.ca/event/20-steak-sandwich/2025-12-11/
CATEGORIES:John Brown Grille
END:VEVENT
BEGIN:VEVENT
DTSTART;TZID=America/Halifax:20251211T140000
DTEND;TZID=America/Halifax:20251211T160000
DTSTAMP:20260425T164057
CREATED:20200603T190545Z
LAST-MODIFIED:20251224T162430Z
UID:10017770-1765461600-1765468800@rihg.ca
SUMMARY:Half-Priced Mussels
DESCRIPTION:From 2 until 4 p.m. every day of the week\, our succulent PEI mussels are 50% of the price but still 100% of the flavour! \nYour choice of: \n\nWhite wine & garlic\nCreamy pancetta\nSpicy arribiata\nSpinach & goat cheese
URL:https://rihg.ca/event/half-priced-mussels-2020-10-04/2025-12-11/
CATEGORIES:John Brown Grille
END:VEVENT
BEGIN:VEVENT
DTSTART;TZID=America/Halifax:20251210T170000
DTEND;TZID=America/Halifax:20251210T220000
DTSTAMP:20260425T164057
CREATED:20251117T202141Z
LAST-MODIFIED:20251117T202141Z
UID:10018979-1765386000-1765404000@rihg.ca
SUMMARY:$15 Half-Rack Ribs
DESCRIPTION:Half-rack of smoked\, fall off the bone\, deliciously tender\, baby back ribs\, glazed with BBQ sauce \nPurchase of a beverage required. Dine-in only.
URL:https://rihg.ca/event/15-half-rack-ribs/2025-12-10/
CATEGORIES:John Brown Grille
END:VEVENT
BEGIN:VEVENT
DTSTART;TZID=America/Halifax:20251210T140000
DTEND;TZID=America/Halifax:20251210T160000
DTSTAMP:20260425T164057
CREATED:20200603T190545Z
LAST-MODIFIED:20251224T162430Z
UID:10017769-1765375200-1765382400@rihg.ca
SUMMARY:Half-Priced Mussels
DESCRIPTION:From 2 until 4 p.m. every day of the week\, our succulent PEI mussels are 50% of the price but still 100% of the flavour! \nYour choice of: \n\nWhite wine & garlic\nCreamy pancetta\nSpicy arribiata\nSpinach & goat cheese
URL:https://rihg.ca/event/half-priced-mussels-2020-10-04/2025-12-10/
CATEGORIES:John Brown Grille
END:VEVENT
BEGIN:VEVENT
DTSTART;TZID=America/Halifax:20251209T170000
DTEND;TZID=America/Halifax:20251209T220000
DTSTAMP:20260425T164057
CREATED:20251117T200059Z
LAST-MODIFIED:20251224T162236Z
UID:10020247-1765299600-1765317600@rihg.ca
SUMMARY:2-4-1 Wings
DESCRIPTION:Three delicious sauce options: \n\n\n\n\nlemon pepper  |  sriracha  |  herbed butter and parmesan  |  maple bourbon  |  JB’s picante\n\n\n\n\nShare some delicious JB’s wings with a friend\, or keep them all to yourself. We’re not judging! \nPurchase of a beverage required. Dine-in only.
URL:https://rihg.ca/event/2-4-1-wings-3/2025-12-09/
CATEGORIES:John Brown Grille
END:VEVENT
BEGIN:VEVENT
DTSTART;TZID=America/Halifax:20251209T140000
DTEND;TZID=America/Halifax:20251209T160000
DTSTAMP:20260425T164057
CREATED:20200603T190545Z
LAST-MODIFIED:20251224T162430Z
UID:10017768-1765288800-1765296000@rihg.ca
SUMMARY:Half-Priced Mussels
DESCRIPTION:From 2 until 4 p.m. every day of the week\, our succulent PEI mussels are 50% of the price but still 100% of the flavour! \nYour choice of: \n\nWhite wine & garlic\nCreamy pancetta\nSpicy arribiata\nSpinach & goat cheese
URL:https://rihg.ca/event/half-priced-mussels-2020-10-04/2025-12-09/
CATEGORIES:John Brown Grille
END:VEVENT
BEGIN:VEVENT
DTSTART;TZID=America/Halifax:20251208T170000
DTEND;TZID=America/Halifax:20251208T220000
DTSTAMP:20260425T164057
CREATED:20251117T195645Z
LAST-MODIFIED:20251117T195645Z
UID:10018952-1765213200-1765231200@rihg.ca
SUMMARY:Half Priced Apps
DESCRIPTION:Select appetizers available for 50% off. \nLots of tasty appetizers to choose from: https://johnbrowngrille.com/appetizers/ \nPurchase of a beverage required. Dine-in only.
URL:https://rihg.ca/event/half-priced-apps-2/2025-12-08/
CATEGORIES:John Brown Grille
END:VEVENT
BEGIN:VEVENT
DTSTART;TZID=America/Halifax:20251208T140000
DTEND;TZID=America/Halifax:20251208T160000
DTSTAMP:20260425T164057
CREATED:20200603T190545Z
LAST-MODIFIED:20251224T162430Z
UID:10017767-1765202400-1765209600@rihg.ca
SUMMARY:Half-Priced Mussels
DESCRIPTION:From 2 until 4 p.m. every day of the week\, our succulent PEI mussels are 50% of the price but still 100% of the flavour! \nYour choice of: \n\nWhite wine & garlic\nCreamy pancetta\nSpicy arribiata\nSpinach & goat cheese
URL:https://rihg.ca/event/half-priced-mussels-2020-10-04/2025-12-08/
CATEGORIES:John Brown Grille
END:VEVENT
BEGIN:VEVENT
DTSTART;TZID=America/Halifax:20251207T170000
DTEND;TZID=America/Halifax:20251207T220000
DTSTAMP:20260425T164057
CREATED:20251117T205320Z
LAST-MODIFIED:20251117T205320Z
UID:10019084-1765126800-1765144800@rihg.ca
SUMMARY:2-4-1 Pub Fare
DESCRIPTION:Purchase one “Pub Fare” item and receive the second of equal or lesser value for free: https://johnbrowngrille.com/pub-fare/ \nPurchase of a beverage required. Dine-in only.
URL:https://rihg.ca/event/2-4-1-pub-fare/2025-12-07/
CATEGORIES:John Brown Grille
END:VEVENT
BEGIN:VEVENT
DTSTART;TZID=America/Halifax:20251207T140000
DTEND;TZID=America/Halifax:20251207T160000
DTSTAMP:20260425T164057
CREATED:20200603T190545Z
LAST-MODIFIED:20251224T162430Z
UID:10017766-1765116000-1765123200@rihg.ca
SUMMARY:Half-Priced Mussels
DESCRIPTION:From 2 until 4 p.m. every day of the week\, our succulent PEI mussels are 50% of the price but still 100% of the flavour! \nYour choice of: \n\nWhite wine & garlic\nCreamy pancetta\nSpicy arribiata\nSpinach & goat cheese
URL:https://rihg.ca/event/half-priced-mussels-2020-10-04/2025-12-07/
CATEGORIES:John Brown Grille
END:VEVENT
END:VCALENDAR