BEGIN:VCALENDAR
VERSION:2.0
PRODID:-//Red Island Hospitality Group Inc. - ECPv6.15.20//NONSGML v1.0//EN
CALSCALE:GREGORIAN
METHOD:PUBLISH
X-WR-CALNAME:Red Island Hospitality Group Inc.
X-ORIGINAL-URL:https://rihg.ca
X-WR-CALDESC:Events for Red Island Hospitality Group Inc.
REFRESH-INTERVAL;VALUE=DURATION:PT1H
X-Robots-Tag:noindex
X-PUBLISHED-TTL:PT1H
BEGIN:VTIMEZONE
TZID:America/Halifax
BEGIN:DAYLIGHT
TZOFFSETFROM:-0400
TZOFFSETTO:-0300
TZNAME:ADT
DTSTART:20240310T060000
END:DAYLIGHT
BEGIN:STANDARD
TZOFFSETFROM:-0300
TZOFFSETTO:-0400
TZNAME:AST
DTSTART:20241103T050000
END:STANDARD
BEGIN:DAYLIGHT
TZOFFSETFROM:-0400
TZOFFSETTO:-0300
TZNAME:ADT
DTSTART:20250309T060000
END:DAYLIGHT
BEGIN:STANDARD
TZOFFSETFROM:-0300
TZOFFSETTO:-0400
TZNAME:AST
DTSTART:20251102T050000
END:STANDARD
BEGIN:DAYLIGHT
TZOFFSETFROM:-0400
TZOFFSETTO:-0300
TZNAME:ADT
DTSTART:20260308T060000
END:DAYLIGHT
BEGIN:STANDARD
TZOFFSETFROM:-0300
TZOFFSETTO:-0400
TZNAME:AST
DTSTART:20261101T050000
END:STANDARD
END:VTIMEZONE
BEGIN:VEVENT
DTSTART;TZID=America/Halifax:20251212T140000
DTEND;TZID=America/Halifax:20251212T160000
DTSTAMP:20260425T200227
CREATED:20200603T190545Z
LAST-MODIFIED:20251224T162430Z
UID:10017771-1765548000-1765555200@rihg.ca
SUMMARY:Half-Priced Mussels
DESCRIPTION:From 2 until 4 p.m. every day of the week\, our succulent PEI mussels are 50% of the price but still 100% of the flavour! \nYour choice of: \n\nWhite wine & garlic\nCreamy pancetta\nSpicy arribiata\nSpinach & goat cheese
URL:https://rihg.ca/event/half-priced-mussels-2020-10-04/2025-12-12/
CATEGORIES:John Brown Grille
END:VEVENT
BEGIN:VEVENT
DTSTART;TZID=America/Halifax:20251211T170000
DTEND;TZID=America/Halifax:20251211T220000
DTSTAMP:20260425T200227
CREATED:20251117T201649Z
LAST-MODIFIED:20251117T201649Z
UID:10019005-1765472400-1765490400@rihg.ca
SUMMARY:$20 Steak Sandwich
DESCRIPTION:5oz tenderloin\, sautéed portobello mushrooms & Spanish onions\, served open-faced on a grilled crostini with demi sauce \nPurchase of a beverage required. Dine-in only.
URL:https://rihg.ca/event/20-steak-sandwich/2025-12-11/
CATEGORIES:John Brown Grille
END:VEVENT
BEGIN:VEVENT
DTSTART;TZID=America/Halifax:20251211T140000
DTEND;TZID=America/Halifax:20251211T160000
DTSTAMP:20260425T200227
CREATED:20200603T190545Z
LAST-MODIFIED:20251224T162430Z
UID:10017770-1765461600-1765468800@rihg.ca
SUMMARY:Half-Priced Mussels
DESCRIPTION:From 2 until 4 p.m. every day of the week\, our succulent PEI mussels are 50% of the price but still 100% of the flavour! \nYour choice of: \n\nWhite wine & garlic\nCreamy pancetta\nSpicy arribiata\nSpinach & goat cheese
URL:https://rihg.ca/event/half-priced-mussels-2020-10-04/2025-12-11/
CATEGORIES:John Brown Grille
END:VEVENT
BEGIN:VEVENT
DTSTART;TZID=America/Halifax:20251210T170000
DTEND;TZID=America/Halifax:20251210T220000
DTSTAMP:20260425T200227
CREATED:20251117T202141Z
LAST-MODIFIED:20251117T202141Z
UID:10018979-1765386000-1765404000@rihg.ca
SUMMARY:$15 Half-Rack Ribs
DESCRIPTION:Half-rack of smoked\, fall off the bone\, deliciously tender\, baby back ribs\, glazed with BBQ sauce \nPurchase of a beverage required. Dine-in only.
URL:https://rihg.ca/event/15-half-rack-ribs/2025-12-10/
CATEGORIES:John Brown Grille
END:VEVENT
BEGIN:VEVENT
DTSTART;TZID=America/Halifax:20251210T140000
DTEND;TZID=America/Halifax:20251210T160000
DTSTAMP:20260425T200227
CREATED:20200603T190545Z
LAST-MODIFIED:20251224T162430Z
UID:10017769-1765375200-1765382400@rihg.ca
SUMMARY:Half-Priced Mussels
DESCRIPTION:From 2 until 4 p.m. every day of the week\, our succulent PEI mussels are 50% of the price but still 100% of the flavour! \nYour choice of: \n\nWhite wine & garlic\nCreamy pancetta\nSpicy arribiata\nSpinach & goat cheese
URL:https://rihg.ca/event/half-priced-mussels-2020-10-04/2025-12-10/
CATEGORIES:John Brown Grille
END:VEVENT
BEGIN:VEVENT
DTSTART;TZID=America/Halifax:20251209T170000
DTEND;TZID=America/Halifax:20251209T220000
DTSTAMP:20260425T200227
CREATED:20251117T200059Z
LAST-MODIFIED:20251224T162236Z
UID:10020247-1765299600-1765317600@rihg.ca
SUMMARY:2-4-1 Wings
DESCRIPTION:Three delicious sauce options: \n\n\n\n\nlemon pepper  |  sriracha  |  herbed butter and parmesan  |  maple bourbon  |  JB’s picante\n\n\n\n\nShare some delicious JB’s wings with a friend\, or keep them all to yourself. We’re not judging! \nPurchase of a beverage required. Dine-in only.
URL:https://rihg.ca/event/2-4-1-wings-3/2025-12-09/
CATEGORIES:John Brown Grille
END:VEVENT
BEGIN:VEVENT
DTSTART;TZID=America/Halifax:20251209T140000
DTEND;TZID=America/Halifax:20251209T160000
DTSTAMP:20260425T200227
CREATED:20200603T190545Z
LAST-MODIFIED:20251224T162430Z
UID:10017768-1765288800-1765296000@rihg.ca
SUMMARY:Half-Priced Mussels
DESCRIPTION:From 2 until 4 p.m. every day of the week\, our succulent PEI mussels are 50% of the price but still 100% of the flavour! \nYour choice of: \n\nWhite wine & garlic\nCreamy pancetta\nSpicy arribiata\nSpinach & goat cheese
URL:https://rihg.ca/event/half-priced-mussels-2020-10-04/2025-12-09/
CATEGORIES:John Brown Grille
END:VEVENT
BEGIN:VEVENT
DTSTART;TZID=America/Halifax:20251208T170000
DTEND;TZID=America/Halifax:20251208T220000
DTSTAMP:20260425T200227
CREATED:20251117T195645Z
LAST-MODIFIED:20251117T195645Z
UID:10018952-1765213200-1765231200@rihg.ca
SUMMARY:Half Priced Apps
DESCRIPTION:Select appetizers available for 50% off. \nLots of tasty appetizers to choose from: https://johnbrowngrille.com/appetizers/ \nPurchase of a beverage required. Dine-in only.
URL:https://rihg.ca/event/half-priced-apps-2/2025-12-08/
CATEGORIES:John Brown Grille
END:VEVENT
BEGIN:VEVENT
DTSTART;TZID=America/Halifax:20251208T140000
DTEND;TZID=America/Halifax:20251208T160000
DTSTAMP:20260425T200227
CREATED:20200603T190545Z
LAST-MODIFIED:20251224T162430Z
UID:10017767-1765202400-1765209600@rihg.ca
SUMMARY:Half-Priced Mussels
DESCRIPTION:From 2 until 4 p.m. every day of the week\, our succulent PEI mussels are 50% of the price but still 100% of the flavour! \nYour choice of: \n\nWhite wine & garlic\nCreamy pancetta\nSpicy arribiata\nSpinach & goat cheese
URL:https://rihg.ca/event/half-priced-mussels-2020-10-04/2025-12-08/
CATEGORIES:John Brown Grille
END:VEVENT
BEGIN:VEVENT
DTSTART;TZID=America/Halifax:20251207T170000
DTEND;TZID=America/Halifax:20251207T220000
DTSTAMP:20260425T200227
CREATED:20251117T205320Z
LAST-MODIFIED:20251117T205320Z
UID:10019084-1765126800-1765144800@rihg.ca
SUMMARY:2-4-1 Pub Fare
DESCRIPTION:Purchase one “Pub Fare” item and receive the second of equal or lesser value for free: https://johnbrowngrille.com/pub-fare/ \nPurchase of a beverage required. Dine-in only.
URL:https://rihg.ca/event/2-4-1-pub-fare/2025-12-07/
CATEGORIES:John Brown Grille
END:VEVENT
BEGIN:VEVENT
DTSTART;TZID=America/Halifax:20251207T140000
DTEND;TZID=America/Halifax:20251207T160000
DTSTAMP:20260425T200227
CREATED:20200603T190545Z
LAST-MODIFIED:20251224T162430Z
UID:10017766-1765116000-1765123200@rihg.ca
SUMMARY:Half-Priced Mussels
DESCRIPTION:From 2 until 4 p.m. every day of the week\, our succulent PEI mussels are 50% of the price but still 100% of the flavour! \nYour choice of: \n\nWhite wine & garlic\nCreamy pancetta\nSpicy arribiata\nSpinach & goat cheese
URL:https://rihg.ca/event/half-priced-mussels-2020-10-04/2025-12-07/
CATEGORIES:John Brown Grille
END:VEVENT
BEGIN:VEVENT
DTSTART;TZID=America/Halifax:20251206T230000
DTEND;TZID=America/Halifax:20251206T230000
DTSTAMP:20260425T200227
CREATED:20251117T181747Z
LAST-MODIFIED:20251117T181747Z
UID:10018939-1765062000-1765062000@rihg.ca
SUMMARY:Jérémie
DESCRIPTION:
URL:https://rihg.ca/event/jeremie/
CATEGORIES:John Brown Grille
END:VEVENT
BEGIN:VEVENT
DTSTART;TZID=America/Halifax:20251206T170000
DTEND;TZID=America/Halifax:20251206T220000
DTSTAMP:20260425T200227
CREATED:20251117T202452Z
LAST-MODIFIED:20251117T202452Z
UID:10019057-1765040400-1765058400@rihg.ca
SUMMARY:Half-Priced Nachos
DESCRIPTION:Your choice of John Brown’s Classic or Southwest Nachos for half-price? Sold! \nPurchase of a beverage required. Dine-in only.
URL:https://rihg.ca/event/half-priced-nachos/2025-12-06/
CATEGORIES:John Brown Grille
END:VEVENT
BEGIN:VEVENT
DTSTART;TZID=America/Halifax:20251206T140000
DTEND;TZID=America/Halifax:20251206T170000
DTSTAMP:20260425T200227
CREATED:20251117T181700Z
LAST-MODIFIED:20251117T181700Z
UID:10018938-1765029600-1765040400@rihg.ca
SUMMARY:Liam & Jon
DESCRIPTION:
URL:https://rihg.ca/event/liam-jon-5/
CATEGORIES:John Brown Grille
END:VEVENT
BEGIN:VEVENT
DTSTART;TZID=America/Halifax:20251206T140000
DTEND;TZID=America/Halifax:20251206T160000
DTSTAMP:20260425T200227
CREATED:20200603T190545Z
LAST-MODIFIED:20251224T162430Z
UID:10017765-1765029600-1765036800@rihg.ca
SUMMARY:Half-Priced Mussels
DESCRIPTION:From 2 until 4 p.m. every day of the week\, our succulent PEI mussels are 50% of the price but still 100% of the flavour! \nYour choice of: \n\nWhite wine & garlic\nCreamy pancetta\nSpicy arribiata\nSpinach & goat cheese
URL:https://rihg.ca/event/half-priced-mussels-2020-10-04/2025-12-06/
CATEGORIES:John Brown Grille
END:VEVENT
BEGIN:VEVENT
DTSTART;TZID=America/Halifax:20251205T170000
DTEND;TZID=America/Halifax:20251205T220000
DTSTAMP:20260425T200227
CREATED:20251117T201423Z
LAST-MODIFIED:20251117T201518Z
UID:10019030-1764954000-1764972000@rihg.ca
SUMMARY:$15 Fish & Chips
DESCRIPTION:8oz haddock filet hand-dipped in our gluten free batter\, served with our dill tartar sauce \nPurchase of a beverage required. Dine-in only.
URL:https://rihg.ca/event/15-fish-chips/2025-12-05/
CATEGORIES:John Brown Grille
END:VEVENT
BEGIN:VEVENT
DTSTART;TZID=America/Halifax:20251205T140000
DTEND;TZID=America/Halifax:20251205T160000
DTSTAMP:20260425T200227
CREATED:20200603T190545Z
LAST-MODIFIED:20251224T162430Z
UID:10017764-1764943200-1764950400@rihg.ca
SUMMARY:Half-Priced Mussels
DESCRIPTION:From 2 until 4 p.m. every day of the week\, our succulent PEI mussels are 50% of the price but still 100% of the flavour! \nYour choice of: \n\nWhite wine & garlic\nCreamy pancetta\nSpicy arribiata\nSpinach & goat cheese
URL:https://rihg.ca/event/half-priced-mussels-2020-10-04/2025-12-05/
CATEGORIES:John Brown Grille
END:VEVENT
BEGIN:VEVENT
DTSTART;TZID=America/Halifax:20251204T170000
DTEND;TZID=America/Halifax:20251204T220000
DTSTAMP:20260425T200227
CREATED:20251117T201649Z
LAST-MODIFIED:20251117T201649Z
UID:10019004-1764867600-1764885600@rihg.ca
SUMMARY:$20 Steak Sandwich
DESCRIPTION:5oz tenderloin\, sautéed portobello mushrooms & Spanish onions\, served open-faced on a grilled crostini with demi sauce \nPurchase of a beverage required. Dine-in only.
URL:https://rihg.ca/event/20-steak-sandwich/2025-12-04/
CATEGORIES:John Brown Grille
END:VEVENT
BEGIN:VEVENT
DTSTART;TZID=America/Halifax:20251204T140000
DTEND;TZID=America/Halifax:20251204T160000
DTSTAMP:20260425T200227
CREATED:20200603T190545Z
LAST-MODIFIED:20251224T162430Z
UID:10017763-1764856800-1764864000@rihg.ca
SUMMARY:Half-Priced Mussels
DESCRIPTION:From 2 until 4 p.m. every day of the week\, our succulent PEI mussels are 50% of the price but still 100% of the flavour! \nYour choice of: \n\nWhite wine & garlic\nCreamy pancetta\nSpicy arribiata\nSpinach & goat cheese
URL:https://rihg.ca/event/half-priced-mussels-2020-10-04/2025-12-04/
CATEGORIES:John Brown Grille
END:VEVENT
BEGIN:VEVENT
DTSTART;TZID=America/Halifax:20251203T170000
DTEND;TZID=America/Halifax:20251203T220000
DTSTAMP:20260425T200227
CREATED:20251117T202141Z
LAST-MODIFIED:20251117T202141Z
UID:10018978-1764781200-1764799200@rihg.ca
SUMMARY:$15 Half-Rack Ribs
DESCRIPTION:Half-rack of smoked\, fall off the bone\, deliciously tender\, baby back ribs\, glazed with BBQ sauce \nPurchase of a beverage required. Dine-in only.
URL:https://rihg.ca/event/15-half-rack-ribs/2025-12-03/
CATEGORIES:John Brown Grille
END:VEVENT
BEGIN:VEVENT
DTSTART;TZID=America/Halifax:20251203T140000
DTEND;TZID=America/Halifax:20251203T160000
DTSTAMP:20260425T200227
CREATED:20200603T190545Z
LAST-MODIFIED:20251224T162430Z
UID:10017762-1764770400-1764777600@rihg.ca
SUMMARY:Half-Priced Mussels
DESCRIPTION:From 2 until 4 p.m. every day of the week\, our succulent PEI mussels are 50% of the price but still 100% of the flavour! \nYour choice of: \n\nWhite wine & garlic\nCreamy pancetta\nSpicy arribiata\nSpinach & goat cheese
URL:https://rihg.ca/event/half-priced-mussels-2020-10-04/2025-12-03/
CATEGORIES:John Brown Grille
END:VEVENT
BEGIN:VEVENT
DTSTART;TZID=America/Halifax:20251202T170000
DTEND;TZID=America/Halifax:20251202T220000
DTSTAMP:20260425T200227
CREATED:20251117T200059Z
LAST-MODIFIED:20251224T162236Z
UID:10020246-1764694800-1764712800@rihg.ca
SUMMARY:2-4-1 Wings
DESCRIPTION:Three delicious sauce options: \n\n\n\n\nlemon pepper  |  sriracha  |  herbed butter and parmesan  |  maple bourbon  |  JB’s picante\n\n\n\n\nShare some delicious JB’s wings with a friend\, or keep them all to yourself. We’re not judging! \nPurchase of a beverage required. Dine-in only.
URL:https://rihg.ca/event/2-4-1-wings-3/2025-12-02/
CATEGORIES:John Brown Grille
END:VEVENT
BEGIN:VEVENT
DTSTART;TZID=America/Halifax:20251202T140000
DTEND;TZID=America/Halifax:20251202T160000
DTSTAMP:20260425T200227
CREATED:20200603T190545Z
LAST-MODIFIED:20251224T162430Z
UID:10017761-1764684000-1764691200@rihg.ca
SUMMARY:Half-Priced Mussels
DESCRIPTION:From 2 until 4 p.m. every day of the week\, our succulent PEI mussels are 50% of the price but still 100% of the flavour! \nYour choice of: \n\nWhite wine & garlic\nCreamy pancetta\nSpicy arribiata\nSpinach & goat cheese
URL:https://rihg.ca/event/half-priced-mussels-2020-10-04/2025-12-02/
CATEGORIES:John Brown Grille
END:VEVENT
BEGIN:VEVENT
DTSTART;TZID=America/Halifax:20251201T170000
DTEND;TZID=America/Halifax:20251201T220000
DTSTAMP:20260425T200227
CREATED:20251117T195645Z
LAST-MODIFIED:20251117T195645Z
UID:10018951-1764608400-1764626400@rihg.ca
SUMMARY:Half Priced Apps
DESCRIPTION:Select appetizers available for 50% off. \nLots of tasty appetizers to choose from: https://johnbrowngrille.com/appetizers/ \nPurchase of a beverage required. Dine-in only.
URL:https://rihg.ca/event/half-priced-apps-2/2025-12-01/
CATEGORIES:John Brown Grille
END:VEVENT
BEGIN:VEVENT
DTSTART;TZID=America/Halifax:20251201T140000
DTEND;TZID=America/Halifax:20251201T160000
DTSTAMP:20260425T200227
CREATED:20200603T190545Z
LAST-MODIFIED:20251224T162430Z
UID:10017760-1764597600-1764604800@rihg.ca
SUMMARY:Half-Priced Mussels
DESCRIPTION:From 2 until 4 p.m. every day of the week\, our succulent PEI mussels are 50% of the price but still 100% of the flavour! \nYour choice of: \n\nWhite wine & garlic\nCreamy pancetta\nSpicy arribiata\nSpinach & goat cheese
URL:https://rihg.ca/event/half-priced-mussels-2020-10-04/2025-12-01/
CATEGORIES:John Brown Grille
END:VEVENT
BEGIN:VEVENT
DTSTART;TZID=America/Halifax:20251130T170000
DTEND;TZID=America/Halifax:20251130T220000
DTSTAMP:20260425T200227
CREATED:20251117T205320Z
LAST-MODIFIED:20251117T205320Z
UID:10019083-1764522000-1764540000@rihg.ca
SUMMARY:2-4-1 Pub Fare
DESCRIPTION:Purchase one “Pub Fare” item and receive the second of equal or lesser value for free: https://johnbrowngrille.com/pub-fare/ \nPurchase of a beverage required. Dine-in only.
URL:https://rihg.ca/event/2-4-1-pub-fare/2025-11-30/
CATEGORIES:John Brown Grille
END:VEVENT
BEGIN:VEVENT
DTSTART;TZID=America/Halifax:20251130T140000
DTEND;TZID=America/Halifax:20251130T160000
DTSTAMP:20260425T200227
CREATED:20200603T190545Z
LAST-MODIFIED:20251224T162430Z
UID:10017759-1764511200-1764518400@rihg.ca
SUMMARY:Half-Priced Mussels
DESCRIPTION:From 2 until 4 p.m. every day of the week\, our succulent PEI mussels are 50% of the price but still 100% of the flavour! \nYour choice of: \n\nWhite wine & garlic\nCreamy pancetta\nSpicy arribiata\nSpinach & goat cheese
URL:https://rihg.ca/event/half-priced-mussels-2020-10-04/2025-11-30/
CATEGORIES:John Brown Grille
END:VEVENT
BEGIN:VEVENT
DTSTART;TZID=America/Halifax:20251129T230000
DTEND;TZID=America/Halifax:20251129T230000
DTSTAMP:20260425T200227
CREATED:20251021T174452Z
LAST-MODIFIED:20251021T174452Z
UID:10018935-1764457200-1764457200@rihg.ca
SUMMARY:MöJö feat/ Dekz
DESCRIPTION:
URL:https://rihg.ca/event/mojo-feat-dekz/
CATEGORIES:John Brown Grille
END:VEVENT
BEGIN:VEVENT
DTSTART;TZID=America/Halifax:20251129T170000
DTEND;TZID=America/Halifax:20251129T220000
DTSTAMP:20260425T200227
CREATED:20251117T202452Z
LAST-MODIFIED:20251117T202452Z
UID:10019056-1764435600-1764453600@rihg.ca
SUMMARY:Half-Priced Nachos
DESCRIPTION:Your choice of John Brown’s Classic or Southwest Nachos for half-price? Sold! \nPurchase of a beverage required. Dine-in only.
URL:https://rihg.ca/event/half-priced-nachos/2025-11-29/
CATEGORIES:John Brown Grille
END:VEVENT
BEGIN:VEVENT
DTSTART;TZID=America/Halifax:20251129T140000
DTEND;TZID=America/Halifax:20251129T170000
DTSTAMP:20260425T200227
CREATED:20251021T174403Z
LAST-MODIFIED:20251021T174403Z
UID:10018934-1764424800-1764435600@rihg.ca
SUMMARY:Saul Good Duo
DESCRIPTION:
URL:https://rihg.ca/event/saul-good-duo-22/
CATEGORIES:John Brown Grille
END:VEVENT
END:VCALENDAR