BEGIN:VCALENDAR
VERSION:2.0
PRODID:-//Red Island Hospitality Group Inc. - ECPv6.15.20//NONSGML v1.0//EN
CALSCALE:GREGORIAN
METHOD:PUBLISH
X-ORIGINAL-URL:https://rihg.ca
X-WR-CALDESC:Events for Red Island Hospitality Group Inc.
REFRESH-INTERVAL;VALUE=DURATION:PT1H
X-Robots-Tag:noindex
X-PUBLISHED-TTL:PT1H
BEGIN:VTIMEZONE
TZID:America/Halifax
BEGIN:DAYLIGHT
TZOFFSETFROM:-0400
TZOFFSETTO:-0300
TZNAME:ADT
DTSTART:20240310T060000
END:DAYLIGHT
BEGIN:STANDARD
TZOFFSETFROM:-0300
TZOFFSETTO:-0400
TZNAME:AST
DTSTART:20241103T050000
END:STANDARD
BEGIN:DAYLIGHT
TZOFFSETFROM:-0400
TZOFFSETTO:-0300
TZNAME:ADT
DTSTART:20250309T060000
END:DAYLIGHT
BEGIN:STANDARD
TZOFFSETFROM:-0300
TZOFFSETTO:-0400
TZNAME:AST
DTSTART:20251102T050000
END:STANDARD
BEGIN:DAYLIGHT
TZOFFSETFROM:-0400
TZOFFSETTO:-0300
TZNAME:ADT
DTSTART:20260308T060000
END:DAYLIGHT
BEGIN:STANDARD
TZOFFSETFROM:-0300
TZOFFSETTO:-0400
TZNAME:AST
DTSTART:20261101T050000
END:STANDARD
END:VTIMEZONE
BEGIN:VEVENT
DTSTART;TZID=America/Halifax:20251129T170000
DTEND;TZID=America/Halifax:20251129T220000
DTSTAMP:20260426T003217
CREATED:20251117T202452Z
LAST-MODIFIED:20251117T202452Z
UID:10019056-1764435600-1764453600@rihg.ca
SUMMARY:Half-Priced Nachos
DESCRIPTION:Your choice of John Brown’s Classic or Southwest Nachos for half-price? Sold! \nPurchase of a beverage required. Dine-in only.
URL:https://rihg.ca/event/half-priced-nachos/2025-11-29/
CATEGORIES:John Brown Grille
END:VEVENT
BEGIN:VEVENT
DTSTART;TZID=America/Halifax:20251129T140000
DTEND;TZID=America/Halifax:20251129T170000
DTSTAMP:20260426T003217
CREATED:20251021T174403Z
LAST-MODIFIED:20251021T174403Z
UID:10018934-1764424800-1764435600@rihg.ca
SUMMARY:Saul Good Duo
DESCRIPTION:
URL:https://rihg.ca/event/saul-good-duo-22/
CATEGORIES:John Brown Grille
END:VEVENT
BEGIN:VEVENT
DTSTART;TZID=America/Halifax:20251129T140000
DTEND;TZID=America/Halifax:20251129T160000
DTSTAMP:20260426T003217
CREATED:20200603T190545Z
LAST-MODIFIED:20251224T162430Z
UID:10017758-1764424800-1764432000@rihg.ca
SUMMARY:Half-Priced Mussels
DESCRIPTION:From 2 until 4 p.m. every day of the week\, our succulent PEI mussels are 50% of the price but still 100% of the flavour! \nYour choice of: \n\nWhite wine & garlic\nCreamy pancetta\nSpicy arribiata\nSpinach & goat cheese
URL:https://rihg.ca/event/half-priced-mussels-2020-10-04/2025-11-29/
CATEGORIES:John Brown Grille
END:VEVENT
BEGIN:VEVENT
DTSTART;TZID=America/Halifax:20251128T170000
DTEND;TZID=America/Halifax:20251128T220000
DTSTAMP:20260426T003217
CREATED:20251117T201423Z
LAST-MODIFIED:20251117T201518Z
UID:10019029-1764349200-1764367200@rihg.ca
SUMMARY:$15 Fish & Chips
DESCRIPTION:8oz haddock filet hand-dipped in our gluten free batter\, served with our dill tartar sauce \nPurchase of a beverage required. Dine-in only.
URL:https://rihg.ca/event/15-fish-chips/2025-11-28/
CATEGORIES:John Brown Grille
END:VEVENT
BEGIN:VEVENT
DTSTART;TZID=America/Halifax:20251128T140000
DTEND;TZID=America/Halifax:20251128T160000
DTSTAMP:20260426T003217
CREATED:20200603T190545Z
LAST-MODIFIED:20251224T162430Z
UID:10017757-1764338400-1764345600@rihg.ca
SUMMARY:Half-Priced Mussels
DESCRIPTION:From 2 until 4 p.m. every day of the week\, our succulent PEI mussels are 50% of the price but still 100% of the flavour! \nYour choice of: \n\nWhite wine & garlic\nCreamy pancetta\nSpicy arribiata\nSpinach & goat cheese
URL:https://rihg.ca/event/half-priced-mussels-2020-10-04/2025-11-28/
CATEGORIES:John Brown Grille
END:VEVENT
BEGIN:VEVENT
DTSTART;TZID=America/Halifax:20251127T170000
DTEND;TZID=America/Halifax:20251127T220000
DTSTAMP:20260426T003217
CREATED:20251117T201649Z
LAST-MODIFIED:20251117T201649Z
UID:10019003-1764262800-1764280800@rihg.ca
SUMMARY:$20 Steak Sandwich
DESCRIPTION:5oz tenderloin\, sautéed portobello mushrooms & Spanish onions\, served open-faced on a grilled crostini with demi sauce \nPurchase of a beverage required. Dine-in only.
URL:https://rihg.ca/event/20-steak-sandwich/2025-11-27/
CATEGORIES:John Brown Grille
END:VEVENT
BEGIN:VEVENT
DTSTART;TZID=America/Halifax:20251127T140000
DTEND;TZID=America/Halifax:20251127T160000
DTSTAMP:20260426T003217
CREATED:20200603T190545Z
LAST-MODIFIED:20251224T162430Z
UID:10017756-1764252000-1764259200@rihg.ca
SUMMARY:Half-Priced Mussels
DESCRIPTION:From 2 until 4 p.m. every day of the week\, our succulent PEI mussels are 50% of the price but still 100% of the flavour! \nYour choice of: \n\nWhite wine & garlic\nCreamy pancetta\nSpicy arribiata\nSpinach & goat cheese
URL:https://rihg.ca/event/half-priced-mussels-2020-10-04/2025-11-27/
CATEGORIES:John Brown Grille
END:VEVENT
BEGIN:VEVENT
DTSTART;TZID=America/Halifax:20251126T170000
DTEND;TZID=America/Halifax:20251126T220000
DTSTAMP:20260426T003217
CREATED:20251117T202141Z
LAST-MODIFIED:20251117T202141Z
UID:10018977-1764176400-1764194400@rihg.ca
SUMMARY:$15 Half-Rack Ribs
DESCRIPTION:Half-rack of smoked\, fall off the bone\, deliciously tender\, baby back ribs\, glazed with BBQ sauce \nPurchase of a beverage required. Dine-in only.
URL:https://rihg.ca/event/15-half-rack-ribs/2025-11-26/
CATEGORIES:John Brown Grille
END:VEVENT
BEGIN:VEVENT
DTSTART;TZID=America/Halifax:20251126T140000
DTEND;TZID=America/Halifax:20251126T160000
DTSTAMP:20260426T003217
CREATED:20200603T190545Z
LAST-MODIFIED:20251224T162430Z
UID:10017755-1764165600-1764172800@rihg.ca
SUMMARY:Half-Priced Mussels
DESCRIPTION:From 2 until 4 p.m. every day of the week\, our succulent PEI mussels are 50% of the price but still 100% of the flavour! \nYour choice of: \n\nWhite wine & garlic\nCreamy pancetta\nSpicy arribiata\nSpinach & goat cheese
URL:https://rihg.ca/event/half-priced-mussels-2020-10-04/2025-11-26/
CATEGORIES:John Brown Grille
END:VEVENT
BEGIN:VEVENT
DTSTART;TZID=America/Halifax:20251125T170000
DTEND;TZID=America/Halifax:20251125T220000
DTSTAMP:20260426T003217
CREATED:20251117T200059Z
LAST-MODIFIED:20251224T162236Z
UID:10020245-1764090000-1764108000@rihg.ca
SUMMARY:2-4-1 Wings
DESCRIPTION:Three delicious sauce options: \n\n\n\n\nlemon pepper  |  sriracha  |  herbed butter and parmesan  |  maple bourbon  |  JB’s picante\n\n\n\n\nShare some delicious JB’s wings with a friend\, or keep them all to yourself. We’re not judging! \nPurchase of a beverage required. Dine-in only.
URL:https://rihg.ca/event/2-4-1-wings-3/2025-11-25/
CATEGORIES:John Brown Grille
END:VEVENT
BEGIN:VEVENT
DTSTART;TZID=America/Halifax:20251125T140000
DTEND;TZID=America/Halifax:20251125T160000
DTSTAMP:20260426T003217
CREATED:20200603T190545Z
LAST-MODIFIED:20251224T162430Z
UID:10017754-1764079200-1764086400@rihg.ca
SUMMARY:Half-Priced Mussels
DESCRIPTION:From 2 until 4 p.m. every day of the week\, our succulent PEI mussels are 50% of the price but still 100% of the flavour! \nYour choice of: \n\nWhite wine & garlic\nCreamy pancetta\nSpicy arribiata\nSpinach & goat cheese
URL:https://rihg.ca/event/half-priced-mussels-2020-10-04/2025-11-25/
CATEGORIES:John Brown Grille
END:VEVENT
BEGIN:VEVENT
DTSTART;TZID=America/Halifax:20251124T170000
DTEND;TZID=America/Halifax:20251124T220000
DTSTAMP:20260426T003217
CREATED:20251117T195645Z
LAST-MODIFIED:20251117T195645Z
UID:10018950-1764003600-1764021600@rihg.ca
SUMMARY:Half Priced Apps
DESCRIPTION:Select appetizers available for 50% off. \nLots of tasty appetizers to choose from: https://johnbrowngrille.com/appetizers/ \nPurchase of a beverage required. Dine-in only.
URL:https://rihg.ca/event/half-priced-apps-2/2025-11-24/
CATEGORIES:John Brown Grille
END:VEVENT
BEGIN:VEVENT
DTSTART;TZID=America/Halifax:20251124T140000
DTEND;TZID=America/Halifax:20251124T160000
DTSTAMP:20260426T003217
CREATED:20200603T190545Z
LAST-MODIFIED:20251224T162430Z
UID:10017753-1763992800-1764000000@rihg.ca
SUMMARY:Half-Priced Mussels
DESCRIPTION:From 2 until 4 p.m. every day of the week\, our succulent PEI mussels are 50% of the price but still 100% of the flavour! \nYour choice of: \n\nWhite wine & garlic\nCreamy pancetta\nSpicy arribiata\nSpinach & goat cheese
URL:https://rihg.ca/event/half-priced-mussels-2020-10-04/2025-11-24/
CATEGORIES:John Brown Grille
END:VEVENT
BEGIN:VEVENT
DTSTART;TZID=America/Halifax:20251123T170000
DTEND;TZID=America/Halifax:20251123T220000
DTSTAMP:20260426T003217
CREATED:20251117T205320Z
LAST-MODIFIED:20251117T205320Z
UID:10019082-1763917200-1763935200@rihg.ca
SUMMARY:2-4-1 Pub Fare
DESCRIPTION:Purchase one “Pub Fare” item and receive the second of equal or lesser value for free: https://johnbrowngrille.com/pub-fare/ \nPurchase of a beverage required. Dine-in only.
URL:https://rihg.ca/event/2-4-1-pub-fare/2025-11-23/
CATEGORIES:John Brown Grille
END:VEVENT
BEGIN:VEVENT
DTSTART;TZID=America/Halifax:20251123T140000
DTEND;TZID=America/Halifax:20251123T160000
DTSTAMP:20260426T003217
CREATED:20200603T190545Z
LAST-MODIFIED:20251224T162430Z
UID:10017752-1763906400-1763913600@rihg.ca
SUMMARY:Half-Priced Mussels
DESCRIPTION:From 2 until 4 p.m. every day of the week\, our succulent PEI mussels are 50% of the price but still 100% of the flavour! \nYour choice of: \n\nWhite wine & garlic\nCreamy pancetta\nSpicy arribiata\nSpinach & goat cheese
URL:https://rihg.ca/event/half-priced-mussels-2020-10-04/2025-11-23/
CATEGORIES:John Brown Grille
END:VEVENT
BEGIN:VEVENT
DTSTART;TZID=America/Halifax:20251122T230000
DTEND;TZID=America/Halifax:20251122T230000
DTSTAMP:20260426T003217
CREATED:20251021T174341Z
LAST-MODIFIED:20251021T174341Z
UID:10018933-1763852400-1763852400@rihg.ca
SUMMARY:DJ Purdy
DESCRIPTION:
URL:https://rihg.ca/event/dj-purdy-2/
CATEGORIES:John Brown Grille
END:VEVENT
BEGIN:VEVENT
DTSTART;TZID=America/Halifax:20251122T170000
DTEND;TZID=America/Halifax:20251122T220000
DTSTAMP:20260426T003217
CREATED:20251117T202452Z
LAST-MODIFIED:20251117T202452Z
UID:10019055-1763830800-1763848800@rihg.ca
SUMMARY:Half-Priced Nachos
DESCRIPTION:Your choice of John Brown’s Classic or Southwest Nachos for half-price? Sold! \nPurchase of a beverage required. Dine-in only.
URL:https://rihg.ca/event/half-priced-nachos/2025-11-22/
CATEGORIES:John Brown Grille
END:VEVENT
BEGIN:VEVENT
DTSTART;TZID=America/Halifax:20251122T140000
DTEND;TZID=America/Halifax:20251122T170000
DTSTAMP:20260426T003217
CREATED:20251021T174304Z
LAST-MODIFIED:20251021T174304Z
UID:10018932-1763820000-1763830800@rihg.ca
SUMMARY:Dave Woodside
DESCRIPTION:
URL:https://rihg.ca/event/dave-woodside-8/
CATEGORIES:John Brown Grille
END:VEVENT
BEGIN:VEVENT
DTSTART;TZID=America/Halifax:20251122T140000
DTEND;TZID=America/Halifax:20251122T160000
DTSTAMP:20260426T003217
CREATED:20200603T190545Z
LAST-MODIFIED:20251224T162430Z
UID:10017751-1763820000-1763827200@rihg.ca
SUMMARY:Half-Priced Mussels
DESCRIPTION:From 2 until 4 p.m. every day of the week\, our succulent PEI mussels are 50% of the price but still 100% of the flavour! \nYour choice of: \n\nWhite wine & garlic\nCreamy pancetta\nSpicy arribiata\nSpinach & goat cheese
URL:https://rihg.ca/event/half-priced-mussels-2020-10-04/2025-11-22/
CATEGORIES:John Brown Grille
END:VEVENT
BEGIN:VEVENT
DTSTART;TZID=America/Halifax:20251121T170000
DTEND;TZID=America/Halifax:20251121T220000
DTSTAMP:20260426T003217
CREATED:20251117T201423Z
LAST-MODIFIED:20251117T201518Z
UID:10019028-1763744400-1763762400@rihg.ca
SUMMARY:$15 Fish & Chips
DESCRIPTION:8oz haddock filet hand-dipped in our gluten free batter\, served with our dill tartar sauce \nPurchase of a beverage required. Dine-in only.
URL:https://rihg.ca/event/15-fish-chips/2025-11-21/
CATEGORIES:John Brown Grille
END:VEVENT
BEGIN:VEVENT
DTSTART;TZID=America/Halifax:20251121T140000
DTEND;TZID=America/Halifax:20251121T160000
DTSTAMP:20260426T003217
CREATED:20200603T190545Z
LAST-MODIFIED:20251224T162430Z
UID:10017750-1763733600-1763740800@rihg.ca
SUMMARY:Half-Priced Mussels
DESCRIPTION:From 2 until 4 p.m. every day of the week\, our succulent PEI mussels are 50% of the price but still 100% of the flavour! \nYour choice of: \n\nWhite wine & garlic\nCreamy pancetta\nSpicy arribiata\nSpinach & goat cheese
URL:https://rihg.ca/event/half-priced-mussels-2020-10-04/2025-11-21/
CATEGORIES:John Brown Grille
END:VEVENT
BEGIN:VEVENT
DTSTART;TZID=America/Halifax:20251120T170000
DTEND;TZID=America/Halifax:20251120T220000
DTSTAMP:20260426T003217
CREATED:20251117T201649Z
LAST-MODIFIED:20251117T201649Z
UID:10019002-1763658000-1763676000@rihg.ca
SUMMARY:$20 Steak Sandwich
DESCRIPTION:5oz tenderloin\, sautéed portobello mushrooms & Spanish onions\, served open-faced on a grilled crostini with demi sauce \nPurchase of a beverage required. Dine-in only.
URL:https://rihg.ca/event/20-steak-sandwich/2025-11-20/
CATEGORIES:John Brown Grille
END:VEVENT
BEGIN:VEVENT
DTSTART;TZID=America/Halifax:20251120T140000
DTEND;TZID=America/Halifax:20251120T160000
DTSTAMP:20260426T003217
CREATED:20200603T190545Z
LAST-MODIFIED:20251224T162430Z
UID:10017749-1763647200-1763654400@rihg.ca
SUMMARY:Half-Priced Mussels
DESCRIPTION:From 2 until 4 p.m. every day of the week\, our succulent PEI mussels are 50% of the price but still 100% of the flavour! \nYour choice of: \n\nWhite wine & garlic\nCreamy pancetta\nSpicy arribiata\nSpinach & goat cheese
URL:https://rihg.ca/event/half-priced-mussels-2020-10-04/2025-11-20/
CATEGORIES:John Brown Grille
END:VEVENT
BEGIN:VEVENT
DTSTART;TZID=America/Halifax:20251119T170000
DTEND;TZID=America/Halifax:20251119T220000
DTSTAMP:20260426T003217
CREATED:20251117T202141Z
LAST-MODIFIED:20251117T202141Z
UID:10018976-1763571600-1763589600@rihg.ca
SUMMARY:$15 Half-Rack Ribs
DESCRIPTION:Half-rack of smoked\, fall off the bone\, deliciously tender\, baby back ribs\, glazed with BBQ sauce \nPurchase of a beverage required. Dine-in only.
URL:https://rihg.ca/event/15-half-rack-ribs/2025-11-19/
CATEGORIES:John Brown Grille
END:VEVENT
BEGIN:VEVENT
DTSTART;TZID=America/Halifax:20251119T140000
DTEND;TZID=America/Halifax:20251119T160000
DTSTAMP:20260426T003217
CREATED:20200603T190545Z
LAST-MODIFIED:20251224T162430Z
UID:10017748-1763560800-1763568000@rihg.ca
SUMMARY:Half-Priced Mussels
DESCRIPTION:From 2 until 4 p.m. every day of the week\, our succulent PEI mussels are 50% of the price but still 100% of the flavour! \nYour choice of: \n\nWhite wine & garlic\nCreamy pancetta\nSpicy arribiata\nSpinach & goat cheese
URL:https://rihg.ca/event/half-priced-mussels-2020-10-04/2025-11-19/
CATEGORIES:John Brown Grille
END:VEVENT
BEGIN:VEVENT
DTSTART;TZID=America/Halifax:20251118T170000
DTEND;TZID=America/Halifax:20251118T220000
DTSTAMP:20260426T003217
CREATED:20251117T200059Z
LAST-MODIFIED:20251224T162236Z
UID:10020244-1763485200-1763503200@rihg.ca
SUMMARY:2-4-1 Wings
DESCRIPTION:Three delicious sauce options: \n\n\n\n\nlemon pepper  |  sriracha  |  herbed butter and parmesan  |  maple bourbon  |  JB’s picante\n\n\n\n\nShare some delicious JB’s wings with a friend\, or keep them all to yourself. We’re not judging! \nPurchase of a beverage required. Dine-in only.
URL:https://rihg.ca/event/2-4-1-wings-3/2025-11-18/
CATEGORIES:John Brown Grille
END:VEVENT
BEGIN:VEVENT
DTSTART;TZID=America/Halifax:20251118T140000
DTEND;TZID=America/Halifax:20251118T160000
DTSTAMP:20260426T003217
CREATED:20200603T190545Z
LAST-MODIFIED:20251224T162430Z
UID:10017747-1763474400-1763481600@rihg.ca
SUMMARY:Half-Priced Mussels
DESCRIPTION:From 2 until 4 p.m. every day of the week\, our succulent PEI mussels are 50% of the price but still 100% of the flavour! \nYour choice of: \n\nWhite wine & garlic\nCreamy pancetta\nSpicy arribiata\nSpinach & goat cheese
URL:https://rihg.ca/event/half-priced-mussels-2020-10-04/2025-11-18/
CATEGORIES:John Brown Grille
END:VEVENT
BEGIN:VEVENT
DTSTART;TZID=America/Halifax:20251117T170000
DTEND;TZID=America/Halifax:20251117T220000
DTSTAMP:20260426T003217
CREATED:20251117T195645Z
LAST-MODIFIED:20251117T195645Z
UID:10018949-1763398800-1763416800@rihg.ca
SUMMARY:Half Priced Apps
DESCRIPTION:Select appetizers available for 50% off. \nLots of tasty appetizers to choose from: https://johnbrowngrille.com/appetizers/ \nPurchase of a beverage required. Dine-in only.
URL:https://rihg.ca/event/half-priced-apps-2/2025-11-17/
CATEGORIES:John Brown Grille
END:VEVENT
BEGIN:VEVENT
DTSTART;TZID=America/Halifax:20251117T140000
DTEND;TZID=America/Halifax:20251117T160000
DTSTAMP:20260426T003217
CREATED:20200603T190545Z
LAST-MODIFIED:20251224T162430Z
UID:10017746-1763388000-1763395200@rihg.ca
SUMMARY:Half-Priced Mussels
DESCRIPTION:From 2 until 4 p.m. every day of the week\, our succulent PEI mussels are 50% of the price but still 100% of the flavour! \nYour choice of: \n\nWhite wine & garlic\nCreamy pancetta\nSpicy arribiata\nSpinach & goat cheese
URL:https://rihg.ca/event/half-priced-mussels-2020-10-04/2025-11-17/
CATEGORIES:John Brown Grille
END:VEVENT
BEGIN:VEVENT
DTSTART;TZID=America/Halifax:20251116T170000
DTEND;TZID=America/Halifax:20251116T220000
DTSTAMP:20260426T003217
CREATED:20251117T205320Z
LAST-MODIFIED:20251117T205320Z
UID:10019081-1763312400-1763330400@rihg.ca
SUMMARY:2-4-1 Pub Fare
DESCRIPTION:Purchase one “Pub Fare” item and receive the second of equal or lesser value for free: https://johnbrowngrille.com/pub-fare/ \nPurchase of a beverage required. Dine-in only.
URL:https://rihg.ca/event/2-4-1-pub-fare/2025-11-16/
CATEGORIES:John Brown Grille
END:VEVENT
END:VCALENDAR