BEGIN:VCALENDAR
VERSION:2.0
PRODID:-//Red Island Hospitality Group Inc. - ECPv6.15.20//NONSGML v1.0//EN
CALSCALE:GREGORIAN
METHOD:PUBLISH
X-ORIGINAL-URL:https://rihg.ca
X-WR-CALDESC:Events for Red Island Hospitality Group Inc.
REFRESH-INTERVAL;VALUE=DURATION:PT1H
X-Robots-Tag:noindex
X-PUBLISHED-TTL:PT1H
BEGIN:VTIMEZONE
TZID:America/Halifax
BEGIN:DAYLIGHT
TZOFFSETFROM:-0400
TZOFFSETTO:-0300
TZNAME:ADT
DTSTART:20250309T060000
END:DAYLIGHT
BEGIN:STANDARD
TZOFFSETFROM:-0300
TZOFFSETTO:-0400
TZNAME:AST
DTSTART:20251102T050000
END:STANDARD
BEGIN:DAYLIGHT
TZOFFSETFROM:-0400
TZOFFSETTO:-0300
TZNAME:ADT
DTSTART:20260308T060000
END:DAYLIGHT
BEGIN:STANDARD
TZOFFSETFROM:-0300
TZOFFSETTO:-0400
TZNAME:AST
DTSTART:20261101T050000
END:STANDARD
BEGIN:DAYLIGHT
TZOFFSETFROM:-0400
TZOFFSETTO:-0300
TZNAME:ADT
DTSTART:20270314T060000
END:DAYLIGHT
BEGIN:STANDARD
TZOFFSETFROM:-0300
TZOFFSETTO:-0400
TZNAME:AST
DTSTART:20271107T050000
END:STANDARD
END:VTIMEZONE
BEGIN:VEVENT
DTSTART;TZID=America/Halifax:20260516T200000
DTEND;TZID=America/Halifax:20260516T220000
DTSTAMP:20260422T063345
CREATED:20260416T161854Z
LAST-MODIFIED:20260416T161916Z
UID:10021238-1778961600-1778968800@rihg.ca
SUMMARY:Half Priced Apps
DESCRIPTION:Select appetizers available for 50% off. \nLots of tasty appetizers to choose from: https://johnbrowngrille.com/appetizers/ \nPurchase of a beverage required. Dine-in only.
URL:https://rihg.ca/event/half-priced-apps-3/2026-05-16/
CATEGORIES:John Brown Grille
END:VEVENT
BEGIN:VEVENT
DTSTART;TZID=America/Halifax:20260517T140000
DTEND;TZID=America/Halifax:20260517T160000
DTSTAMP:20260422T063345
CREATED:20200603T190545Z
LAST-MODIFIED:20251224T162430Z
UID:10020404-1779026400-1779033600@rihg.ca
SUMMARY:Half-Priced Mussels
DESCRIPTION:From 2 until 4 p.m. every day of the week\, our succulent PEI mussels are 50% of the price but still 100% of the flavour! \nYour choice of: \n\nWhite wine & garlic\nCreamy pancetta\nSpicy arribiata\nSpinach & goat cheese
URL:https://rihg.ca/event/half-priced-mussels-2020-10-04/2026-05-17/
CATEGORIES:John Brown Grille
END:VEVENT
BEGIN:VEVENT
DTSTART;TZID=America/Halifax:20260517T200000
DTEND;TZID=America/Halifax:20260517T220000
DTSTAMP:20260422T063345
CREATED:20260416T161854Z
LAST-MODIFIED:20260416T161916Z
UID:10021239-1779048000-1779055200@rihg.ca
SUMMARY:Half Priced Apps
DESCRIPTION:Select appetizers available for 50% off. \nLots of tasty appetizers to choose from: https://johnbrowngrille.com/appetizers/ \nPurchase of a beverage required. Dine-in only.
URL:https://rihg.ca/event/half-priced-apps-3/2026-05-17/
CATEGORIES:John Brown Grille
END:VEVENT
BEGIN:VEVENT
DTSTART;TZID=America/Halifax:20260518T140000
DTEND;TZID=America/Halifax:20260518T160000
DTSTAMP:20260422T063345
CREATED:20200603T190545Z
LAST-MODIFIED:20251224T162430Z
UID:10020405-1779112800-1779120000@rihg.ca
SUMMARY:Half-Priced Mussels
DESCRIPTION:From 2 until 4 p.m. every day of the week\, our succulent PEI mussels are 50% of the price but still 100% of the flavour! \nYour choice of: \n\nWhite wine & garlic\nCreamy pancetta\nSpicy arribiata\nSpinach & goat cheese
URL:https://rihg.ca/event/half-priced-mussels-2020-10-04/2026-05-18/
CATEGORIES:John Brown Grille
END:VEVENT
BEGIN:VEVENT
DTSTART;TZID=America/Halifax:20260518T200000
DTEND;TZID=America/Halifax:20260518T220000
DTSTAMP:20260422T063345
CREATED:20260416T161854Z
LAST-MODIFIED:20260416T161916Z
UID:10021240-1779134400-1779141600@rihg.ca
SUMMARY:Half Priced Apps
DESCRIPTION:Select appetizers available for 50% off. \nLots of tasty appetizers to choose from: https://johnbrowngrille.com/appetizers/ \nPurchase of a beverage required. Dine-in only.
URL:https://rihg.ca/event/half-priced-apps-3/2026-05-18/
CATEGORIES:John Brown Grille
END:VEVENT
BEGIN:VEVENT
DTSTART;TZID=America/Halifax:20260519T140000
DTEND;TZID=America/Halifax:20260519T160000
DTSTAMP:20260422T063345
CREATED:20200603T190545Z
LAST-MODIFIED:20251224T162430Z
UID:10020406-1779199200-1779206400@rihg.ca
SUMMARY:Half-Priced Mussels
DESCRIPTION:From 2 until 4 p.m. every day of the week\, our succulent PEI mussels are 50% of the price but still 100% of the flavour! \nYour choice of: \n\nWhite wine & garlic\nCreamy pancetta\nSpicy arribiata\nSpinach & goat cheese
URL:https://rihg.ca/event/half-priced-mussels-2020-10-04/2026-05-19/
CATEGORIES:John Brown Grille
END:VEVENT
BEGIN:VEVENT
DTSTART;TZID=America/Halifax:20260519T200000
DTEND;TZID=America/Halifax:20260519T220000
DTSTAMP:20260422T063345
CREATED:20260416T161854Z
LAST-MODIFIED:20260416T161916Z
UID:10021241-1779220800-1779228000@rihg.ca
SUMMARY:Half Priced Apps
DESCRIPTION:Select appetizers available for 50% off. \nLots of tasty appetizers to choose from: https://johnbrowngrille.com/appetizers/ \nPurchase of a beverage required. Dine-in only.
URL:https://rihg.ca/event/half-priced-apps-3/2026-05-19/
CATEGORIES:John Brown Grille
END:VEVENT
BEGIN:VEVENT
DTSTART;TZID=America/Halifax:20260520T140000
DTEND;TZID=America/Halifax:20260520T160000
DTSTAMP:20260422T063345
CREATED:20200603T190545Z
LAST-MODIFIED:20251224T162430Z
UID:10020407-1779285600-1779292800@rihg.ca
SUMMARY:Half-Priced Mussels
DESCRIPTION:From 2 until 4 p.m. every day of the week\, our succulent PEI mussels are 50% of the price but still 100% of the flavour! \nYour choice of: \n\nWhite wine & garlic\nCreamy pancetta\nSpicy arribiata\nSpinach & goat cheese
URL:https://rihg.ca/event/half-priced-mussels-2020-10-04/2026-05-20/
CATEGORIES:John Brown Grille
END:VEVENT
BEGIN:VEVENT
DTSTART;TZID=America/Halifax:20260520T200000
DTEND;TZID=America/Halifax:20260520T220000
DTSTAMP:20260422T063345
CREATED:20260416T161854Z
LAST-MODIFIED:20260416T161916Z
UID:10021242-1779307200-1779314400@rihg.ca
SUMMARY:Half Priced Apps
DESCRIPTION:Select appetizers available for 50% off. \nLots of tasty appetizers to choose from: https://johnbrowngrille.com/appetizers/ \nPurchase of a beverage required. Dine-in only.
URL:https://rihg.ca/event/half-priced-apps-3/2026-05-20/
CATEGORIES:John Brown Grille
END:VEVENT
BEGIN:VEVENT
DTSTART;TZID=America/Halifax:20260521T140000
DTEND;TZID=America/Halifax:20260521T160000
DTSTAMP:20260422T063345
CREATED:20200603T190545Z
LAST-MODIFIED:20251224T162430Z
UID:10020408-1779372000-1779379200@rihg.ca
SUMMARY:Half-Priced Mussels
DESCRIPTION:From 2 until 4 p.m. every day of the week\, our succulent PEI mussels are 50% of the price but still 100% of the flavour! \nYour choice of: \n\nWhite wine & garlic\nCreamy pancetta\nSpicy arribiata\nSpinach & goat cheese
URL:https://rihg.ca/event/half-priced-mussels-2020-10-04/2026-05-21/
CATEGORIES:John Brown Grille
END:VEVENT
BEGIN:VEVENT
DTSTART;TZID=America/Halifax:20260521T200000
DTEND;TZID=America/Halifax:20260521T220000
DTSTAMP:20260422T063345
CREATED:20260416T161854Z
LAST-MODIFIED:20260416T161916Z
UID:10021243-1779393600-1779400800@rihg.ca
SUMMARY:Half Priced Apps
DESCRIPTION:Select appetizers available for 50% off. \nLots of tasty appetizers to choose from: https://johnbrowngrille.com/appetizers/ \nPurchase of a beverage required. Dine-in only.
URL:https://rihg.ca/event/half-priced-apps-3/2026-05-21/
CATEGORIES:John Brown Grille
END:VEVENT
BEGIN:VEVENT
DTSTART;TZID=America/Halifax:20260522T140000
DTEND;TZID=America/Halifax:20260522T160000
DTSTAMP:20260422T063345
CREATED:20200603T190545Z
LAST-MODIFIED:20251224T162430Z
UID:10020409-1779458400-1779465600@rihg.ca
SUMMARY:Half-Priced Mussels
DESCRIPTION:From 2 until 4 p.m. every day of the week\, our succulent PEI mussels are 50% of the price but still 100% of the flavour! \nYour choice of: \n\nWhite wine & garlic\nCreamy pancetta\nSpicy arribiata\nSpinach & goat cheese
URL:https://rihg.ca/event/half-priced-mussels-2020-10-04/2026-05-22/
CATEGORIES:John Brown Grille
END:VEVENT
BEGIN:VEVENT
DTSTART;TZID=America/Halifax:20260522T200000
DTEND;TZID=America/Halifax:20260522T220000
DTSTAMP:20260422T063345
CREATED:20260416T161854Z
LAST-MODIFIED:20260416T161916Z
UID:10021244-1779480000-1779487200@rihg.ca
SUMMARY:Half Priced Apps
DESCRIPTION:Select appetizers available for 50% off. \nLots of tasty appetizers to choose from: https://johnbrowngrille.com/appetizers/ \nPurchase of a beverage required. Dine-in only.
URL:https://rihg.ca/event/half-priced-apps-3/2026-05-22/
CATEGORIES:John Brown Grille
END:VEVENT
BEGIN:VEVENT
DTSTART;TZID=America/Halifax:20260523T140000
DTEND;TZID=America/Halifax:20260523T160000
DTSTAMP:20260422T063345
CREATED:20200603T190545Z
LAST-MODIFIED:20251224T162430Z
UID:10020410-1779544800-1779552000@rihg.ca
SUMMARY:Half-Priced Mussels
DESCRIPTION:From 2 until 4 p.m. every day of the week\, our succulent PEI mussels are 50% of the price but still 100% of the flavour! \nYour choice of: \n\nWhite wine & garlic\nCreamy pancetta\nSpicy arribiata\nSpinach & goat cheese
URL:https://rihg.ca/event/half-priced-mussels-2020-10-04/2026-05-23/
CATEGORIES:John Brown Grille
END:VEVENT
BEGIN:VEVENT
DTSTART;TZID=America/Halifax:20260523T140000
DTEND;TZID=America/Halifax:20260523T170000
DTSTAMP:20260422T063345
CREATED:20260416T162827Z
LAST-MODIFIED:20260416T162827Z
UID:10021273-1779544800-1779555600@rihg.ca
SUMMARY:Kim Albert Trio
DESCRIPTION:
URL:https://rihg.ca/event/kim-albert-trio-18/
CATEGORIES:John Brown Grille
END:VEVENT
BEGIN:VEVENT
DTSTART;TZID=America/Halifax:20260523T200000
DTEND;TZID=America/Halifax:20260523T220000
DTSTAMP:20260422T063345
CREATED:20260416T161854Z
LAST-MODIFIED:20260416T161916Z
UID:10021245-1779566400-1779573600@rihg.ca
SUMMARY:Half Priced Apps
DESCRIPTION:Select appetizers available for 50% off. \nLots of tasty appetizers to choose from: https://johnbrowngrille.com/appetizers/ \nPurchase of a beverage required. Dine-in only.
URL:https://rihg.ca/event/half-priced-apps-3/2026-05-23/
CATEGORIES:John Brown Grille
END:VEVENT
BEGIN:VEVENT
DTSTART;TZID=America/Halifax:20260524T140000
DTEND;TZID=America/Halifax:20260524T160000
DTSTAMP:20260422T063345
CREATED:20200603T190545Z
LAST-MODIFIED:20251224T162430Z
UID:10020411-1779631200-1779638400@rihg.ca
SUMMARY:Half-Priced Mussels
DESCRIPTION:From 2 until 4 p.m. every day of the week\, our succulent PEI mussels are 50% of the price but still 100% of the flavour! \nYour choice of: \n\nWhite wine & garlic\nCreamy pancetta\nSpicy arribiata\nSpinach & goat cheese
URL:https://rihg.ca/event/half-priced-mussels-2020-10-04/2026-05-24/
CATEGORIES:John Brown Grille
END:VEVENT
BEGIN:VEVENT
DTSTART;TZID=America/Halifax:20260524T200000
DTEND;TZID=America/Halifax:20260524T220000
DTSTAMP:20260422T063345
CREATED:20260416T161854Z
LAST-MODIFIED:20260416T161916Z
UID:10021246-1779652800-1779660000@rihg.ca
SUMMARY:Half Priced Apps
DESCRIPTION:Select appetizers available for 50% off. \nLots of tasty appetizers to choose from: https://johnbrowngrille.com/appetizers/ \nPurchase of a beverage required. Dine-in only.
URL:https://rihg.ca/event/half-priced-apps-3/2026-05-24/
CATEGORIES:John Brown Grille
END:VEVENT
BEGIN:VEVENT
DTSTART;TZID=America/Halifax:20260525T140000
DTEND;TZID=America/Halifax:20260525T160000
DTSTAMP:20260422T063345
CREATED:20200603T190545Z
LAST-MODIFIED:20251224T162430Z
UID:10020412-1779717600-1779724800@rihg.ca
SUMMARY:Half-Priced Mussels
DESCRIPTION:From 2 until 4 p.m. every day of the week\, our succulent PEI mussels are 50% of the price but still 100% of the flavour! \nYour choice of: \n\nWhite wine & garlic\nCreamy pancetta\nSpicy arribiata\nSpinach & goat cheese
URL:https://rihg.ca/event/half-priced-mussels-2020-10-04/2026-05-25/
CATEGORIES:John Brown Grille
END:VEVENT
BEGIN:VEVENT
DTSTART;TZID=America/Halifax:20260525T200000
DTEND;TZID=America/Halifax:20260525T220000
DTSTAMP:20260422T063345
CREATED:20260416T161854Z
LAST-MODIFIED:20260416T161916Z
UID:10021247-1779739200-1779746400@rihg.ca
SUMMARY:Half Priced Apps
DESCRIPTION:Select appetizers available for 50% off. \nLots of tasty appetizers to choose from: https://johnbrowngrille.com/appetizers/ \nPurchase of a beverage required. Dine-in only.
URL:https://rihg.ca/event/half-priced-apps-3/2026-05-25/
CATEGORIES:John Brown Grille
END:VEVENT
BEGIN:VEVENT
DTSTART;TZID=America/Halifax:20260526T140000
DTEND;TZID=America/Halifax:20260526T160000
DTSTAMP:20260422T063345
CREATED:20200603T190545Z
LAST-MODIFIED:20251224T162430Z
UID:10020413-1779804000-1779811200@rihg.ca
SUMMARY:Half-Priced Mussels
DESCRIPTION:From 2 until 4 p.m. every day of the week\, our succulent PEI mussels are 50% of the price but still 100% of the flavour! \nYour choice of: \n\nWhite wine & garlic\nCreamy pancetta\nSpicy arribiata\nSpinach & goat cheese
URL:https://rihg.ca/event/half-priced-mussels-2020-10-04/2026-05-26/
CATEGORIES:John Brown Grille
END:VEVENT
BEGIN:VEVENT
DTSTART;TZID=America/Halifax:20260526T200000
DTEND;TZID=America/Halifax:20260526T220000
DTSTAMP:20260422T063345
CREATED:20260416T161854Z
LAST-MODIFIED:20260416T161916Z
UID:10021248-1779825600-1779832800@rihg.ca
SUMMARY:Half Priced Apps
DESCRIPTION:Select appetizers available for 50% off. \nLots of tasty appetizers to choose from: https://johnbrowngrille.com/appetizers/ \nPurchase of a beverage required. Dine-in only.
URL:https://rihg.ca/event/half-priced-apps-3/2026-05-26/
CATEGORIES:John Brown Grille
END:VEVENT
BEGIN:VEVENT
DTSTART;TZID=America/Halifax:20260527T140000
DTEND;TZID=America/Halifax:20260527T160000
DTSTAMP:20260422T063345
CREATED:20200603T190545Z
LAST-MODIFIED:20251224T162430Z
UID:10020414-1779890400-1779897600@rihg.ca
SUMMARY:Half-Priced Mussels
DESCRIPTION:From 2 until 4 p.m. every day of the week\, our succulent PEI mussels are 50% of the price but still 100% of the flavour! \nYour choice of: \n\nWhite wine & garlic\nCreamy pancetta\nSpicy arribiata\nSpinach & goat cheese
URL:https://rihg.ca/event/half-priced-mussels-2020-10-04/2026-05-27/
CATEGORIES:John Brown Grille
END:VEVENT
BEGIN:VEVENT
DTSTART;TZID=America/Halifax:20260527T200000
DTEND;TZID=America/Halifax:20260527T220000
DTSTAMP:20260422T063345
CREATED:20260416T161854Z
LAST-MODIFIED:20260416T161916Z
UID:10021249-1779912000-1779919200@rihg.ca
SUMMARY:Half Priced Apps
DESCRIPTION:Select appetizers available for 50% off. \nLots of tasty appetizers to choose from: https://johnbrowngrille.com/appetizers/ \nPurchase of a beverage required. Dine-in only.
URL:https://rihg.ca/event/half-priced-apps-3/2026-05-27/
CATEGORIES:John Brown Grille
END:VEVENT
BEGIN:VEVENT
DTSTART;TZID=America/Halifax:20260528T140000
DTEND;TZID=America/Halifax:20260528T160000
DTSTAMP:20260422T063345
CREATED:20200603T190545Z
LAST-MODIFIED:20251224T162430Z
UID:10020415-1779976800-1779984000@rihg.ca
SUMMARY:Half-Priced Mussels
DESCRIPTION:From 2 until 4 p.m. every day of the week\, our succulent PEI mussels are 50% of the price but still 100% of the flavour! \nYour choice of: \n\nWhite wine & garlic\nCreamy pancetta\nSpicy arribiata\nSpinach & goat cheese
URL:https://rihg.ca/event/half-priced-mussels-2020-10-04/2026-05-28/
CATEGORIES:John Brown Grille
END:VEVENT
BEGIN:VEVENT
DTSTART;TZID=America/Halifax:20260528T200000
DTEND;TZID=America/Halifax:20260528T220000
DTSTAMP:20260422T063345
CREATED:20260416T161854Z
LAST-MODIFIED:20260416T161916Z
UID:10021250-1779998400-1780005600@rihg.ca
SUMMARY:Half Priced Apps
DESCRIPTION:Select appetizers available for 50% off. \nLots of tasty appetizers to choose from: https://johnbrowngrille.com/appetizers/ \nPurchase of a beverage required. Dine-in only.
URL:https://rihg.ca/event/half-priced-apps-3/2026-05-28/
CATEGORIES:John Brown Grille
END:VEVENT
BEGIN:VEVENT
DTSTART;TZID=America/Halifax:20260529T140000
DTEND;TZID=America/Halifax:20260529T160000
DTSTAMP:20260422T063345
CREATED:20200603T190545Z
LAST-MODIFIED:20251224T162430Z
UID:10020416-1780063200-1780070400@rihg.ca
SUMMARY:Half-Priced Mussels
DESCRIPTION:From 2 until 4 p.m. every day of the week\, our succulent PEI mussels are 50% of the price but still 100% of the flavour! \nYour choice of: \n\nWhite wine & garlic\nCreamy pancetta\nSpicy arribiata\nSpinach & goat cheese
URL:https://rihg.ca/event/half-priced-mussels-2020-10-04/2026-05-29/
CATEGORIES:John Brown Grille
END:VEVENT
BEGIN:VEVENT
DTSTART;TZID=America/Halifax:20260529T200000
DTEND;TZID=America/Halifax:20260529T220000
DTSTAMP:20260422T063345
CREATED:20260416T161854Z
LAST-MODIFIED:20260416T161916Z
UID:10021251-1780084800-1780092000@rihg.ca
SUMMARY:Half Priced Apps
DESCRIPTION:Select appetizers available for 50% off. \nLots of tasty appetizers to choose from: https://johnbrowngrille.com/appetizers/ \nPurchase of a beverage required. Dine-in only.
URL:https://rihg.ca/event/half-priced-apps-3/2026-05-29/
CATEGORIES:John Brown Grille
END:VEVENT
BEGIN:VEVENT
DTSTART;TZID=America/Halifax:20260530T140000
DTEND;TZID=America/Halifax:20260530T160000
DTSTAMP:20260422T063345
CREATED:20200603T190545Z
LAST-MODIFIED:20251224T162430Z
UID:10020417-1780149600-1780156800@rihg.ca
SUMMARY:Half-Priced Mussels
DESCRIPTION:From 2 until 4 p.m. every day of the week\, our succulent PEI mussels are 50% of the price but still 100% of the flavour! \nYour choice of: \n\nWhite wine & garlic\nCreamy pancetta\nSpicy arribiata\nSpinach & goat cheese
URL:https://rihg.ca/event/half-priced-mussels-2020-10-04/2026-05-30/
CATEGORIES:John Brown Grille
END:VEVENT
BEGIN:VEVENT
DTSTART;TZID=America/Halifax:20260530T200000
DTEND;TZID=America/Halifax:20260530T220000
DTSTAMP:20260422T063345
CREATED:20260416T161854Z
LAST-MODIFIED:20260416T161916Z
UID:10021252-1780171200-1780178400@rihg.ca
SUMMARY:Half Priced Apps
DESCRIPTION:Select appetizers available for 50% off. \nLots of tasty appetizers to choose from: https://johnbrowngrille.com/appetizers/ \nPurchase of a beverage required. Dine-in only.
URL:https://rihg.ca/event/half-priced-apps-3/2026-05-30/
CATEGORIES:John Brown Grille
END:VEVENT
END:VCALENDAR