BEGIN:VCALENDAR
VERSION:2.0
PRODID:-//Red Island Hospitality Group Inc. - ECPv6.15.20//NONSGML v1.0//EN
CALSCALE:GREGORIAN
METHOD:PUBLISH
X-WR-CALNAME:Red Island Hospitality Group Inc.
X-ORIGINAL-URL:https://rihg.ca
X-WR-CALDESC:Events for Red Island Hospitality Group Inc.
REFRESH-INTERVAL;VALUE=DURATION:PT1H
X-Robots-Tag:noindex
X-PUBLISHED-TTL:PT1H
BEGIN:VTIMEZONE
TZID:America/Halifax
BEGIN:DAYLIGHT
TZOFFSETFROM:-0400
TZOFFSETTO:-0300
TZNAME:ADT
DTSTART:20250309T060000
END:DAYLIGHT
BEGIN:STANDARD
TZOFFSETFROM:-0300
TZOFFSETTO:-0400
TZNAME:AST
DTSTART:20251102T050000
END:STANDARD
BEGIN:DAYLIGHT
TZOFFSETFROM:-0400
TZOFFSETTO:-0300
TZNAME:ADT
DTSTART:20260308T060000
END:DAYLIGHT
BEGIN:STANDARD
TZOFFSETFROM:-0300
TZOFFSETTO:-0400
TZNAME:AST
DTSTART:20261101T050000
END:STANDARD
BEGIN:DAYLIGHT
TZOFFSETFROM:-0400
TZOFFSETTO:-0300
TZNAME:ADT
DTSTART:20270314T060000
END:DAYLIGHT
BEGIN:STANDARD
TZOFFSETFROM:-0300
TZOFFSETTO:-0400
TZNAME:AST
DTSTART:20271107T050000
END:STANDARD
END:VTIMEZONE
BEGIN:VEVENT
DTSTART;TZID=America/Halifax:20260310T170000
DTEND;TZID=America/Halifax:20260310T220000
DTSTAMP:20260420T155750
CREATED:20251117T200059Z
LAST-MODIFIED:20251224T162236Z
UID:10020260-1773162000-1773180000@rihg.ca
SUMMARY:2-4-1 Wings
DESCRIPTION:Three delicious sauce options: \n\n\n\n\nlemon pepper  |  sriracha  |  herbed butter and parmesan  |  maple bourbon  |  JB’s picante\n\n\n\n\nShare some delicious JB’s wings with a friend\, or keep them all to yourself. We’re not judging! \nPurchase of a beverage required. Dine-in only.
URL:https://rihg.ca/event/2-4-1-wings-3/2026-03-10/
CATEGORIES:John Brown Grille
END:VEVENT
BEGIN:VEVENT
DTSTART;TZID=America/Halifax:20260310T160000
DTEND;TZID=America/Halifax:20260310T160000
DTSTAMP:20260420T155750
CREATED:20250523T165703Z
LAST-MODIFIED:20251223T195521Z
UID:10019870-1773158400-1773158400@rihg.ca
SUMMARY:$3 Taco Tuesday
DESCRIPTION:It’s BA-ACK!!! Charlottetown’s favourite Tuesday night special: Tasty taco beef with lettuce\, tomato\, and grated cheese\, drizzled with crema fresca\, and nestled in your choice of soft or hard shell taco (or both!) \n**Special requires the purchase of a beverage \n**Dine-in only.
URL:https://rihg.ca/event/taco-tuesday-2/2026-03-10/
CATEGORIES:The Factory
END:VEVENT
BEGIN:VEVENT
DTSTART;TZID=America/Halifax:20260310T140000
DTEND;TZID=America/Halifax:20260310T160000
DTSTAMP:20260420T155750
CREATED:20200603T190545Z
LAST-MODIFIED:20251224T162430Z
UID:10020336-1773151200-1773158400@rihg.ca
SUMMARY:Half-Priced Mussels
DESCRIPTION:From 2 until 4 p.m. every day of the week\, our succulent PEI mussels are 50% of the price but still 100% of the flavour! \nYour choice of: \n\nWhite wine & garlic\nCreamy pancetta\nSpicy arribiata\nSpinach & goat cheese
URL:https://rihg.ca/event/half-priced-mussels-2020-10-04/2026-03-10/
CATEGORIES:John Brown Grille
END:VEVENT
BEGIN:VEVENT
DTSTART;TZID=America/Halifax:20260310T110000
DTEND;TZID=America/Halifax:20260310T150000
DTSTAMP:20260420T155750
CREATED:20251117T205637Z
LAST-MODIFIED:20251117T205830Z
UID:10019196-1773140400-1773154800@rihg.ca
SUMMARY:$13 Soup & Sandwich
DESCRIPTION:Enjoy our chef’s daily soup & sandwich creation. \nAvailable weekdays between 11 and 3 pm. \nPurchase of a beverage required. Dine-in only.
URL:https://rihg.ca/event/13-soup-sandwich/2026-03-10/
END:VEVENT
BEGIN:VEVENT
DTSTART;TZID=America/Halifax:20260309T220000
DTEND;TZID=America/Halifax:20260309T220000
DTSTAMP:20260420T155750
CREATED:20250404T165601Z
LAST-MODIFIED:20251223T192613Z
UID:10018216-1773093600-1773093600@rihg.ca
SUMMARY:Open Mic with Travis
DESCRIPTION:Monday Open Mic is BACK!!!!
URL:https://rihg.ca/event/open-mic-with-travis/2026-03-09/
CATEGORIES:Hunter’s Ale House
END:VEVENT
BEGIN:VEVENT
DTSTART;TZID=America/Halifax:20260309T210000
DTEND;TZID=America/Halifax:20260309T210000
DTSTAMP:20260420T155750
CREATED:20181126T213257Z
LAST-MODIFIED:20251223T192532Z
UID:10019256-1773090000-1773090000@rihg.ca
SUMMARY:1/2 Priced Nachos
DESCRIPTION:Check out our variety of nachos: \nIt would take a few months to try a new one every week… \nCHALLENGE ACCEPTED! \n**Must purchase a beverage to order 1/2 priced nachos
URL:https://rihg.ca/event/1-2-priced-nachos-2019-06-03/2026-03-09/
CATEGORIES:Hunter’s Ale House
END:VEVENT
BEGIN:VEVENT
DTSTART;TZID=America/Halifax:20260309T170000
DTEND;TZID=America/Halifax:20260309T220000
DTSTAMP:20260420T155750
CREATED:20251117T195645Z
LAST-MODIFIED:20251117T195645Z
UID:10018965-1773075600-1773093600@rihg.ca
SUMMARY:Half Priced Apps
DESCRIPTION:Select appetizers available for 50% off. \nLots of tasty appetizers to choose from: https://johnbrowngrille.com/appetizers/ \nPurchase of a beverage required. Dine-in only.
URL:https://rihg.ca/event/half-priced-apps-2/2026-03-09/
CATEGORIES:John Brown Grille
END:VEVENT
BEGIN:VEVENT
DTSTART;TZID=America/Halifax:20260309T140000
DTEND;TZID=America/Halifax:20260309T160000
DTSTAMP:20260420T155750
CREATED:20200603T190545Z
LAST-MODIFIED:20251224T162430Z
UID:10020335-1773064800-1773072000@rihg.ca
SUMMARY:Half-Priced Mussels
DESCRIPTION:From 2 until 4 p.m. every day of the week\, our succulent PEI mussels are 50% of the price but still 100% of the flavour! \nYour choice of: \n\nWhite wine & garlic\nCreamy pancetta\nSpicy arribiata\nSpinach & goat cheese
URL:https://rihg.ca/event/half-priced-mussels-2020-10-04/2026-03-09/
CATEGORIES:John Brown Grille
END:VEVENT
BEGIN:VEVENT
DTSTART;TZID=America/Halifax:20260309T110000
DTEND;TZID=America/Halifax:20260309T150000
DTSTAMP:20260420T155750
CREATED:20251117T205637Z
LAST-MODIFIED:20251117T205830Z
UID:10019195-1773054000-1773068400@rihg.ca
SUMMARY:$13 Soup & Sandwich
DESCRIPTION:Enjoy our chef’s daily soup & sandwich creation. \nAvailable weekdays between 11 and 3 pm. \nPurchase of a beverage required. Dine-in only.
URL:https://rihg.ca/event/13-soup-sandwich/2026-03-09/
END:VEVENT
BEGIN:VEVENT
DTSTART;TZID=America/Halifax:20260308T210000
DTEND;TZID=America/Halifax:20260308T210000
DTSTAMP:20260420T155750
CREATED:20211203T211110Z
LAST-MODIFIED:20251223T195142Z
UID:10019766-1773003600-1773003600@rihg.ca
SUMMARY:Name That Tune Trivia with Andrew Rollins
DESCRIPTION:You think you know your music? Think again! Andrew will put your musical knowledge to the test! \nWe will be using Hunter’s “wooden nickel” drink tokens for beer questions. These can be redeemed for a domestic bottled beer\, well shot\, or non-alcoholic beverage\, when won or at any future time! \nWe look forward to seeing you on Sunday night!!!
URL:https://rihg.ca/event/name-that-tune-trivia-with-andrew-rollins-2/2026-03-08/
CATEGORIES:Hunter’s Ale House
END:VEVENT
BEGIN:VEVENT
DTSTART;TZID=America/Halifax:20260308T210000
DTEND;TZID=America/Halifax:20260308T210000
DTSTAMP:20260420T155750
CREATED:20160505T172902Z
LAST-MODIFIED:20251223T195103Z
UID:10019714-1773003600-1773003600@rihg.ca
SUMMARY:1/2 Priced Poutine
DESCRIPTION:Have your seen our Poutinerie? You could pretty much have a new one every week for a year! Well\, half a year anyway… \n  \n**Purchase of a beverage is required to order a 1/2 priced poutine.
URL:https://rihg.ca/event/12-price-poutine-2016-06-05-2016-09-04-2016-11-06-2017-06-25-2018-10-07-2019-06-02/2026-03-08/
CATEGORIES:Hunter’s Ale House
END:VEVENT
BEGIN:VEVENT
DTSTART;TZID=America/Halifax:20260308T180000
DTEND;TZID=America/Halifax:20260308T193000
DTSTAMP:20260420T155750
CREATED:20260210T200244Z
LAST-MODIFIED:20260210T200244Z
UID:10020753-1772992800-1772998200@rihg.ca
SUMMARY:Stand-Up Night in the Comedy Cave
DESCRIPTION: Alistair Ogden — Live Stand-Up in The Comedy Cave\n\nJoin us for a special night of stand-up comedy in The Comedy Cave as Alistair Ogden takes the stage on Sunday\, March 8th!\nAlistair is a rising Canadian comedy star\, with appearances on Just For Laughs\, Canada’s Got Talent\, CBC\, and more. Known for his sharp writing and relatable storytelling\, this is your chance to catch him up close in an intimate venue.\nThe night will feature 80 minutes of comedy\, kicking off with one or two opening acts (TBA)\, followed by an hour-long set from Alistair.\n\n Drink specials during the show Arrive early to snag a great seat\n Sunday\, March 8th Doors open at 5:30 PM Show runs 6:00–7:30 PM 19+ event\n\n Planning to eat before the show?We recommend heading to our sister restaurant Hunter’s Ale House\, located right next door\, for a bite before doors open.\nTo help things run smoothly\, we won’t be offering food service downstairs before the show. This will make it easier for everyone to grab drinks and get settled in The Comedy Cave.\n\n **Limited Early Bird Pricing Available**\nGet your tickets here: Stand Up Night in the Comedy Cave
URL:https://rihg.ca/event/stand-up-night-in-the-comedy-cave-6/
CATEGORIES:The Factory
END:VEVENT
BEGIN:VEVENT
DTSTART;TZID=America/Halifax:20260308T170000
DTEND;TZID=America/Halifax:20260308T220000
DTSTAMP:20260420T155750
CREATED:20251117T205320Z
LAST-MODIFIED:20251117T205320Z
UID:10019097-1772989200-1773007200@rihg.ca
SUMMARY:2-4-1 Pub Fare
DESCRIPTION:Purchase one “Pub Fare” item and receive the second of equal or lesser value for free: https://johnbrowngrille.com/pub-fare/ \nPurchase of a beverage required. Dine-in only.
URL:https://rihg.ca/event/2-4-1-pub-fare/2026-03-08/
CATEGORIES:John Brown Grille
END:VEVENT
BEGIN:VEVENT
DTSTART;TZID=America/Halifax:20260308T140000
DTEND;TZID=America/Halifax:20260308T160000
DTSTAMP:20260420T155750
CREATED:20200603T190545Z
LAST-MODIFIED:20251224T162430Z
UID:10020334-1772978400-1772985600@rihg.ca
SUMMARY:Half-Priced Mussels
DESCRIPTION:From 2 until 4 p.m. every day of the week\, our succulent PEI mussels are 50% of the price but still 100% of the flavour! \nYour choice of: \n\nWhite wine & garlic\nCreamy pancetta\nSpicy arribiata\nSpinach & goat cheese
URL:https://rihg.ca/event/half-priced-mussels-2020-10-04/2026-03-08/
CATEGORIES:John Brown Grille
END:VEVENT
BEGIN:VEVENT
DTSTART;TZID=America/Halifax:20260307T230000
DTEND;TZID=America/Halifax:20260307T230000
DTSTAMP:20260420T155750
CREATED:20260220T193825Z
LAST-MODIFIED:20260220T194759Z
UID:10020777-1772924400-1772924400@rihg.ca
SUMMARY:Rave in the Cave: DJ Viraaj
DESCRIPTION:
URL:https://rihg.ca/event/dj-viraaj/
CATEGORIES:The Factory
END:VEVENT
BEGIN:VEVENT
DTSTART;TZID=America/Halifax:20260307T230000
DTEND;TZID=America/Halifax:20260307T230000
DTSTAMP:20260420T155750
CREATED:20260220T193641Z
LAST-MODIFIED:20260220T193641Z
UID:10020776-1772924400-1772924400@rihg.ca
SUMMARY:DJ METHoD
DESCRIPTION:
URL:https://rihg.ca/event/dj-method-43/
CATEGORIES:The Factory
END:VEVENT
BEGIN:VEVENT
DTSTART;TZID=America/Halifax:20260307T230000
DTEND;TZID=America/Halifax:20260307T230000
DTSTAMP:20260420T155750
CREATED:20260220T192237Z
LAST-MODIFIED:20260220T192237Z
UID:10020768-1772924400-1772924400@rihg.ca
SUMMARY:DJ Mossboy
DESCRIPTION:
URL:https://rihg.ca/event/dj-mossboy-2/
CATEGORIES:John Brown Grille
END:VEVENT
BEGIN:VEVENT
DTSTART;TZID=America/Halifax:20260307T230000
DTEND;TZID=America/Halifax:20260307T230000
DTSTAMP:20260420T155750
CREATED:20260220T184428Z
LAST-MODIFIED:20260220T184428Z
UID:10020756-1772924400-1772924400@rihg.ca
SUMMARY:The Soosh
DESCRIPTION:
URL:https://rihg.ca/event/the-soosh/
CATEGORIES:Hunter’s Ale House
END:VEVENT
BEGIN:VEVENT
DTSTART;TZID=America/Halifax:20260307T220000
DTEND;TZID=America/Halifax:20260307T220000
DTSTAMP:20260420T155750
CREATED:20241004T173643Z
LAST-MODIFIED:20251223T200119Z
UID:10020199-1772920800-1772920800@rihg.ca
SUMMARY:Saturday Night Shaker!
DESCRIPTION:The Corner’s rocking every Saturday night and here at the Factory it’s an absolute S-H-A-K-E-R! \nDance the night away to the best DJ beats in town. \nBlue Lobster drink specials start at 10pm.
URL:https://rihg.ca/event/saturday-night-shaker/2026-03-07/
CATEGORIES:The Factory
END:VEVENT
BEGIN:VEVENT
DTSTART;TZID=America/Halifax:20260307T210000
DTEND;TZID=America/Halifax:20260307T210000
DTSTAMP:20260420T155750
CREATED:20160505T164046Z
LAST-MODIFIED:20251223T194947Z
UID:10019662-1772917200-1772917200@rihg.ca
SUMMARY:Pitcher & Wings = $27.99
DESCRIPTION:Pick a pitcher and choose your sauce for only $27.99. We’ll do the rest! \n  \n**Special includes choice of a domestic Molson pitcher and 1 lb wings.
URL:https://rihg.ca/event/pitcher-wing-special-2016-06-04-2016-09-03-2016-11-05-2017-06-24-2018-10-06-2019-06-01/2026-03-07/
CATEGORIES:Hunter’s Ale House
END:VEVENT
BEGIN:VEVENT
DTSTART;TZID=America/Halifax:20260307T200000
DTEND;TZID=America/Halifax:20260307T220000
DTSTAMP:20260420T155750
CREATED:20260210T195659Z
LAST-MODIFIED:20260210T195659Z
UID:10020752-1772913600-1772920800@rihg.ca
SUMMARY:Stand-Up Night in the Comedy Cave
DESCRIPTION: Comedy Night in The Comedy Cave — Hosted by Jalen MacLeod\nGet ready for another night of inappropriate laughs\, giggles\, and questionable chuckles! Jalen MacLeod\, quickly becoming known for his storytelling and observational comedy\, is back with a hand-picked lineup of all-star comedians from Moncton\, Halifax\, and Montreal.\n\nJoining Jalen for this unforgettable night: David Haddad (Moncton) — Hubcap Comedy Contest finalist Adrienne Gabrielle (Halifax) — Sorry Comedy Contest finalist Harrison Weinreb (Montreal) — Seen at Just For Laughs\, New York Comedy Festival\, Edinburgh Fringe\, and more\n\n Date: Saturday\, March 7 Doors open: 7:00 PM Showtime: 8:00–10:00 PM 19+ Event\n\nCome early to grab a good seat and enjoy a night of top-tier Canadian comedy in an intimate setting. Drink specials will be available during the show.\n\n Tickets available through this page — don’t miss out on the laughs!\n\n\nGet your tickets here: Stand Up Night in the Comedy Cave
URL:https://rihg.ca/event/stand-up-night-in-the-comedy-cave-5/
CATEGORIES:The Factory
ATTACH;FMTTYPE=image/jpeg:https://rihg.ca/wp-content/uploads/2026/02/2ebe930a-e16c-45c6-8077-214e2b69b570.jpeg
END:VEVENT
BEGIN:VEVENT
DTSTART;TZID=America/Halifax:20260307T190000
DTEND;TZID=America/Halifax:20260307T210000
DTSTAMP:20260420T155750
CREATED:20250507T165306Z
LAST-MODIFIED:20251223T200039Z
UID:10020148-1772910000-1772917200@rihg.ca
SUMMARY:Music Bingo with Darcy!
DESCRIPTION: Music Bingo – Every Saturday from 7 to 9 PM! \n\nIt’s just like regular bingo… but with a musical twist! Instead of numbers\, you’ll be matching song titles to your bingo card.\nHosted by Darcy Campbell from Hot 105.5\, each round features a different musical genre. Darcy will play the first verse and chorus of each song — if it’s on your card\, dab it!\n\nWe play three games every night\, each with its own awesome prize. From throwbacks to chart-toppers\, there’s something for every music lover.\nGrab your friends\, bring your ears\, and get ready for a Saturday night full of fun\, tunes\, and prizes!\n\n1 bingo card/person   |  FREE admission
URL:https://rihg.ca/event/music-bingo-with-darcy/2026-03-07/
CATEGORIES:The Factory
END:VEVENT
BEGIN:VEVENT
DTSTART;TZID=America/Halifax:20260307T170000
DTEND;TZID=America/Halifax:20260307T220000
DTSTAMP:20260420T155750
CREATED:20251117T202452Z
LAST-MODIFIED:20251117T202452Z
UID:10019070-1772902800-1772920800@rihg.ca
SUMMARY:Half-Priced Nachos
DESCRIPTION:Your choice of John Brown’s Classic or Southwest Nachos for half-price? Sold! \nPurchase of a beverage required. Dine-in only.
URL:https://rihg.ca/event/half-priced-nachos/2026-03-07/
CATEGORIES:John Brown Grille
END:VEVENT
BEGIN:VEVENT
DTSTART;TZID=America/Halifax:20260307T140000
DTEND;TZID=America/Halifax:20260307T170000
DTSTAMP:20260420T155750
CREATED:20260220T192208Z
LAST-MODIFIED:20260220T192208Z
UID:10020767-1772892000-1772902800@rihg.ca
SUMMARY:Adam & Liam
DESCRIPTION:
URL:https://rihg.ca/event/adam-liam-24/
CATEGORIES:John Brown Grille
END:VEVENT
BEGIN:VEVENT
DTSTART;TZID=America/Halifax:20260307T140000
DTEND;TZID=America/Halifax:20260307T160000
DTSTAMP:20260420T155750
CREATED:20200603T190545Z
LAST-MODIFIED:20251224T162430Z
UID:10020333-1772892000-1772899200@rihg.ca
SUMMARY:Half-Priced Mussels
DESCRIPTION:From 2 until 4 p.m. every day of the week\, our succulent PEI mussels are 50% of the price but still 100% of the flavour! \nYour choice of: \n\nWhite wine & garlic\nCreamy pancetta\nSpicy arribiata\nSpinach & goat cheese
URL:https://rihg.ca/event/half-priced-mussels-2020-10-04/2026-03-07/
CATEGORIES:John Brown Grille
END:VEVENT
BEGIN:VEVENT
DTSTART;TZID=America/Halifax:20260306T230000
DTEND;TZID=America/Halifax:20260306T230000
DTSTAMP:20260420T155750
CREATED:20260220T193613Z
LAST-MODIFIED:20260220T193613Z
UID:10020775-1772838000-1772838000@rihg.ca
SUMMARY:DJ Douce
DESCRIPTION:
URL:https://rihg.ca/event/dj-douce-34/
CATEGORIES:The Factory
END:VEVENT
BEGIN:VEVENT
DTSTART;TZID=America/Halifax:20260306T230000
DTEND;TZID=America/Halifax:20260306T230000
DTSTAMP:20260420T155750
CREATED:20260220T184357Z
LAST-MODIFIED:20260220T184357Z
UID:10020755-1772838000-1772838000@rihg.ca
SUMMARY:Holy Hannah 3.0
DESCRIPTION:
URL:https://rihg.ca/event/holy-hannah-3-0/
CATEGORIES:Hunter’s Ale House
END:VEVENT
BEGIN:VEVENT
DTSTART;TZID=America/Halifax:20260306T220000
DTEND;TZID=America/Halifax:20260306T220000
DTSTAMP:20260420T155750
CREATED:20230907T202019Z
LAST-MODIFIED:20251223T200002Z
UID:10020097-1772834400-1772834400@rihg.ca
SUMMARY:Blue Lobster Refresh Friday
DESCRIPTION:Recharge after your week with a night of fun\, dancing and drink specials! \nEvery Friday there is a DJ on the main floor stage and we feature drink specials on Blue Lobster products: \n\nBlue Lobster Canned Cocktails\nBlue Lobster Seltzers\nOur special Blue Lobster shooter: THE PINK LOBSTER\n\nThis Blue’s For You!
URL:https://rihg.ca/event/refresh-friday/2026-03-06/
CATEGORIES:The Factory
END:VEVENT
BEGIN:VEVENT
DTSTART;TZID=America/Halifax:20260306T210000
DTEND;TZID=America/Halifax:20260306T210000
DTSTAMP:20260420T155750
CREATED:20141210T153446Z
LAST-MODIFIED:20251223T194853Z
UID:10019611-1772830800-1772830800@rihg.ca
SUMMARY:Pitcher + Nachos = $27.99
DESCRIPTION:You get a pitcher & an order of nachos for only $27.99? Sounds like the combination of a good time to us! \n  \n**Special includes choice of a domestic Labatt product and an order of regular Hunter’s nachos.
URL:https://rihg.ca/event/pitcher-nachos-24-99-2015-09-04-2016-05-06-2016-06-03-2016-09-02-2016-11-04-2017-06-23-2018-10-05-2019-06-07/2026-03-06/
CATEGORIES:Hunter’s Ale House
END:VEVENT
BEGIN:VEVENT
DTSTART;TZID=America/Halifax:20260306T200000
DTEND;TZID=America/Halifax:20260306T200000
DTSTAMP:20260420T155750
CREATED:20251006T183141Z
LAST-MODIFIED:20260416T203127Z
UID:10020690-1772827200-1772827200@rihg.ca
SUMMARY:Friday Night Trivia with Mark
DESCRIPTION:Join Trivia Master Mark Cameron for two hours of head-scratching questions. \nPrizes for 1st\, 2nd & 3rd places. \nDon’t forget your quarters for beer questions!
URL:https://rihg.ca/event/friday-night-trivia-with-mark/2026-03-06/
CATEGORIES:The Factory
END:VEVENT
END:VCALENDAR