BEGIN:VCALENDAR
VERSION:2.0
PRODID:-//Red Island Hospitality Group Inc. - ECPv6.15.20//NONSGML v1.0//EN
CALSCALE:GREGORIAN
METHOD:PUBLISH
X-WR-CALNAME:Red Island Hospitality Group Inc.
X-ORIGINAL-URL:https://rihg.ca
X-WR-CALDESC:Events for Red Island Hospitality Group Inc.
REFRESH-INTERVAL;VALUE=DURATION:PT1H
X-Robots-Tag:noindex
X-PUBLISHED-TTL:PT1H
BEGIN:VTIMEZONE
TZID:America/Halifax
BEGIN:DAYLIGHT
TZOFFSETFROM:-0400
TZOFFSETTO:-0300
TZNAME:ADT
DTSTART:20250309T060000
END:DAYLIGHT
BEGIN:STANDARD
TZOFFSETFROM:-0300
TZOFFSETTO:-0400
TZNAME:AST
DTSTART:20251102T050000
END:STANDARD
BEGIN:DAYLIGHT
TZOFFSETFROM:-0400
TZOFFSETTO:-0300
TZNAME:ADT
DTSTART:20260308T060000
END:DAYLIGHT
BEGIN:STANDARD
TZOFFSETFROM:-0300
TZOFFSETTO:-0400
TZNAME:AST
DTSTART:20261101T050000
END:STANDARD
BEGIN:DAYLIGHT
TZOFFSETFROM:-0400
TZOFFSETTO:-0300
TZNAME:ADT
DTSTART:20270314T060000
END:DAYLIGHT
BEGIN:STANDARD
TZOFFSETFROM:-0300
TZOFFSETTO:-0400
TZNAME:AST
DTSTART:20271107T050000
END:STANDARD
END:VTIMEZONE
BEGIN:VEVENT
DTSTART;TZID=America/Halifax:20260307T200000
DTEND;TZID=America/Halifax:20260307T220000
DTSTAMP:20260420T192842
CREATED:20260210T195659Z
LAST-MODIFIED:20260210T195659Z
UID:10020752-1772913600-1772920800@rihg.ca
SUMMARY:Stand-Up Night in the Comedy Cave
DESCRIPTION: Comedy Night in The Comedy Cave — Hosted by Jalen MacLeod\nGet ready for another night of inappropriate laughs\, giggles\, and questionable chuckles! Jalen MacLeod\, quickly becoming known for his storytelling and observational comedy\, is back with a hand-picked lineup of all-star comedians from Moncton\, Halifax\, and Montreal.\n\nJoining Jalen for this unforgettable night: David Haddad (Moncton) — Hubcap Comedy Contest finalist Adrienne Gabrielle (Halifax) — Sorry Comedy Contest finalist Harrison Weinreb (Montreal) — Seen at Just For Laughs\, New York Comedy Festival\, Edinburgh Fringe\, and more\n\n Date: Saturday\, March 7 Doors open: 7:00 PM Showtime: 8:00–10:00 PM 19+ Event\n\nCome early to grab a good seat and enjoy a night of top-tier Canadian comedy in an intimate setting. Drink specials will be available during the show.\n\n Tickets available through this page — don’t miss out on the laughs!\n\n\nGet your tickets here: Stand Up Night in the Comedy Cave
URL:https://rihg.ca/event/stand-up-night-in-the-comedy-cave-5/
CATEGORIES:The Factory
ATTACH;FMTTYPE=image/jpeg:https://rihg.ca/wp-content/uploads/2026/02/2ebe930a-e16c-45c6-8077-214e2b69b570.jpeg
END:VEVENT
BEGIN:VEVENT
DTSTART;TZID=America/Halifax:20260307T190000
DTEND;TZID=America/Halifax:20260307T210000
DTSTAMP:20260420T192842
CREATED:20250507T165306Z
LAST-MODIFIED:20251223T200039Z
UID:10020148-1772910000-1772917200@rihg.ca
SUMMARY:Music Bingo with Darcy!
DESCRIPTION: Music Bingo – Every Saturday from 7 to 9 PM! \n\nIt’s just like regular bingo… but with a musical twist! Instead of numbers\, you’ll be matching song titles to your bingo card.\nHosted by Darcy Campbell from Hot 105.5\, each round features a different musical genre. Darcy will play the first verse and chorus of each song — if it’s on your card\, dab it!\n\nWe play three games every night\, each with its own awesome prize. From throwbacks to chart-toppers\, there’s something for every music lover.\nGrab your friends\, bring your ears\, and get ready for a Saturday night full of fun\, tunes\, and prizes!\n\n1 bingo card/person   |  FREE admission
URL:https://rihg.ca/event/music-bingo-with-darcy/2026-03-07/
CATEGORIES:The Factory
END:VEVENT
BEGIN:VEVENT
DTSTART;TZID=America/Halifax:20260307T170000
DTEND;TZID=America/Halifax:20260307T220000
DTSTAMP:20260420T192842
CREATED:20251117T202452Z
LAST-MODIFIED:20251117T202452Z
UID:10019070-1772902800-1772920800@rihg.ca
SUMMARY:Half-Priced Nachos
DESCRIPTION:Your choice of John Brown’s Classic or Southwest Nachos for half-price? Sold! \nPurchase of a beverage required. Dine-in only.
URL:https://rihg.ca/event/half-priced-nachos/2026-03-07/
CATEGORIES:John Brown Grille
END:VEVENT
BEGIN:VEVENT
DTSTART;TZID=America/Halifax:20260307T140000
DTEND;TZID=America/Halifax:20260307T170000
DTSTAMP:20260420T192842
CREATED:20260220T192208Z
LAST-MODIFIED:20260220T192208Z
UID:10020767-1772892000-1772902800@rihg.ca
SUMMARY:Adam & Liam
DESCRIPTION:
URL:https://rihg.ca/event/adam-liam-24/
CATEGORIES:John Brown Grille
END:VEVENT
BEGIN:VEVENT
DTSTART;TZID=America/Halifax:20260307T140000
DTEND;TZID=America/Halifax:20260307T160000
DTSTAMP:20260420T192842
CREATED:20200603T190545Z
LAST-MODIFIED:20251224T162430Z
UID:10020333-1772892000-1772899200@rihg.ca
SUMMARY:Half-Priced Mussels
DESCRIPTION:From 2 until 4 p.m. every day of the week\, our succulent PEI mussels are 50% of the price but still 100% of the flavour! \nYour choice of: \n\nWhite wine & garlic\nCreamy pancetta\nSpicy arribiata\nSpinach & goat cheese
URL:https://rihg.ca/event/half-priced-mussels-2020-10-04/2026-03-07/
CATEGORIES:John Brown Grille
END:VEVENT
BEGIN:VEVENT
DTSTART;TZID=America/Halifax:20260306T230000
DTEND;TZID=America/Halifax:20260306T230000
DTSTAMP:20260420T192842
CREATED:20260220T193613Z
LAST-MODIFIED:20260220T193613Z
UID:10020775-1772838000-1772838000@rihg.ca
SUMMARY:DJ Douce
DESCRIPTION:
URL:https://rihg.ca/event/dj-douce-34/
CATEGORIES:The Factory
END:VEVENT
BEGIN:VEVENT
DTSTART;TZID=America/Halifax:20260306T230000
DTEND;TZID=America/Halifax:20260306T230000
DTSTAMP:20260420T192842
CREATED:20260220T184357Z
LAST-MODIFIED:20260220T184357Z
UID:10020755-1772838000-1772838000@rihg.ca
SUMMARY:Holy Hannah 3.0
DESCRIPTION:
URL:https://rihg.ca/event/holy-hannah-3-0/
CATEGORIES:Hunter’s Ale House
END:VEVENT
BEGIN:VEVENT
DTSTART;TZID=America/Halifax:20260306T220000
DTEND;TZID=America/Halifax:20260306T220000
DTSTAMP:20260420T192842
CREATED:20230907T202019Z
LAST-MODIFIED:20251223T200002Z
UID:10020097-1772834400-1772834400@rihg.ca
SUMMARY:Blue Lobster Refresh Friday
DESCRIPTION:Recharge after your week with a night of fun\, dancing and drink specials! \nEvery Friday there is a DJ on the main floor stage and we feature drink specials on Blue Lobster products: \n\nBlue Lobster Canned Cocktails\nBlue Lobster Seltzers\nOur special Blue Lobster shooter: THE PINK LOBSTER\n\nThis Blue’s For You!
URL:https://rihg.ca/event/refresh-friday/2026-03-06/
CATEGORIES:The Factory
END:VEVENT
BEGIN:VEVENT
DTSTART;TZID=America/Halifax:20260306T210000
DTEND;TZID=America/Halifax:20260306T210000
DTSTAMP:20260420T192842
CREATED:20141210T153446Z
LAST-MODIFIED:20251223T194853Z
UID:10019611-1772830800-1772830800@rihg.ca
SUMMARY:Pitcher + Nachos = $27.99
DESCRIPTION:You get a pitcher & an order of nachos for only $27.99? Sounds like the combination of a good time to us! \n  \n**Special includes choice of a domestic Labatt product and an order of regular Hunter’s nachos.
URL:https://rihg.ca/event/pitcher-nachos-24-99-2015-09-04-2016-05-06-2016-06-03-2016-09-02-2016-11-04-2017-06-23-2018-10-05-2019-06-07/2026-03-06/
CATEGORIES:Hunter’s Ale House
END:VEVENT
BEGIN:VEVENT
DTSTART;TZID=America/Halifax:20260306T200000
DTEND;TZID=America/Halifax:20260306T200000
DTSTAMP:20260420T192842
CREATED:20251006T183141Z
LAST-MODIFIED:20260416T203127Z
UID:10020690-1772827200-1772827200@rihg.ca
SUMMARY:Friday Night Trivia with Mark
DESCRIPTION:Join Trivia Master Mark Cameron for two hours of head-scratching questions. \nPrizes for 1st\, 2nd & 3rd places. \nDon’t forget your quarters for beer questions!
URL:https://rihg.ca/event/friday-night-trivia-with-mark/2026-03-06/
CATEGORIES:The Factory
END:VEVENT
BEGIN:VEVENT
DTSTART;TZID=America/Halifax:20260306T170000
DTEND;TZID=America/Halifax:20260306T220000
DTSTAMP:20260420T192842
CREATED:20251117T201423Z
LAST-MODIFIED:20251117T201518Z
UID:10019043-1772816400-1772834400@rihg.ca
SUMMARY:$15 Fish & Chips
DESCRIPTION:8oz haddock filet hand-dipped in our gluten free batter\, served with our dill tartar sauce \nPurchase of a beverage required. Dine-in only.
URL:https://rihg.ca/event/15-fish-chips/2026-03-06/
CATEGORIES:John Brown Grille
END:VEVENT
BEGIN:VEVENT
DTSTART;TZID=America/Halifax:20260306T140000
DTEND;TZID=America/Halifax:20260306T160000
DTSTAMP:20260420T192842
CREATED:20200603T190545Z
LAST-MODIFIED:20251224T162430Z
UID:10020332-1772805600-1772812800@rihg.ca
SUMMARY:Half-Priced Mussels
DESCRIPTION:From 2 until 4 p.m. every day of the week\, our succulent PEI mussels are 50% of the price but still 100% of the flavour! \nYour choice of: \n\nWhite wine & garlic\nCreamy pancetta\nSpicy arribiata\nSpinach & goat cheese
URL:https://rihg.ca/event/half-priced-mussels-2020-10-04/2026-03-06/
CATEGORIES:John Brown Grille
END:VEVENT
BEGIN:VEVENT
DTSTART;TZID=America/Halifax:20260306T110000
DTEND;TZID=America/Halifax:20260306T150000
DTSTAMP:20260420T192842
CREATED:20251117T205637Z
LAST-MODIFIED:20251117T205830Z
UID:10019194-1772794800-1772809200@rihg.ca
SUMMARY:$13 Soup & Sandwich
DESCRIPTION:Enjoy our chef’s daily soup & sandwich creation. \nAvailable weekdays between 11 and 3 pm. \nPurchase of a beverage required. Dine-in only.
URL:https://rihg.ca/event/13-soup-sandwich/2026-03-06/
END:VEVENT
BEGIN:VEVENT
DTSTART;TZID=America/Halifax:20260305T230000
DTEND;TZID=America/Halifax:20260305T230000
DTSTAMP:20260420T192842
CREATED:20260220T183626Z
LAST-MODIFIED:20260220T183626Z
UID:10020754-1772751600-1772751600@rihg.ca
SUMMARY:Ryan Merry
DESCRIPTION:
URL:https://rihg.ca/event/ryan-merry/
CATEGORIES:Hunter’s Ale House
END:VEVENT
BEGIN:VEVENT
DTSTART;TZID=America/Halifax:20260305T220000
DTEND;TZID=America/Halifax:20260305T220000
DTSTAMP:20260420T192842
CREATED:20251021T174951Z
LAST-MODIFIED:20251224T165723Z
UID:10020079-1772748000-1772748000@rihg.ca
SUMMARY:Twisted Tea Student Night
DESCRIPTION:Start your weekend early with karaoke on the main floor and sweet deals on Twisted Tea! \n** TWO FOR TWELVE!!!  **  That’s TWO delicious Twisted Tea for just $12!!! \n \n  \n 
URL:https://rihg.ca/event/twisted-thursday-student-night/2026-03-05/
CATEGORIES:The Factory
ATTACH;FMTTYPE=image/png:https://rihg.ca/wp-content/uploads/2025/10/Twisted-Tea-Sun.png
END:VEVENT
BEGIN:VEVENT
DTSTART;TZID=America/Halifax:20260305T220000
DTEND;TZID=America/Halifax:20260305T220000
DTSTAMP:20260420T192842
CREATED:20240527T154901Z
LAST-MODIFIED:20251224T165657Z
UID:10020027-1772748000-1772748000@rihg.ca
SUMMARY:Karaoke with Jack!
DESCRIPTION:Life is always interesting with Jack Day as our karaoke host. And we wouldn’t have it any other way! \nChannel your inner rockstar and take the stage by storm every Thursday night. \nSo many songs\, so little time…
URL:https://rihg.ca/event/karaoke-with-jack/2026-03-05/
CATEGORIES:The Factory
END:VEVENT
BEGIN:VEVENT
DTSTART;TZID=America/Halifax:20260305T210000
DTEND;TZID=America/Halifax:20260305T210000
DTSTAMP:20260420T192842
CREATED:20201001T213045Z
LAST-MODIFIED:20251223T194723Z
UID:10019560-1772744400-1772744400@rihg.ca
SUMMARY:1/2 Priced Phillies
DESCRIPTION:Just in time for Thursday Night Entertainment Trivia\, we are offering every one of our massive Philly sandwiches for HALF-PRICE! \nThis offer does not include a side. But you can add one. But you probably won’t need to! \n*Dine-in only with beverage purchase required.
URL:https://rihg.ca/event/1-2-priced-phillies/2026-03-05/
CATEGORIES:Hunter’s Ale House
END:VEVENT
BEGIN:VEVENT
DTSTART;TZID=America/Halifax:20260305T210000
DTEND;TZID=America/Halifax:20260305T210000
DTSTAMP:20260420T192842
CREATED:20200602T211925Z
LAST-MODIFIED:20251223T194603Z
UID:10019509-1772744400-1772744400@rihg.ca
SUMMARY:Entertainment Trivia with Darcy Campbell
DESCRIPTION:Wanna test your knowledge with our entertainment trivia night? There is high demand for seats for Charlottetown’s most popular Thursday night trivia so get here early to get a seat! \nThere are prizes for the top three teams\, plus tons of “wooden nickel” beer questions so make sure you bring some quarters along to play those as well. Redeem your Hunter’s wooden nickel for a domestic bottle beer or well shot\, or keep it as a souvenir!
URL:https://rihg.ca/event/entertainment-trivia-with-darcy-campbell-2/2026-03-05/
CATEGORIES:Hunter’s Ale House
END:VEVENT
BEGIN:VEVENT
DTSTART;TZID=America/Halifax:20260305T190000
DTEND;TZID=America/Halifax:20260305T190000
DTSTAMP:20260420T192842
CREATED:20251021T194915Z
LAST-MODIFIED:20251223T193742Z
UID:10019458-1772737200-1772737200@rihg.ca
SUMMARY:Darcy's Entertainment Trivia
DESCRIPTION:
URL:https://rihg.ca/event/darcys-entertainment-trivia-2/2026-03-05/
CATEGORIES:The Factory
END:VEVENT
BEGIN:VEVENT
DTSTART;TZID=America/Halifax:20260305T170000
DTEND;TZID=America/Halifax:20260305T220000
DTSTAMP:20260420T192842
CREATED:20251117T201649Z
LAST-MODIFIED:20251117T201649Z
UID:10019017-1772730000-1772748000@rihg.ca
SUMMARY:$20 Steak Sandwich
DESCRIPTION:5oz tenderloin\, sautéed portobello mushrooms & Spanish onions\, served open-faced on a grilled crostini with demi sauce \nPurchase of a beverage required. Dine-in only.
URL:https://rihg.ca/event/20-steak-sandwich/2026-03-05/
CATEGORIES:John Brown Grille
END:VEVENT
BEGIN:VEVENT
DTSTART;TZID=America/Halifax:20260305T140000
DTEND;TZID=America/Halifax:20260305T160000
DTSTAMP:20260420T192842
CREATED:20200603T190545Z
LAST-MODIFIED:20251224T162430Z
UID:10020331-1772719200-1772726400@rihg.ca
SUMMARY:Half-Priced Mussels
DESCRIPTION:From 2 until 4 p.m. every day of the week\, our succulent PEI mussels are 50% of the price but still 100% of the flavour! \nYour choice of: \n\nWhite wine & garlic\nCreamy pancetta\nSpicy arribiata\nSpinach & goat cheese
URL:https://rihg.ca/event/half-priced-mussels-2020-10-04/2026-03-05/
CATEGORIES:John Brown Grille
END:VEVENT
BEGIN:VEVENT
DTSTART;TZID=America/Halifax:20260305T110000
DTEND;TZID=America/Halifax:20260305T150000
DTSTAMP:20260420T192842
CREATED:20251117T205637Z
LAST-MODIFIED:20251117T205830Z
UID:10019193-1772708400-1772722800@rihg.ca
SUMMARY:$13 Soup & Sandwich
DESCRIPTION:Enjoy our chef’s daily soup & sandwich creation. \nAvailable weekdays between 11 and 3 pm. \nPurchase of a beverage required. Dine-in only.
URL:https://rihg.ca/event/13-soup-sandwich/2026-03-05/
END:VEVENT
BEGIN:VEVENT
DTSTART;TZID=America/Halifax:20260304T210000
DTEND;TZID=America/Halifax:20260304T210000
DTSTAMP:20260420T192842
CREATED:20181126T221709Z
LAST-MODIFIED:20251223T195308Z
UID:10019817-1772658000-1772658000@rihg.ca
SUMMARY:$13.50 Pitchers + 1/2 Priced Apps = Wicked Wednesday
DESCRIPTION:Lookin’ for something to do this Hump? Kick back with some Labatt draught & grab some Half Priced Apps.\nTrust me… they don’t call ’em Wicked Wednesday’s for nothin! \n**$13.50 Labatt pitcher consists of choice of Budweiser\, Bud Light\, or Alexander Keith. \n**1/2 priced appetizer offer excludes Nachos or Gang Platter and requires the purchase of a beverage.
URL:https://rihg.ca/event/13-50-pitchers-1-2-priced-apps-wicked-wednesday-2019-06-05/2026-03-04/
CATEGORIES:Hunter’s Ale House
END:VEVENT
BEGIN:VEVENT
DTSTART;TZID=America/Halifax:20260304T200000
DTEND;TZID=America/Halifax:20260304T200000
DTSTAMP:20260420T192842
CREATED:20220707T145443Z
LAST-MODIFIED:20251223T192918Z
UID:10019376-1772654400-1772654400@rihg.ca
SUMMARY:$13.50 Pitchers + 1/2 Priced Apps = Wicked Wednesday
DESCRIPTION:Lookin’ for something to do this Hump? Kick back with some Moosehead draught & grab some Half Priced Apps.\nTrust me… they don’t call ’em Wicked Wednesday’s for nothin! \n**$13.50 Labatt pitcher consists of choice of Budweiser\, Bud Light\, or Alexander Keith IPA. \n**1/2 priced appetizer offer excludes Game Day Platter and requires the purchase of a beverage.
URL:https://rihg.ca/event/10-99-pitchers-1-2-priced-apps-wicked-wednesday/2026-03-04/
CATEGORIES:The Factory
END:VEVENT
BEGIN:VEVENT
DTSTART;TZID=America/Halifax:20260304T170000
DTEND;TZID=America/Halifax:20260304T220000
DTSTAMP:20260420T192842
CREATED:20251117T202141Z
LAST-MODIFIED:20251117T202141Z
UID:10018991-1772643600-1772661600@rihg.ca
SUMMARY:$15 Half-Rack Ribs
DESCRIPTION:Half-rack of smoked\, fall off the bone\, deliciously tender\, baby back ribs\, glazed with BBQ sauce \nPurchase of a beverage required. Dine-in only.
URL:https://rihg.ca/event/15-half-rack-ribs/2026-03-04/
CATEGORIES:John Brown Grille
END:VEVENT
BEGIN:VEVENT
DTSTART;TZID=America/Halifax:20260304T160000
DTEND;TZID=America/Halifax:20260304T160000
DTSTAMP:20260420T192842
CREATED:20250523T170017Z
LAST-MODIFIED:20251224T165628Z
UID:10019973-1772640000-1772640000@rihg.ca
SUMMARY:Half-Priced Donairs
DESCRIPTION:Enjoy our amazing maritime style donair for half-price. \nMade with the best donair sauce in town. (Humble brag!) \nSpecial requires the purchase of a beverage. \nDine-in only every Wednesday.
URL:https://rihg.ca/event/half-priced-donairs-2/2026-03-04/
CATEGORIES:The Factory
END:VEVENT
BEGIN:VEVENT
DTSTART;TZID=America/Halifax:20260304T140000
DTEND;TZID=America/Halifax:20260304T160000
DTSTAMP:20260420T192842
CREATED:20200603T190545Z
LAST-MODIFIED:20251224T162430Z
UID:10020330-1772632800-1772640000@rihg.ca
SUMMARY:Half-Priced Mussels
DESCRIPTION:From 2 until 4 p.m. every day of the week\, our succulent PEI mussels are 50% of the price but still 100% of the flavour! \nYour choice of: \n\nWhite wine & garlic\nCreamy pancetta\nSpicy arribiata\nSpinach & goat cheese
URL:https://rihg.ca/event/half-priced-mussels-2020-10-04/2026-03-04/
CATEGORIES:John Brown Grille
END:VEVENT
BEGIN:VEVENT
DTSTART;TZID=America/Halifax:20260304T110000
DTEND;TZID=America/Halifax:20260304T150000
DTSTAMP:20260420T192842
CREATED:20251117T205637Z
LAST-MODIFIED:20251117T205830Z
UID:10019192-1772622000-1772636400@rihg.ca
SUMMARY:$13 Soup & Sandwich
DESCRIPTION:Enjoy our chef’s daily soup & sandwich creation. \nAvailable weekdays between 11 and 3 pm. \nPurchase of a beverage required. Dine-in only.
URL:https://rihg.ca/event/13-soup-sandwich/2026-03-04/
END:VEVENT
BEGIN:VEVENT
DTSTART;TZID=America/Halifax:20260303T210000
DTEND;TZID=America/Halifax:20260303T210000
DTSTAMP:20260420T192842
CREATED:20200602T212947Z
LAST-MODIFIED:20251223T192731Z
UID:10019324-1772571600-1772571600@rihg.ca
SUMMARY:75¢ Wing Night
DESCRIPTION:Come on in and enjoy all the 75¢ breaded wings your tummy can handle! Your choice of bone-in or boneless. \nShots of Canadian Club for only $3.50 for those 19 and over… Photo identification required upon request. \n**Purchase of a beverage required for each order of 20 wings. \n**Eat-in only
URL:https://rihg.ca/event/75%c2%a2-wing-night-2021-12-28/2026-03-03/
CATEGORIES:Hunter’s Ale House
END:VEVENT
BEGIN:VEVENT
DTSTART;TZID=America/Halifax:20260303T200000
DTEND;TZID=America/Halifax:20260303T200000
DTSTAMP:20260420T192842
CREATED:20200602T213319Z
LAST-MODIFIED:20251223T195643Z
UID:10019921-1772568000-1772568000@rihg.ca
SUMMARY:75¢ Wing Night
DESCRIPTION:We can’t let our neighbours have all the fun! \nCome on in and enjoy all the 75¢ breaded wings your tummy can handle! \nBesides our regular wing sauces\, we’ve teamed up with Maritime Madness so you have LOTS of HOTS to choose from! \nShots of Canadian Club for only $3.50 for those 19 and over… Photo identification required upon request. \n**Purchase of a beverage required for each order of 20 wings. \n**Eat-in only
URL:https://rihg.ca/event/50%c2%a2-wing-night-2/2026-03-03/
CATEGORIES:The Factory
END:VEVENT
END:VCALENDAR