BEGIN:VCALENDAR
VERSION:2.0
PRODID:-//Red Island Hospitality Group Inc. - ECPv6.15.20//NONSGML v1.0//EN
CALSCALE:GREGORIAN
METHOD:PUBLISH
X-WR-CALNAME:Red Island Hospitality Group Inc.
X-ORIGINAL-URL:https://rihg.ca
X-WR-CALDESC:Events for Red Island Hospitality Group Inc.
REFRESH-INTERVAL;VALUE=DURATION:PT1H
X-Robots-Tag:noindex
X-PUBLISHED-TTL:PT1H
BEGIN:VTIMEZONE
TZID:America/Halifax
BEGIN:DAYLIGHT
TZOFFSETFROM:-0400
TZOFFSETTO:-0300
TZNAME:ADT
DTSTART:20250309T060000
END:DAYLIGHT
BEGIN:STANDARD
TZOFFSETFROM:-0300
TZOFFSETTO:-0400
TZNAME:AST
DTSTART:20251102T050000
END:STANDARD
BEGIN:DAYLIGHT
TZOFFSETFROM:-0400
TZOFFSETTO:-0300
TZNAME:ADT
DTSTART:20260308T060000
END:DAYLIGHT
BEGIN:STANDARD
TZOFFSETFROM:-0300
TZOFFSETTO:-0400
TZNAME:AST
DTSTART:20261101T050000
END:STANDARD
BEGIN:DAYLIGHT
TZOFFSETFROM:-0400
TZOFFSETTO:-0300
TZNAME:ADT
DTSTART:20270314T060000
END:DAYLIGHT
BEGIN:STANDARD
TZOFFSETFROM:-0300
TZOFFSETTO:-0400
TZNAME:AST
DTSTART:20271107T050000
END:STANDARD
END:VTIMEZONE
BEGIN:VEVENT
DTSTART;TZID=America/Halifax:20260228T170000
DTEND;TZID=America/Halifax:20260228T220000
DTSTAMP:20260421T035740
CREATED:20251117T202452Z
LAST-MODIFIED:20251117T202452Z
UID:10019069-1772298000-1772316000@rihg.ca
SUMMARY:Half-Priced Nachos
DESCRIPTION:Your choice of John Brown’s Classic or Southwest Nachos for half-price? Sold! \nPurchase of a beverage required. Dine-in only.
URL:https://rihg.ca/event/half-priced-nachos/2026-02-28/
CATEGORIES:John Brown Grille
END:VEVENT
BEGIN:VEVENT
DTSTART;TZID=America/Halifax:20260228T140000
DTEND;TZID=America/Halifax:20260228T170000
DTSTAMP:20260421T035740
CREATED:20251224T165334Z
LAST-MODIFIED:20251224T165334Z
UID:10020648-1772287200-1772298000@rihg.ca
SUMMARY:Kim Albert Trio
DESCRIPTION:
URL:https://rihg.ca/event/kim-albert-trio-15/
CATEGORIES:John Brown Grille
END:VEVENT
BEGIN:VEVENT
DTSTART;TZID=America/Halifax:20260228T140000
DTEND;TZID=America/Halifax:20260228T160000
DTSTAMP:20260421T035740
CREATED:20200603T190545Z
LAST-MODIFIED:20251224T162430Z
UID:10020326-1772287200-1772294400@rihg.ca
SUMMARY:Half-Priced Mussels
DESCRIPTION:From 2 until 4 p.m. every day of the week\, our succulent PEI mussels are 50% of the price but still 100% of the flavour! \nYour choice of: \n\nWhite wine & garlic\nCreamy pancetta\nSpicy arribiata\nSpinach & goat cheese
URL:https://rihg.ca/event/half-priced-mussels-2020-10-04/2026-02-28/
CATEGORIES:John Brown Grille
END:VEVENT
BEGIN:VEVENT
DTSTART;TZID=America/Halifax:20260227T230000
DTEND;TZID=America/Halifax:20260227T230000
DTSTAMP:20260421T035740
CREATED:20260129T205953Z
LAST-MODIFIED:20260129T205953Z
UID:10020750-1772233200-1772233200@rihg.ca
SUMMARY:Brad & Isaac
DESCRIPTION:
URL:https://rihg.ca/event/brad-isaac-5/
CATEGORIES:Hunter’s Ale House
END:VEVENT
BEGIN:VEVENT
DTSTART;TZID=America/Halifax:20260227T230000
DTEND;TZID=America/Halifax:20260227T230000
DTSTAMP:20260421T035740
CREATED:20260115T192136Z
LAST-MODIFIED:20260115T192136Z
UID:10020737-1772233200-1772233200@rihg.ca
SUMMARY:DJ Derek
DESCRIPTION:
URL:https://rihg.ca/event/dj-derek-38/
CATEGORIES:The Factory
END:VEVENT
BEGIN:VEVENT
DTSTART;TZID=America/Halifax:20260227T220000
DTEND;TZID=America/Halifax:20260227T220000
DTSTAMP:20260421T035740
CREATED:20230907T202019Z
LAST-MODIFIED:20251223T200002Z
UID:10020096-1772229600-1772229600@rihg.ca
SUMMARY:Blue Lobster Refresh Friday
DESCRIPTION:Recharge after your week with a night of fun\, dancing and drink specials! \nEvery Friday there is a DJ on the main floor stage and we feature drink specials on Blue Lobster products: \n\nBlue Lobster Canned Cocktails\nBlue Lobster Seltzers\nOur special Blue Lobster shooter: THE PINK LOBSTER\n\nThis Blue’s For You!
URL:https://rihg.ca/event/refresh-friday/2026-02-27/
CATEGORIES:The Factory
END:VEVENT
BEGIN:VEVENT
DTSTART;TZID=America/Halifax:20260227T210000
DTEND;TZID=America/Halifax:20260227T210000
DTSTAMP:20260421T035740
CREATED:20141210T153446Z
LAST-MODIFIED:20251223T194853Z
UID:10019610-1772226000-1772226000@rihg.ca
SUMMARY:Pitcher + Nachos = $27.99
DESCRIPTION:You get a pitcher & an order of nachos for only $27.99? Sounds like the combination of a good time to us! \n  \n**Special includes choice of a domestic Labatt product and an order of regular Hunter’s nachos.
URL:https://rihg.ca/event/pitcher-nachos-24-99-2015-09-04-2016-05-06-2016-06-03-2016-09-02-2016-11-04-2017-06-23-2018-10-05-2019-06-07/2026-02-27/
CATEGORIES:Hunter’s Ale House
END:VEVENT
BEGIN:VEVENT
DTSTART;TZID=America/Halifax:20260227T200000
DTEND;TZID=America/Halifax:20260227T200000
DTSTAMP:20260421T035740
CREATED:20251006T183141Z
LAST-MODIFIED:20260416T203127Z
UID:10020689-1772222400-1772222400@rihg.ca
SUMMARY:Friday Night Trivia with Mark
DESCRIPTION:Join Trivia Master Mark Cameron for two hours of head-scratching questions. \nPrizes for 1st\, 2nd & 3rd places. \nDon’t forget your quarters for beer questions!
URL:https://rihg.ca/event/friday-night-trivia-with-mark/2026-02-27/
CATEGORIES:The Factory
END:VEVENT
BEGIN:VEVENT
DTSTART;TZID=America/Halifax:20260227T170000
DTEND;TZID=America/Halifax:20260227T220000
DTSTAMP:20260421T035740
CREATED:20251117T201423Z
LAST-MODIFIED:20251117T201518Z
UID:10019042-1772211600-1772229600@rihg.ca
SUMMARY:$15 Fish & Chips
DESCRIPTION:8oz haddock filet hand-dipped in our gluten free batter\, served with our dill tartar sauce \nPurchase of a beverage required. Dine-in only.
URL:https://rihg.ca/event/15-fish-chips/2026-02-27/
CATEGORIES:John Brown Grille
END:VEVENT
BEGIN:VEVENT
DTSTART;TZID=America/Halifax:20260227T140000
DTEND;TZID=America/Halifax:20260227T160000
DTSTAMP:20260421T035740
CREATED:20200603T190545Z
LAST-MODIFIED:20251224T162430Z
UID:10020325-1772200800-1772208000@rihg.ca
SUMMARY:Half-Priced Mussels
DESCRIPTION:From 2 until 4 p.m. every day of the week\, our succulent PEI mussels are 50% of the price but still 100% of the flavour! \nYour choice of: \n\nWhite wine & garlic\nCreamy pancetta\nSpicy arribiata\nSpinach & goat cheese
URL:https://rihg.ca/event/half-priced-mussels-2020-10-04/2026-02-27/
CATEGORIES:John Brown Grille
END:VEVENT
BEGIN:VEVENT
DTSTART;TZID=America/Halifax:20260227T110000
DTEND;TZID=America/Halifax:20260227T150000
DTSTAMP:20260421T035740
CREATED:20251117T205637Z
LAST-MODIFIED:20251117T205830Z
UID:10019189-1772190000-1772204400@rihg.ca
SUMMARY:$13 Soup & Sandwich
DESCRIPTION:Enjoy our chef’s daily soup & sandwich creation. \nAvailable weekdays between 11 and 3 pm. \nPurchase of a beverage required. Dine-in only.
URL:https://rihg.ca/event/13-soup-sandwich/2026-02-27/
END:VEVENT
BEGIN:VEVENT
DTSTART;TZID=America/Halifax:20260226T230000
DTEND;TZID=America/Halifax:20260226T230000
DTSTAMP:20260421T035740
CREATED:20260129T205928Z
LAST-MODIFIED:20260129T205928Z
UID:10020749-1772146800-1772146800@rihg.ca
SUMMARY:Mat & Friends
DESCRIPTION:
URL:https://rihg.ca/event/mat-friends/
CATEGORIES:Hunter’s Ale House
END:VEVENT
BEGIN:VEVENT
DTSTART;TZID=America/Halifax:20260226T220000
DTEND;TZID=America/Halifax:20260226T220000
DTSTAMP:20260421T035740
CREATED:20251021T174951Z
LAST-MODIFIED:20251224T165723Z
UID:10020078-1772143200-1772143200@rihg.ca
SUMMARY:Twisted Tea Student Night
DESCRIPTION:Start your weekend early with karaoke on the main floor and sweet deals on Twisted Tea! \n** TWO FOR TWELVE!!!  **  That’s TWO delicious Twisted Tea for just $12!!! \n \n  \n 
URL:https://rihg.ca/event/twisted-thursday-student-night/2026-02-26/
CATEGORIES:The Factory
ATTACH;FMTTYPE=image/png:https://rihg.ca/wp-content/uploads/2025/10/Twisted-Tea-Sun.png
END:VEVENT
BEGIN:VEVENT
DTSTART;TZID=America/Halifax:20260226T220000
DTEND;TZID=America/Halifax:20260226T220000
DTSTAMP:20260421T035740
CREATED:20240527T154901Z
LAST-MODIFIED:20251224T165657Z
UID:10020026-1772143200-1772143200@rihg.ca
SUMMARY:Karaoke with Jack!
DESCRIPTION:Life is always interesting with Jack Day as our karaoke host. And we wouldn’t have it any other way! \nChannel your inner rockstar and take the stage by storm every Thursday night. \nSo many songs\, so little time…
URL:https://rihg.ca/event/karaoke-with-jack/2026-02-26/
CATEGORIES:The Factory
END:VEVENT
BEGIN:VEVENT
DTSTART;TZID=America/Halifax:20260226T210000
DTEND;TZID=America/Halifax:20260226T210000
DTSTAMP:20260421T035740
CREATED:20201001T213045Z
LAST-MODIFIED:20251223T194723Z
UID:10019559-1772139600-1772139600@rihg.ca
SUMMARY:1/2 Priced Phillies
DESCRIPTION:Just in time for Thursday Night Entertainment Trivia\, we are offering every one of our massive Philly sandwiches for HALF-PRICE! \nThis offer does not include a side. But you can add one. But you probably won’t need to! \n*Dine-in only with beverage purchase required.
URL:https://rihg.ca/event/1-2-priced-phillies/2026-02-26/
CATEGORIES:Hunter’s Ale House
END:VEVENT
BEGIN:VEVENT
DTSTART;TZID=America/Halifax:20260226T210000
DTEND;TZID=America/Halifax:20260226T210000
DTSTAMP:20260421T035740
CREATED:20200602T211925Z
LAST-MODIFIED:20251223T194603Z
UID:10019508-1772139600-1772139600@rihg.ca
SUMMARY:Entertainment Trivia with Darcy Campbell
DESCRIPTION:Wanna test your knowledge with our entertainment trivia night? There is high demand for seats for Charlottetown’s most popular Thursday night trivia so get here early to get a seat! \nThere are prizes for the top three teams\, plus tons of “wooden nickel” beer questions so make sure you bring some quarters along to play those as well. Redeem your Hunter’s wooden nickel for a domestic bottle beer or well shot\, or keep it as a souvenir!
URL:https://rihg.ca/event/entertainment-trivia-with-darcy-campbell-2/2026-02-26/
CATEGORIES:Hunter’s Ale House
END:VEVENT
BEGIN:VEVENT
DTSTART;TZID=America/Halifax:20260226T190000
DTEND;TZID=America/Halifax:20260226T190000
DTSTAMP:20260421T035740
CREATED:20251021T194915Z
LAST-MODIFIED:20251223T193742Z
UID:10019457-1772132400-1772132400@rihg.ca
SUMMARY:Darcy's Entertainment Trivia
DESCRIPTION:
URL:https://rihg.ca/event/darcys-entertainment-trivia-2/2026-02-26/
CATEGORIES:The Factory
END:VEVENT
BEGIN:VEVENT
DTSTART;TZID=America/Halifax:20260226T170000
DTEND;TZID=America/Halifax:20260226T220000
DTSTAMP:20260421T035740
CREATED:20251117T201649Z
LAST-MODIFIED:20251117T201649Z
UID:10019016-1772125200-1772143200@rihg.ca
SUMMARY:$20 Steak Sandwich
DESCRIPTION:5oz tenderloin\, sautéed portobello mushrooms & Spanish onions\, served open-faced on a grilled crostini with demi sauce \nPurchase of a beverage required. Dine-in only.
URL:https://rihg.ca/event/20-steak-sandwich/2026-02-26/
CATEGORIES:John Brown Grille
END:VEVENT
BEGIN:VEVENT
DTSTART;TZID=America/Halifax:20260226T140000
DTEND;TZID=America/Halifax:20260226T160000
DTSTAMP:20260421T035740
CREATED:20200603T190545Z
LAST-MODIFIED:20251224T162430Z
UID:10020324-1772114400-1772121600@rihg.ca
SUMMARY:Half-Priced Mussels
DESCRIPTION:From 2 until 4 p.m. every day of the week\, our succulent PEI mussels are 50% of the price but still 100% of the flavour! \nYour choice of: \n\nWhite wine & garlic\nCreamy pancetta\nSpicy arribiata\nSpinach & goat cheese
URL:https://rihg.ca/event/half-priced-mussels-2020-10-04/2026-02-26/
CATEGORIES:John Brown Grille
END:VEVENT
BEGIN:VEVENT
DTSTART;TZID=America/Halifax:20260226T110000
DTEND;TZID=America/Halifax:20260226T150000
DTSTAMP:20260421T035740
CREATED:20251117T205637Z
LAST-MODIFIED:20251117T205830Z
UID:10019188-1772103600-1772118000@rihg.ca
SUMMARY:$13 Soup & Sandwich
DESCRIPTION:Enjoy our chef’s daily soup & sandwich creation. \nAvailable weekdays between 11 and 3 pm. \nPurchase of a beverage required. Dine-in only.
URL:https://rihg.ca/event/13-soup-sandwich/2026-02-26/
END:VEVENT
BEGIN:VEVENT
DTSTART;TZID=America/Halifax:20260225T210000
DTEND;TZID=America/Halifax:20260225T210000
DTSTAMP:20260421T035740
CREATED:20181126T221709Z
LAST-MODIFIED:20251223T195308Z
UID:10019816-1772053200-1772053200@rihg.ca
SUMMARY:$13.50 Pitchers + 1/2 Priced Apps = Wicked Wednesday
DESCRIPTION:Lookin’ for something to do this Hump? Kick back with some Labatt draught & grab some Half Priced Apps.\nTrust me… they don’t call ’em Wicked Wednesday’s for nothin! \n**$13.50 Labatt pitcher consists of choice of Budweiser\, Bud Light\, or Alexander Keith. \n**1/2 priced appetizer offer excludes Nachos or Gang Platter and requires the purchase of a beverage.
URL:https://rihg.ca/event/13-50-pitchers-1-2-priced-apps-wicked-wednesday-2019-06-05/2026-02-25/
CATEGORIES:Hunter’s Ale House
END:VEVENT
BEGIN:VEVENT
DTSTART;TZID=America/Halifax:20260225T200000
DTEND;TZID=America/Halifax:20260225T200000
DTSTAMP:20260421T035740
CREATED:20220707T145443Z
LAST-MODIFIED:20251223T192918Z
UID:10019375-1772049600-1772049600@rihg.ca
SUMMARY:$13.50 Pitchers + 1/2 Priced Apps = Wicked Wednesday
DESCRIPTION:Lookin’ for something to do this Hump? Kick back with some Moosehead draught & grab some Half Priced Apps.\nTrust me… they don’t call ’em Wicked Wednesday’s for nothin! \n**$13.50 Labatt pitcher consists of choice of Budweiser\, Bud Light\, or Alexander Keith IPA. \n**1/2 priced appetizer offer excludes Game Day Platter and requires the purchase of a beverage.
URL:https://rihg.ca/event/10-99-pitchers-1-2-priced-apps-wicked-wednesday/2026-02-25/
CATEGORIES:The Factory
END:VEVENT
BEGIN:VEVENT
DTSTART;TZID=America/Halifax:20260225T170000
DTEND;TZID=America/Halifax:20260225T220000
DTSTAMP:20260421T035740
CREATED:20251117T202141Z
LAST-MODIFIED:20251117T202141Z
UID:10018990-1772038800-1772056800@rihg.ca
SUMMARY:$15 Half-Rack Ribs
DESCRIPTION:Half-rack of smoked\, fall off the bone\, deliciously tender\, baby back ribs\, glazed with BBQ sauce \nPurchase of a beverage required. Dine-in only.
URL:https://rihg.ca/event/15-half-rack-ribs/2026-02-25/
CATEGORIES:John Brown Grille
END:VEVENT
BEGIN:VEVENT
DTSTART;TZID=America/Halifax:20260225T160000
DTEND;TZID=America/Halifax:20260225T160000
DTSTAMP:20260421T035740
CREATED:20250523T170017Z
LAST-MODIFIED:20251224T165628Z
UID:10019972-1772035200-1772035200@rihg.ca
SUMMARY:Half-Priced Donairs
DESCRIPTION:Enjoy our amazing maritime style donair for half-price. \nMade with the best donair sauce in town. (Humble brag!) \nSpecial requires the purchase of a beverage. \nDine-in only every Wednesday.
URL:https://rihg.ca/event/half-priced-donairs-2/2026-02-25/
CATEGORIES:The Factory
END:VEVENT
BEGIN:VEVENT
DTSTART;TZID=America/Halifax:20260225T140000
DTEND;TZID=America/Halifax:20260225T160000
DTSTAMP:20260421T035740
CREATED:20200603T190545Z
LAST-MODIFIED:20251224T162430Z
UID:10020323-1772028000-1772035200@rihg.ca
SUMMARY:Half-Priced Mussels
DESCRIPTION:From 2 until 4 p.m. every day of the week\, our succulent PEI mussels are 50% of the price but still 100% of the flavour! \nYour choice of: \n\nWhite wine & garlic\nCreamy pancetta\nSpicy arribiata\nSpinach & goat cheese
URL:https://rihg.ca/event/half-priced-mussels-2020-10-04/2026-02-25/
CATEGORIES:John Brown Grille
END:VEVENT
BEGIN:VEVENT
DTSTART;TZID=America/Halifax:20260225T110000
DTEND;TZID=America/Halifax:20260225T150000
DTSTAMP:20260421T035740
CREATED:20251117T205637Z
LAST-MODIFIED:20251117T205830Z
UID:10019187-1772017200-1772031600@rihg.ca
SUMMARY:$13 Soup & Sandwich
DESCRIPTION:Enjoy our chef’s daily soup & sandwich creation. \nAvailable weekdays between 11 and 3 pm. \nPurchase of a beverage required. Dine-in only.
URL:https://rihg.ca/event/13-soup-sandwich/2026-02-25/
END:VEVENT
BEGIN:VEVENT
DTSTART;TZID=America/Halifax:20260224T210000
DTEND;TZID=America/Halifax:20260224T210000
DTSTAMP:20260421T035740
CREATED:20200602T212947Z
LAST-MODIFIED:20251223T192731Z
UID:10019323-1771966800-1771966800@rihg.ca
SUMMARY:75¢ Wing Night
DESCRIPTION:Come on in and enjoy all the 75¢ breaded wings your tummy can handle! Your choice of bone-in or boneless. \nShots of Canadian Club for only $3.50 for those 19 and over… Photo identification required upon request. \n**Purchase of a beverage required for each order of 20 wings. \n**Eat-in only
URL:https://rihg.ca/event/75%c2%a2-wing-night-2021-12-28/2026-02-24/
CATEGORIES:Hunter’s Ale House
END:VEVENT
BEGIN:VEVENT
DTSTART;TZID=America/Halifax:20260224T200000
DTEND;TZID=America/Halifax:20260224T200000
DTSTAMP:20260421T035740
CREATED:20200602T213319Z
LAST-MODIFIED:20251223T195643Z
UID:10019920-1771963200-1771963200@rihg.ca
SUMMARY:75¢ Wing Night
DESCRIPTION:We can’t let our neighbours have all the fun! \nCome on in and enjoy all the 75¢ breaded wings your tummy can handle! \nBesides our regular wing sauces\, we’ve teamed up with Maritime Madness so you have LOTS of HOTS to choose from! \nShots of Canadian Club for only $3.50 for those 19 and over… Photo identification required upon request. \n**Purchase of a beverage required for each order of 20 wings. \n**Eat-in only
URL:https://rihg.ca/event/50%c2%a2-wing-night-2/2026-02-24/
CATEGORIES:The Factory
END:VEVENT
BEGIN:VEVENT
DTSTART;TZID=America/Halifax:20260224T170000
DTEND;TZID=America/Halifax:20260224T220000
DTSTAMP:20260421T035740
CREATED:20251117T200059Z
LAST-MODIFIED:20251224T162236Z
UID:10020258-1771952400-1771970400@rihg.ca
SUMMARY:2-4-1 Wings
DESCRIPTION:Three delicious sauce options: \n\n\n\n\nlemon pepper  |  sriracha  |  herbed butter and parmesan  |  maple bourbon  |  JB’s picante\n\n\n\n\nShare some delicious JB’s wings with a friend\, or keep them all to yourself. We’re not judging! \nPurchase of a beverage required. Dine-in only.
URL:https://rihg.ca/event/2-4-1-wings-3/2026-02-24/
CATEGORIES:John Brown Grille
END:VEVENT
BEGIN:VEVENT
DTSTART;TZID=America/Halifax:20260224T160000
DTEND;TZID=America/Halifax:20260224T160000
DTSTAMP:20260421T035740
CREATED:20250523T165703Z
LAST-MODIFIED:20251223T195521Z
UID:10019868-1771948800-1771948800@rihg.ca
SUMMARY:$3 Taco Tuesday
DESCRIPTION:It’s BA-ACK!!! Charlottetown’s favourite Tuesday night special: Tasty taco beef with lettuce\, tomato\, and grated cheese\, drizzled with crema fresca\, and nestled in your choice of soft or hard shell taco (or both!) \n**Special requires the purchase of a beverage \n**Dine-in only.
URL:https://rihg.ca/event/taco-tuesday-2/2026-02-24/
CATEGORIES:The Factory
END:VEVENT
END:VCALENDAR