BEGIN:VCALENDAR
VERSION:2.0
PRODID:-//Red Island Hospitality Group Inc. - ECPv6.15.20//NONSGML v1.0//EN
CALSCALE:GREGORIAN
METHOD:PUBLISH
X-WR-CALNAME:Red Island Hospitality Group Inc.
X-ORIGINAL-URL:https://rihg.ca
X-WR-CALDESC:Events for Red Island Hospitality Group Inc.
REFRESH-INTERVAL;VALUE=DURATION:PT1H
X-Robots-Tag:noindex
X-PUBLISHED-TTL:PT1H
BEGIN:VTIMEZONE
TZID:America/Halifax
BEGIN:DAYLIGHT
TZOFFSETFROM:-0400
TZOFFSETTO:-0300
TZNAME:ADT
DTSTART:20210314T060000
END:DAYLIGHT
BEGIN:STANDARD
TZOFFSETFROM:-0300
TZOFFSETTO:-0400
TZNAME:AST
DTSTART:20211107T050000
END:STANDARD
BEGIN:DAYLIGHT
TZOFFSETFROM:-0400
TZOFFSETTO:-0300
TZNAME:ADT
DTSTART:20220313T060000
END:DAYLIGHT
BEGIN:STANDARD
TZOFFSETFROM:-0300
TZOFFSETTO:-0400
TZNAME:AST
DTSTART:20221106T050000
END:STANDARD
BEGIN:DAYLIGHT
TZOFFSETFROM:-0400
TZOFFSETTO:-0300
TZNAME:ADT
DTSTART:20230312T060000
END:DAYLIGHT
BEGIN:STANDARD
TZOFFSETFROM:-0300
TZOFFSETTO:-0400
TZNAME:AST
DTSTART:20231105T050000
END:STANDARD
END:VTIMEZONE
BEGIN:VEVENT
DTSTART;TZID=America/Halifax:20220428T210000
DTEND;TZID=America/Halifax:20220428T210000
DTSTAMP:20260424T132851
CREATED:20201001T213045Z
LAST-MODIFIED:20251223T194723Z
UID:10008300-1651179600-1651179600@rihg.ca
SUMMARY:1/2 Priced Phillies
DESCRIPTION:Just in time for Thursday Night Entertainment Trivia\, we are offering every one of our massive Philly sandwiches for HALF-PRICE! \nThis offer does not include a side. But you can add one. But you probably won’t need to! \n*Dine-in only with beverage purchase required.
URL:https://rihg.ca/event/1-2-priced-phillies/2022-04-28/
CATEGORIES:Hunter’s Ale House
END:VEVENT
BEGIN:VEVENT
DTSTART;TZID=America/Halifax:20220428T210000
DTEND;TZID=America/Halifax:20220428T210000
DTSTAMP:20260424T132851
CREATED:20200602T211925Z
LAST-MODIFIED:20251223T194603Z
UID:10005588-1651179600-1651179600@rihg.ca
SUMMARY:Entertainment Trivia with Darcy Campbell
DESCRIPTION:Wanna test your knowledge with our entertainment trivia night? There is high demand for seats for Charlottetown’s most popular Thursday night trivia so get here early to get a seat! \nThere are prizes for the top three teams\, plus tons of “wooden nickel” beer questions so make sure you bring some quarters along to play those as well. Redeem your Hunter’s wooden nickel for a domestic bottle beer or well shot\, or keep it as a souvenir!
URL:https://rihg.ca/event/entertainment-trivia-with-darcy-campbell-2/2022-04-28/
CATEGORIES:Hunter’s Ale House
END:VEVENT
BEGIN:VEVENT
DTSTART;TZID=America/Halifax:20220428T190000
DTEND;TZID=America/Halifax:20220428T190000
DTSTAMP:20260424T132851
CREATED:20201001T172010Z
LAST-MODIFIED:20220603T181907Z
UID:10011232-1651172400-1651172400@rihg.ca
SUMMARY:Darcy's Throwback Trivia
DESCRIPTION:Think you know lots about the last few decades? Put your pop culture knowledge to the test with triviameister Darcy Campbell! \nThe following guidelines have been put in place: \n\nPRE-REGISTRATION IS RECOMMENDED on a FIRST APPLY\, FIRST ACCEPTED BASIS.\nThere are now two trivia times available: one at Factory at 7\, and one at NightCap at 9. Make sure you pick your preferred time!\nHere is the link for the pre-registration form\, which goes directly to Darcy: \nWe are using literal “wooden nickels” as beer question tokens. Wait until you see them\, they’re cute!\nWe look forward to seeing you on Thursday night!!!
URL:https://rihg.ca/event/darcys-throwback-trivia-2021-06-24/2022-04-28/
CATEGORIES:The Factory
END:VEVENT
BEGIN:VEVENT
DTSTART;TZID=America/Halifax:20220428T160000
DTEND;TZID=America/Halifax:20220428T160000
DTSTAMP:20260424T132851
CREATED:20180911T192750Z
LAST-MODIFIED:20220627T161915Z
UID:10003128-1651161600-1651161600@rihg.ca
SUMMARY:Half-Priced Oven-Baked Subs
DESCRIPTION:Fill up on a half-priced hefty oven-baked sub. Bring your appetite! \nSpecial offer requires the purchase of a beverage. \nDine-in only. \nAll day special every Thursday.
URL:https://rihg.ca/event/half-priced-oven-baked-subs/2022-04-28/
CATEGORIES:The Factory
END:VEVENT
BEGIN:VEVENT
DTSTART;TZID=America/Halifax:20220428T140000
DTEND;TZID=America/Halifax:20220428T160000
DTSTAMP:20260424T132851
CREATED:20200603T190545Z
LAST-MODIFIED:20251224T162430Z
UID:10010185-1651154400-1651161600@rihg.ca
SUMMARY:Half-Priced Mussels
DESCRIPTION:From 2 until 4 p.m. every day of the week\, our succulent PEI mussels are 50% of the price but still 100% of the flavour! \nYour choice of: \n\nWhite wine & garlic\nCreamy pancetta\nSpicy arribiata\nSpinach & goat cheese
URL:https://rihg.ca/event/half-priced-mussels-2020-10-04/2022-04-28/
CATEGORIES:John Brown Grille
END:VEVENT
BEGIN:VEVENT
DTSTART;TZID=America/Halifax:20220427T210000
DTEND;TZID=America/Halifax:20220427T210000
DTSTAMP:20260424T132851
CREATED:20181126T221709Z
LAST-MODIFIED:20251223T195308Z
UID:10009492-1651093200-1651093200@rihg.ca
SUMMARY:$13.50 Pitchers + 1/2 Priced Apps = Wicked Wednesday
DESCRIPTION:Lookin’ for something to do this Hump? Kick back with some Labatt draught & grab some Half Priced Apps.\nTrust me… they don’t call ’em Wicked Wednesday’s for nothin! \n**$13.50 Labatt pitcher consists of choice of Budweiser\, Bud Light\, or Alexander Keith. \n**1/2 priced appetizer offer excludes Nachos or Gang Platter and requires the purchase of a beverage.
URL:https://rihg.ca/event/13-50-pitchers-1-2-priced-apps-wicked-wednesday-2019-06-05/2022-04-27/
CATEGORIES:Hunter’s Ale House
END:VEVENT
BEGIN:VEVENT
DTSTART;TZID=America/Halifax:20220427T170000
DTEND;TZID=America/Halifax:20220427T170000
DTSTAMP:20260424T132851
CREATED:20211119T184008Z
LAST-MODIFIED:20220527T153717Z
UID:10005420-1651078800-1651078800@rihg.ca
SUMMARY:Burgers & Beers
DESCRIPTION:Burgers & Beers: They just go together! \nEnjoy our Grille Burger with your choice of a domestic pint for only $19.99 every Wednesday from 5pm to close. \n** Dine-in only.
URL:https://rihg.ca/event/burgers-beers/2022-04-27/
CATEGORIES:John Brown Grille
END:VEVENT
BEGIN:VEVENT
DTSTART;TZID=America/Halifax:20220427T160000
DTEND;TZID=America/Halifax:20220427T160000
DTSTAMP:20260424T132851
CREATED:20211119T193122Z
LAST-MODIFIED:20220527T140839Z
UID:10000533-1651075200-1651075200@rihg.ca
SUMMARY:$7 Martini Night
DESCRIPTION:You do you! If we have it\, we can make it for you! \n\n\nClassic Cosmo – Northern Keep vodka\, Triple Sec\, lime and cranberry\nEspresso – Northern Keep vodka\, Kamora\, espresso\nBees Knees – Sipsmith London dry gin\, lemon\, honey\, simple syrup\nMelon – Northern Keep vodka\, melon liqueur
URL:https://rihg.ca/event/7-martini-night/2022-04-27/
CATEGORIES:John Brown Grille
END:VEVENT
BEGIN:VEVENT
DTSTART;TZID=America/Halifax:20220427T160000
DTEND;TZID=America/Halifax:20220427T160000
DTSTAMP:20260424T132851
CREATED:20180911T185248Z
LAST-MODIFIED:20220627T162439Z
UID:10002657-1651075200-1651075200@rihg.ca
SUMMARY:Half-Priced Donairs
DESCRIPTION:Enjoy our half or full-sized donair for half-price. Super donairs not included. \nMade with the best donair sauce in town. \nSpecial requires the purchase of a beverage. \nDine-in only every Wednesday.
URL:https://rihg.ca/event/half-priced-donairs/2022-04-27/
CATEGORIES:The Factory
END:VEVENT
BEGIN:VEVENT
DTSTART;TZID=America/Halifax:20220427T140000
DTEND;TZID=America/Halifax:20220427T160000
DTSTAMP:20260424T132851
CREATED:20200603T190545Z
LAST-MODIFIED:20251224T162430Z
UID:10010184-1651068000-1651075200@rihg.ca
SUMMARY:Half-Priced Mussels
DESCRIPTION:From 2 until 4 p.m. every day of the week\, our succulent PEI mussels are 50% of the price but still 100% of the flavour! \nYour choice of: \n\nWhite wine & garlic\nCreamy pancetta\nSpicy arribiata\nSpinach & goat cheese
URL:https://rihg.ca/event/half-priced-mussels-2020-10-04/2022-04-27/
CATEGORIES:John Brown Grille
END:VEVENT
BEGIN:VEVENT
DTSTART;TZID=America/Halifax:20220426T220000
DTEND;TZID=America/Halifax:20220426T220000
DTSTAMP:20260424T132851
CREATED:20220415T192442Z
LAST-MODIFIED:20220415T192442Z
UID:10011717-1651010400-1651010400@rihg.ca
SUMMARY:Lawrence & Isaac
DESCRIPTION:
URL:https://rihg.ca/event/lawrence-and-isaac-2/
CATEGORIES:Hunter’s Ale House
END:VEVENT
BEGIN:VEVENT
DTSTART;TZID=America/Halifax:20220426T210000
DTEND;TZID=America/Halifax:20220426T210000
DTSTAMP:20260424T132851
CREATED:20200602T212947Z
LAST-MODIFIED:20251223T192731Z
UID:10000254-1651006800-1651006800@rihg.ca
SUMMARY:75¢ Wing Night
DESCRIPTION:Come on in and enjoy all the 75¢ breaded wings your tummy can handle! Your choice of bone-in or boneless. \nShots of Canadian Club for only $3.50 for those 19 and over… Photo identification required upon request. \n**Purchase of a beverage required for each order of 20 wings. \n**Eat-in only
URL:https://rihg.ca/event/75%c2%a2-wing-night-2021-12-28/2022-04-26/
CATEGORIES:Hunter’s Ale House
END:VEVENT
BEGIN:VEVENT
DTSTART;TZID=America/Halifax:20220426T200000
DTEND;TZID=America/Halifax:20220426T200000
DTSTAMP:20260424T132851
CREATED:20200602T213319Z
LAST-MODIFIED:20251223T195643Z
UID:10003377-1651003200-1651003200@rihg.ca
SUMMARY:75¢ Wing Night
DESCRIPTION:We can’t let our neighbours have all the fun! \nCome on in and enjoy all the 75¢ breaded wings your tummy can handle! \nBesides our regular wing sauces\, we’ve teamed up with Maritime Madness so you have LOTS of HOTS to choose from! \nShots of Canadian Club for only $3.50 for those 19 and over… Photo identification required upon request. \n**Purchase of a beverage required for each order of 20 wings. \n**Eat-in only
URL:https://rihg.ca/event/50%c2%a2-wing-night-2/2022-04-26/
CATEGORIES:The Factory
END:VEVENT
BEGIN:VEVENT
DTSTART;TZID=America/Halifax:20220426T170000
DTEND;TZID=America/Halifax:20220426T170000
DTSTAMP:20260424T132851
CREATED:20211119T183546Z
LAST-MODIFIED:20220526T194246Z
UID:10009233-1650992400-1650992400@rihg.ca
SUMMARY:2 - 4 - 1 Wings
DESCRIPTION:Double your pleasure with two orders of wings for the price of one! \nChoose from: \n\nlemon salt and pepper\,\nsriracha\,\nherb butter and parmesan\,\nmaple bourbon\nJB’s picante
URL:https://rihg.ca/event/2-4-1-wings/2022-04-26/
CATEGORIES:John Brown Grille
END:VEVENT
BEGIN:VEVENT
DTSTART;TZID=America/Halifax:20220426T140000
DTEND;TZID=America/Halifax:20220426T160000
DTSTAMP:20260424T132851
CREATED:20200603T190545Z
LAST-MODIFIED:20251224T162430Z
UID:10010183-1650981600-1650988800@rihg.ca
SUMMARY:Half-Priced Mussels
DESCRIPTION:From 2 until 4 p.m. every day of the week\, our succulent PEI mussels are 50% of the price but still 100% of the flavour! \nYour choice of: \n\nWhite wine & garlic\nCreamy pancetta\nSpicy arribiata\nSpinach & goat cheese
URL:https://rihg.ca/event/half-priced-mussels-2020-10-04/2022-04-26/
CATEGORIES:John Brown Grille
END:VEVENT
BEGIN:VEVENT
DTSTART;TZID=America/Halifax:20220426T113000
DTEND;TZID=America/Halifax:20220426T113000
DTSTAMP:20260424T132851
CREATED:20211119T191144Z
LAST-MODIFIED:20220711T144506Z
UID:10004210-1650972600-1650972600@rihg.ca
SUMMARY:$5 Wine
DESCRIPTION:Enjoy $5 glasses of our house or select brand wines all day long!
URL:https://rihg.ca/event/5-wine-2/2022-04-26/
END:VEVENT
BEGIN:VEVENT
DTSTART;TZID=America/Halifax:20220425T210000
DTEND;TZID=America/Halifax:20220425T210000
DTSTAMP:20260424T132851
CREATED:20210602T213821Z
LAST-MODIFIED:20220711T145815Z
UID:10001310-1650920400-1650920400@rihg.ca
SUMMARY:Second Cousins
DESCRIPTION:Jacob Hemphill and Isaac King have played music together for a while here at Hunter’s. \nDuring this time\, they discovered they are related. (It’s the island way!) \nAnything can happen on a Monday night at Hunter’s. Plus it’s always entertaining. See you tonight!
URL:https://rihg.ca/event/jacob-friends-2021-08-30/2022-04-25/
CATEGORIES:Hunter’s Ale House
ATTACH;FMTTYPE=image/jpeg:https://rihg.ca/wp-content/uploads/2021/06/Jacob-Hemphill.jpg
END:VEVENT
BEGIN:VEVENT
DTSTART;TZID=America/Halifax:20220425T210000
DTEND;TZID=America/Halifax:20220425T210000
DTSTAMP:20260424T132851
CREATED:20181126T213257Z
LAST-MODIFIED:20251223T192532Z
UID:10009101-1650920400-1650920400@rihg.ca
SUMMARY:1/2 Priced Nachos
DESCRIPTION:Check out our variety of nachos: \nIt would take a few months to try a new one every week… \nCHALLENGE ACCEPTED! \n**Must purchase a beverage to order 1/2 priced nachos
URL:https://rihg.ca/event/1-2-priced-nachos-2019-06-03/2022-04-25/
CATEGORIES:Hunter’s Ale House
END:VEVENT
BEGIN:VEVENT
DTSTART;TZID=America/Halifax:20220425T160000
DTEND;TZID=America/Halifax:20220425T160000
DTSTAMP:20260424T132851
CREATED:20190605T190205Z
LAST-MODIFIED:20220225T193455Z
UID:10003584-1650902400-1650902400@rihg.ca
SUMMARY:Pizza & Garlic Fingers
DESCRIPTION:Order a medium classic or signature pizza and receive a FREE small garlic fingers for only $24.99. \nDine-in or take-out. Available Tuesday through Saturday. Sorry\, we’re closed on Sunday and Monday!
URL:https://rihg.ca/event/medium-pizza-garlic-fingers-24-99/2022-04-25/
CATEGORIES:The Factory
END:VEVENT
BEGIN:VEVENT
DTSTART;TZID=America/Halifax:20220425T160000
DTEND;TZID=America/Halifax:20220425T160000
DTSTAMP:20260424T132851
CREATED:20180911T190615Z
LAST-MODIFIED:20220225T193303Z
UID:10002851-1650902400-1650902400@rihg.ca
SUMMARY:Pizza & Wings
DESCRIPTION:Order any medium classic (or your choice of 3 classic toppings) pizza with 8 breaded chicken wings for only $19.99 \nUpgrade to a large pizza for only $5 more! \nDine-in or take-out\, Tuesday through Saturday. Sorry\, we’re closed on Sunday and Monday!
URL:https://rihg.ca/event/anyday-anytime-special/2022-04-25/
CATEGORIES:The Factory
END:VEVENT
BEGIN:VEVENT
DTSTART;TZID=America/Halifax:20220425T140000
DTEND;TZID=America/Halifax:20220425T160000
DTSTAMP:20260424T132851
CREATED:20200603T190545Z
LAST-MODIFIED:20251224T162430Z
UID:10010182-1650895200-1650902400@rihg.ca
SUMMARY:Half-Priced Mussels
DESCRIPTION:From 2 until 4 p.m. every day of the week\, our succulent PEI mussels are 50% of the price but still 100% of the flavour! \nYour choice of: \n\nWhite wine & garlic\nCreamy pancetta\nSpicy arribiata\nSpinach & goat cheese
URL:https://rihg.ca/event/half-priced-mussels-2020-10-04/2022-04-25/
CATEGORIES:John Brown Grille
END:VEVENT
BEGIN:VEVENT
DTSTART;TZID=America/Halifax:20220425T113000
DTEND;TZID=America/Halifax:20220425T113000
DTSTAMP:20260424T132851
CREATED:20200923T163847Z
LAST-MODIFIED:20220711T143659Z
UID:10011137-1650886200-1650886200@rihg.ca
SUMMARY:Staff Priced Pints
DESCRIPTION:Monday is like the service industry’s Saturday. \nSo all day every Monday\, save a few quid on a few staff pints. It’s win-win!
URL:https://rihg.ca/event/staff-priced-beer-2021-09-03/2022-04-25/
END:VEVENT
BEGIN:VEVENT
DTSTART;TZID=America/Halifax:20220424T210000
DTEND;TZID=America/Halifax:20220424T210000
DTSTAMP:20260424T132851
CREATED:20211203T211110Z
LAST-MODIFIED:20251223T195142Z
UID:10013964-1650834000-1650834000@rihg.ca
SUMMARY:Name That Tune Trivia with Andrew Rollins
DESCRIPTION:You think you know your music? Think again! Andrew will put your musical knowledge to the test! \nWe will be using Hunter’s “wooden nickel” drink tokens for beer questions. These can be redeemed for a domestic bottled beer\, well shot\, or non-alcoholic beverage\, when won or at any future time! \nWe look forward to seeing you on Sunday night!!!
URL:https://rihg.ca/event/name-that-tune-trivia-with-andrew-rollins-2/2022-04-24/
CATEGORIES:Hunter’s Ale House
END:VEVENT
BEGIN:VEVENT
DTSTART;TZID=America/Halifax:20220424T210000
DTEND;TZID=America/Halifax:20220424T210000
DTSTAMP:20260424T132851
CREATED:20160505T172902Z
LAST-MODIFIED:20251223T195103Z
UID:10007461-1650834000-1650834000@rihg.ca
SUMMARY:1/2 Priced Poutine
DESCRIPTION:Have your seen our Poutinerie? You could pretty much have a new one every week for a year! Well\, half a year anyway… \n  \n**Purchase of a beverage is required to order a 1/2 priced poutine.
URL:https://rihg.ca/event/12-price-poutine-2016-06-05-2016-09-04-2016-11-06-2017-06-25-2018-10-07-2019-06-02/2022-04-24/
CATEGORIES:Hunter’s Ale House
END:VEVENT
BEGIN:VEVENT
DTSTART;TZID=America/Halifax:20220424T140000
DTEND;TZID=America/Halifax:20220424T160000
DTSTAMP:20260424T132851
CREATED:20200603T190545Z
LAST-MODIFIED:20251224T162430Z
UID:10010181-1650808800-1650816000@rihg.ca
SUMMARY:Half-Priced Mussels
DESCRIPTION:From 2 until 4 p.m. every day of the week\, our succulent PEI mussels are 50% of the price but still 100% of the flavour! \nYour choice of: \n\nWhite wine & garlic\nCreamy pancetta\nSpicy arribiata\nSpinach & goat cheese
URL:https://rihg.ca/event/half-priced-mussels-2020-10-04/2022-04-24/
CATEGORIES:John Brown Grille
END:VEVENT
BEGIN:VEVENT
DTSTART;TZID=America/Halifax:20220424T140000
DTEND;TZID=America/Halifax:20220424T140000
DTSTAMP:20260424T132851
CREATED:20220225T194227Z
LAST-MODIFIED:20220225T194227Z
UID:10011666-1650808800-1650808800@rihg.ca
SUMMARY:The BIG Game is Always ON!
DESCRIPTION:One thing you can always count on: If there is a BIG sports game happening\, it’s on the big screen here at the Factory Downtown! Besides the big screen\, there are numerous other screens around the room AND the surround sound is turned way UP! \nSo collect you friends\, throw on your team’s jersey and come cheer them on! There’s always game day food and drink specials in play too. \n**Blackout/pay-per-view games exempt.
URL:https://rihg.ca/event/the-big-game-is-always-on/2022-04-24/
CATEGORIES:The Factory
END:VEVENT
BEGIN:VEVENT
DTSTART;TZID=America/Halifax:20220424T120000
DTEND;TZID=America/Halifax:20220424T150000
DTSTAMP:20260424T132851
CREATED:20220412T170702Z
LAST-MODIFIED:20220412T170943Z
UID:10004152-1650801600-1650812400@rihg.ca
SUMMARY:Second Breakfast Sessions: Brad Milligan
DESCRIPTION:
URL:https://rihg.ca/event/second-breakfast-sessions-brad-milligan-2022-04-24/
CATEGORIES:John Brown Grille
END:VEVENT
BEGIN:VEVENT
DTSTART;TZID=America/Halifax:20220423T230000
DTEND;TZID=America/Halifax:20220423T230000
DTSTAMP:20260424T132851
CREATED:20220506T181636Z
LAST-MODIFIED:20230621T192347Z
UID:10011728-1650754800-1650754800@rihg.ca
SUMMARY:2 DJs & 2 Dance Floors
DESCRIPTION:Check out two levels of fun with a rotating schedule of DJs playing today’s hottest new country and Top 40 hits on the main floor and DJ METHoD’s Dance Party in the lower level.
URL:https://rihg.ca/event/2-djs-2-dance-floors/2022-04-23/
CATEGORIES:The Factory
END:VEVENT
BEGIN:VEVENT
DTSTART;TZID=America/Halifax:20220423T210000
DTEND;TZID=America/Halifax:20220423T210000
DTSTAMP:20260424T132851
CREATED:20160505T164046Z
LAST-MODIFIED:20251223T194947Z
UID:10006793-1650747600-1650747600@rihg.ca
SUMMARY:Pitcher & Wings = $27.99
DESCRIPTION:Pick a pitcher and choose your sauce for only $27.99. We’ll do the rest! \n  \n**Special includes choice of a domestic Molson pitcher and 1 lb wings.
URL:https://rihg.ca/event/pitcher-wing-special-2016-06-04-2016-09-03-2016-11-05-2017-06-24-2018-10-06-2019-06-01/2022-04-23/
CATEGORIES:Hunter’s Ale House
END:VEVENT
BEGIN:VEVENT
DTSTART;TZID=America/Halifax:20220423T160000
DTEND;TZID=America/Halifax:20220423T160000
DTSTAMP:20260424T132851
CREATED:20180911T184017Z
LAST-MODIFIED:20220627T161500Z
UID:10002265-1650729600-1650729600@rihg.ca
SUMMARY:$5 Garlic Fingers
DESCRIPTION:Could you think of a better snack for kicking off a great Saturday night? \nOur buttery\, garlicky\, cheesy fingers served with the best donair sauce in town. \nSpecial offer requires the purchase of a beverage. \nDine-in only. \nBegins at 4 p.m. every Saturday.
URL:https://rihg.ca/event/5-garlic-fingers/2022-04-23/
CATEGORIES:The Factory
END:VEVENT
END:VCALENDAR