BEGIN:VCALENDAR
VERSION:2.0
PRODID:-//Red Island Hospitality Group Inc. - ECPv6.15.20//NONSGML v1.0//EN
CALSCALE:GREGORIAN
METHOD:PUBLISH
X-WR-CALNAME:Red Island Hospitality Group Inc.
X-ORIGINAL-URL:https://rihg.ca
X-WR-CALDESC:Events for Red Island Hospitality Group Inc.
REFRESH-INTERVAL;VALUE=DURATION:PT1H
X-Robots-Tag:noindex
X-PUBLISHED-TTL:PT1H
BEGIN:VTIMEZONE
TZID:America/Halifax
BEGIN:DAYLIGHT
TZOFFSETFROM:-0400
TZOFFSETTO:-0300
TZNAME:ADT
DTSTART:20250309T060000
END:DAYLIGHT
BEGIN:STANDARD
TZOFFSETFROM:-0300
TZOFFSETTO:-0400
TZNAME:AST
DTSTART:20251102T050000
END:STANDARD
BEGIN:DAYLIGHT
TZOFFSETFROM:-0400
TZOFFSETTO:-0300
TZNAME:ADT
DTSTART:20260308T060000
END:DAYLIGHT
BEGIN:STANDARD
TZOFFSETFROM:-0300
TZOFFSETTO:-0400
TZNAME:AST
DTSTART:20261101T050000
END:STANDARD
BEGIN:DAYLIGHT
TZOFFSETFROM:-0400
TZOFFSETTO:-0300
TZNAME:ADT
DTSTART:20270314T060000
END:DAYLIGHT
BEGIN:STANDARD
TZOFFSETFROM:-0300
TZOFFSETTO:-0400
TZNAME:AST
DTSTART:20271107T050000
END:STANDARD
END:VTIMEZONE
BEGIN:VEVENT
DTSTART;TZID=America/Halifax:20260224T140000
DTEND;TZID=America/Halifax:20260224T160000
DTSTAMP:20260421T083940
CREATED:20200603T190545Z
LAST-MODIFIED:20251224T162430Z
UID:10020322-1771941600-1771948800@rihg.ca
SUMMARY:Half-Priced Mussels
DESCRIPTION:From 2 until 4 p.m. every day of the week\, our succulent PEI mussels are 50% of the price but still 100% of the flavour! \nYour choice of: \n\nWhite wine & garlic\nCreamy pancetta\nSpicy arribiata\nSpinach & goat cheese
URL:https://rihg.ca/event/half-priced-mussels-2020-10-04/2026-02-24/
CATEGORIES:John Brown Grille
END:VEVENT
BEGIN:VEVENT
DTSTART;TZID=America/Halifax:20260224T110000
DTEND;TZID=America/Halifax:20260224T150000
DTSTAMP:20260421T083940
CREATED:20251117T205637Z
LAST-MODIFIED:20251117T205830Z
UID:10019186-1771930800-1771945200@rihg.ca
SUMMARY:$13 Soup & Sandwich
DESCRIPTION:Enjoy our chef’s daily soup & sandwich creation. \nAvailable weekdays between 11 and 3 pm. \nPurchase of a beverage required. Dine-in only.
URL:https://rihg.ca/event/13-soup-sandwich/2026-02-24/
END:VEVENT
BEGIN:VEVENT
DTSTART;TZID=America/Halifax:20260223T220000
DTEND;TZID=America/Halifax:20260223T220000
DTSTAMP:20260421T083940
CREATED:20250404T165601Z
LAST-MODIFIED:20251223T192613Z
UID:10018214-1771884000-1771884000@rihg.ca
SUMMARY:Open Mic with Travis
DESCRIPTION:Monday Open Mic is BACK!!!!
URL:https://rihg.ca/event/open-mic-with-travis/2026-02-23/
CATEGORIES:Hunter’s Ale House
END:VEVENT
BEGIN:VEVENT
DTSTART;TZID=America/Halifax:20260223T210000
DTEND;TZID=America/Halifax:20260223T210000
DTSTAMP:20260421T083940
CREATED:20181126T213257Z
LAST-MODIFIED:20251223T192532Z
UID:10019254-1771880400-1771880400@rihg.ca
SUMMARY:1/2 Priced Nachos
DESCRIPTION:Check out our variety of nachos: \nIt would take a few months to try a new one every week… \nCHALLENGE ACCEPTED! \n**Must purchase a beverage to order 1/2 priced nachos
URL:https://rihg.ca/event/1-2-priced-nachos-2019-06-03/2026-02-23/
CATEGORIES:Hunter’s Ale House
END:VEVENT
BEGIN:VEVENT
DTSTART;TZID=America/Halifax:20260223T170000
DTEND;TZID=America/Halifax:20260223T220000
DTSTAMP:20260421T083940
CREATED:20251117T195645Z
LAST-MODIFIED:20251117T195645Z
UID:10018963-1771866000-1771884000@rihg.ca
SUMMARY:Half Priced Apps
DESCRIPTION:Select appetizers available for 50% off. \nLots of tasty appetizers to choose from: https://johnbrowngrille.com/appetizers/ \nPurchase of a beverage required. Dine-in only.
URL:https://rihg.ca/event/half-priced-apps-2/2026-02-23/
CATEGORIES:John Brown Grille
END:VEVENT
BEGIN:VEVENT
DTSTART;TZID=America/Halifax:20260223T140000
DTEND;TZID=America/Halifax:20260223T160000
DTSTAMP:20260421T083940
CREATED:20200603T190545Z
LAST-MODIFIED:20251224T162430Z
UID:10020321-1771855200-1771862400@rihg.ca
SUMMARY:Half-Priced Mussels
DESCRIPTION:From 2 until 4 p.m. every day of the week\, our succulent PEI mussels are 50% of the price but still 100% of the flavour! \nYour choice of: \n\nWhite wine & garlic\nCreamy pancetta\nSpicy arribiata\nSpinach & goat cheese
URL:https://rihg.ca/event/half-priced-mussels-2020-10-04/2026-02-23/
CATEGORIES:John Brown Grille
END:VEVENT
BEGIN:VEVENT
DTSTART;TZID=America/Halifax:20260223T110000
DTEND;TZID=America/Halifax:20260223T150000
DTSTAMP:20260421T083940
CREATED:20251117T205637Z
LAST-MODIFIED:20251117T205830Z
UID:10019185-1771844400-1771858800@rihg.ca
SUMMARY:$13 Soup & Sandwich
DESCRIPTION:Enjoy our chef’s daily soup & sandwich creation. \nAvailable weekdays between 11 and 3 pm. \nPurchase of a beverage required. Dine-in only.
URL:https://rihg.ca/event/13-soup-sandwich/2026-02-23/
END:VEVENT
BEGIN:VEVENT
DTSTART;TZID=America/Halifax:20260222T210000
DTEND;TZID=America/Halifax:20260222T210000
DTSTAMP:20260421T083940
CREATED:20211203T211110Z
LAST-MODIFIED:20251223T195142Z
UID:10019764-1771794000-1771794000@rihg.ca
SUMMARY:Name That Tune Trivia with Andrew Rollins
DESCRIPTION:You think you know your music? Think again! Andrew will put your musical knowledge to the test! \nWe will be using Hunter’s “wooden nickel” drink tokens for beer questions. These can be redeemed for a domestic bottled beer\, well shot\, or non-alcoholic beverage\, when won or at any future time! \nWe look forward to seeing you on Sunday night!!!
URL:https://rihg.ca/event/name-that-tune-trivia-with-andrew-rollins-2/2026-02-22/
CATEGORIES:Hunter’s Ale House
END:VEVENT
BEGIN:VEVENT
DTSTART;TZID=America/Halifax:20260222T210000
DTEND;TZID=America/Halifax:20260222T210000
DTSTAMP:20260421T083940
CREATED:20160505T172902Z
LAST-MODIFIED:20251223T195103Z
UID:10019712-1771794000-1771794000@rihg.ca
SUMMARY:1/2 Priced Poutine
DESCRIPTION:Have your seen our Poutinerie? You could pretty much have a new one every week for a year! Well\, half a year anyway… \n  \n**Purchase of a beverage is required to order a 1/2 priced poutine.
URL:https://rihg.ca/event/12-price-poutine-2016-06-05-2016-09-04-2016-11-06-2017-06-25-2018-10-07-2019-06-02/2026-02-22/
CATEGORIES:Hunter’s Ale House
END:VEVENT
BEGIN:VEVENT
DTSTART;TZID=America/Halifax:20260222T170000
DTEND;TZID=America/Halifax:20260222T220000
DTSTAMP:20260421T083940
CREATED:20251117T205320Z
LAST-MODIFIED:20251117T205320Z
UID:10019095-1771779600-1771797600@rihg.ca
SUMMARY:2-4-1 Pub Fare
DESCRIPTION:Purchase one “Pub Fare” item and receive the second of equal or lesser value for free: https://johnbrowngrille.com/pub-fare/ \nPurchase of a beverage required. Dine-in only.
URL:https://rihg.ca/event/2-4-1-pub-fare/2026-02-22/
CATEGORIES:John Brown Grille
END:VEVENT
BEGIN:VEVENT
DTSTART;TZID=America/Halifax:20260222T140000
DTEND;TZID=America/Halifax:20260222T160000
DTSTAMP:20260421T083940
CREATED:20200603T190545Z
LAST-MODIFIED:20251224T162430Z
UID:10020320-1771768800-1771776000@rihg.ca
SUMMARY:Half-Priced Mussels
DESCRIPTION:From 2 until 4 p.m. every day of the week\, our succulent PEI mussels are 50% of the price but still 100% of the flavour! \nYour choice of: \n\nWhite wine & garlic\nCreamy pancetta\nSpicy arribiata\nSpinach & goat cheese
URL:https://rihg.ca/event/half-priced-mussels-2020-10-04/2026-02-22/
CATEGORIES:John Brown Grille
END:VEVENT
BEGIN:VEVENT
DTSTART;TZID=America/Halifax:20260221T230000
DTEND;TZID=America/Halifax:20260221T230000
DTSTAMP:20260421T083941
CREATED:20260129T205855Z
LAST-MODIFIED:20260129T205855Z
UID:10020748-1771714800-1771714800@rihg.ca
SUMMARY:Neon Country
DESCRIPTION:
URL:https://rihg.ca/event/neon-country-8/
CATEGORIES:Hunter’s Ale House
END:VEVENT
BEGIN:VEVENT
DTSTART;TZID=America/Halifax:20260221T230000
DTEND;TZID=America/Halifax:20260221T230000
DTSTAMP:20260421T083941
CREATED:20260115T192106Z
LAST-MODIFIED:20260115T192106Z
UID:10020736-1771714800-1771714800@rihg.ca
SUMMARY:DJ Derek
DESCRIPTION:
URL:https://rihg.ca/event/dj-derek-37/
CATEGORIES:The Factory
END:VEVENT
BEGIN:VEVENT
DTSTART;TZID=America/Halifax:20260221T230000
DTEND;TZID=America/Halifax:20260221T230000
DTSTAMP:20260421T083941
CREATED:20251224T165310Z
LAST-MODIFIED:20251224T165310Z
UID:10020647-1771714800-1771714800@rihg.ca
SUMMARY:DJ MöJö
DESCRIPTION:
URL:https://rihg.ca/event/dj-mojo-7/
CATEGORIES:John Brown Grille
END:VEVENT
BEGIN:VEVENT
DTSTART;TZID=America/Halifax:20260221T220000
DTEND;TZID=America/Halifax:20260221T220000
DTSTAMP:20260421T083941
CREATED:20241004T173643Z
LAST-MODIFIED:20251223T200119Z
UID:10020197-1771711200-1771711200@rihg.ca
SUMMARY:Saturday Night Shaker!
DESCRIPTION:The Corner’s rocking every Saturday night and here at the Factory it’s an absolute S-H-A-K-E-R! \nDance the night away to the best DJ beats in town. \nBlue Lobster drink specials start at 10pm.
URL:https://rihg.ca/event/saturday-night-shaker/2026-02-21/
CATEGORIES:The Factory
END:VEVENT
BEGIN:VEVENT
DTSTART;TZID=America/Halifax:20260221T210000
DTEND;TZID=America/Halifax:20260221T210000
DTSTAMP:20260421T083941
CREATED:20160505T164046Z
LAST-MODIFIED:20251223T194947Z
UID:10019660-1771707600-1771707600@rihg.ca
SUMMARY:Pitcher & Wings = $27.99
DESCRIPTION:Pick a pitcher and choose your sauce for only $27.99. We’ll do the rest! \n  \n**Special includes choice of a domestic Molson pitcher and 1 lb wings.
URL:https://rihg.ca/event/pitcher-wing-special-2016-06-04-2016-09-03-2016-11-05-2017-06-24-2018-10-06-2019-06-01/2026-02-21/
CATEGORIES:Hunter’s Ale House
END:VEVENT
BEGIN:VEVENT
DTSTART;TZID=America/Halifax:20260221T190000
DTEND;TZID=America/Halifax:20260221T210000
DTSTAMP:20260421T083941
CREATED:20250507T165306Z
LAST-MODIFIED:20251223T200039Z
UID:10020146-1771700400-1771707600@rihg.ca
SUMMARY:Music Bingo with Darcy!
DESCRIPTION: Music Bingo – Every Saturday from 7 to 9 PM! \n\nIt’s just like regular bingo… but with a musical twist! Instead of numbers\, you’ll be matching song titles to your bingo card.\nHosted by Darcy Campbell from Hot 105.5\, each round features a different musical genre. Darcy will play the first verse and chorus of each song — if it’s on your card\, dab it!\n\nWe play three games every night\, each with its own awesome prize. From throwbacks to chart-toppers\, there’s something for every music lover.\nGrab your friends\, bring your ears\, and get ready for a Saturday night full of fun\, tunes\, and prizes!\n\n1 bingo card/person   |  FREE admission
URL:https://rihg.ca/event/music-bingo-with-darcy/2026-02-21/
CATEGORIES:The Factory
END:VEVENT
BEGIN:VEVENT
DTSTART;TZID=America/Halifax:20260221T170000
DTEND;TZID=America/Halifax:20260221T220000
DTSTAMP:20260421T083941
CREATED:20251117T202452Z
LAST-MODIFIED:20251117T202452Z
UID:10019068-1771693200-1771711200@rihg.ca
SUMMARY:Half-Priced Nachos
DESCRIPTION:Your choice of John Brown’s Classic or Southwest Nachos for half-price? Sold! \nPurchase of a beverage required. Dine-in only.
URL:https://rihg.ca/event/half-priced-nachos/2026-02-21/
CATEGORIES:John Brown Grille
END:VEVENT
BEGIN:VEVENT
DTSTART;TZID=America/Halifax:20260221T140000
DTEND;TZID=America/Halifax:20260221T170000
DTSTAMP:20260421T083941
CREATED:20251224T165216Z
LAST-MODIFIED:20251224T165240Z
UID:10020646-1771682400-1771693200@rihg.ca
SUMMARY:Dave Woodside
DESCRIPTION:
URL:https://rihg.ca/event/dave-woodside-10/
CATEGORIES:John Brown Grille
END:VEVENT
BEGIN:VEVENT
DTSTART;TZID=America/Halifax:20260221T140000
DTEND;TZID=America/Halifax:20260221T160000
DTSTAMP:20260421T083941
CREATED:20200603T190545Z
LAST-MODIFIED:20251224T162430Z
UID:10020319-1771682400-1771689600@rihg.ca
SUMMARY:Half-Priced Mussels
DESCRIPTION:From 2 until 4 p.m. every day of the week\, our succulent PEI mussels are 50% of the price but still 100% of the flavour! \nYour choice of: \n\nWhite wine & garlic\nCreamy pancetta\nSpicy arribiata\nSpinach & goat cheese
URL:https://rihg.ca/event/half-priced-mussels-2020-10-04/2026-02-21/
CATEGORIES:John Brown Grille
END:VEVENT
BEGIN:VEVENT
DTSTART;TZID=America/Halifax:20260220T230000
DTEND;TZID=America/Halifax:20260220T230000
DTSTAMP:20260421T083941
CREATED:20260129T205832Z
LAST-MODIFIED:20260129T205832Z
UID:10020747-1771628400-1771628400@rihg.ca
SUMMARY:Holy Hannah Trio
DESCRIPTION:
URL:https://rihg.ca/event/holy-hannah-trio-5/
CATEGORIES:Hunter’s Ale House
END:VEVENT
BEGIN:VEVENT
DTSTART;TZID=America/Halifax:20260220T230000
DTEND;TZID=America/Halifax:20260220T230000
DTSTAMP:20260421T083941
CREATED:20260115T192031Z
LAST-MODIFIED:20260115T192031Z
UID:10020735-1771628400-1771628400@rihg.ca
SUMMARY:DJ Douce
DESCRIPTION:
URL:https://rihg.ca/event/dj-douce-33/
CATEGORIES:The Factory
END:VEVENT
BEGIN:VEVENT
DTSTART;TZID=America/Halifax:20260220T220000
DTEND;TZID=America/Halifax:20260220T220000
DTSTAMP:20260421T083941
CREATED:20230907T202019Z
LAST-MODIFIED:20251223T200002Z
UID:10020095-1771624800-1771624800@rihg.ca
SUMMARY:Blue Lobster Refresh Friday
DESCRIPTION:Recharge after your week with a night of fun\, dancing and drink specials! \nEvery Friday there is a DJ on the main floor stage and we feature drink specials on Blue Lobster products: \n\nBlue Lobster Canned Cocktails\nBlue Lobster Seltzers\nOur special Blue Lobster shooter: THE PINK LOBSTER\n\nThis Blue’s For You!
URL:https://rihg.ca/event/refresh-friday/2026-02-20/
CATEGORIES:The Factory
END:VEVENT
BEGIN:VEVENT
DTSTART;TZID=America/Halifax:20260220T210000
DTEND;TZID=America/Halifax:20260220T210000
DTSTAMP:20260421T083941
CREATED:20141210T153446Z
LAST-MODIFIED:20251223T194853Z
UID:10019609-1771621200-1771621200@rihg.ca
SUMMARY:Pitcher + Nachos = $27.99
DESCRIPTION:You get a pitcher & an order of nachos for only $27.99? Sounds like the combination of a good time to us! \n  \n**Special includes choice of a domestic Labatt product and an order of regular Hunter’s nachos.
URL:https://rihg.ca/event/pitcher-nachos-24-99-2015-09-04-2016-05-06-2016-06-03-2016-09-02-2016-11-04-2017-06-23-2018-10-05-2019-06-07/2026-02-20/
CATEGORIES:Hunter’s Ale House
END:VEVENT
BEGIN:VEVENT
DTSTART;TZID=America/Halifax:20260220T200000
DTEND;TZID=America/Halifax:20260220T200000
DTSTAMP:20260421T083941
CREATED:20251006T183141Z
LAST-MODIFIED:20260416T203127Z
UID:10020688-1771617600-1771617600@rihg.ca
SUMMARY:Friday Night Trivia with Mark
DESCRIPTION:Join Trivia Master Mark Cameron for two hours of head-scratching questions. \nPrizes for 1st\, 2nd & 3rd places. \nDon’t forget your quarters for beer questions!
URL:https://rihg.ca/event/friday-night-trivia-with-mark/2026-02-20/
CATEGORIES:The Factory
END:VEVENT
BEGIN:VEVENT
DTSTART;TZID=America/Halifax:20260220T170000
DTEND;TZID=America/Halifax:20260220T220000
DTSTAMP:20260421T083941
CREATED:20251117T201423Z
LAST-MODIFIED:20251117T201518Z
UID:10019041-1771606800-1771624800@rihg.ca
SUMMARY:$15 Fish & Chips
DESCRIPTION:8oz haddock filet hand-dipped in our gluten free batter\, served with our dill tartar sauce \nPurchase of a beverage required. Dine-in only.
URL:https://rihg.ca/event/15-fish-chips/2026-02-20/
CATEGORIES:John Brown Grille
END:VEVENT
BEGIN:VEVENT
DTSTART;TZID=America/Halifax:20260220T140000
DTEND;TZID=America/Halifax:20260220T160000
DTSTAMP:20260421T083941
CREATED:20200603T190545Z
LAST-MODIFIED:20251224T162430Z
UID:10020318-1771596000-1771603200@rihg.ca
SUMMARY:Half-Priced Mussels
DESCRIPTION:From 2 until 4 p.m. every day of the week\, our succulent PEI mussels are 50% of the price but still 100% of the flavour! \nYour choice of: \n\nWhite wine & garlic\nCreamy pancetta\nSpicy arribiata\nSpinach & goat cheese
URL:https://rihg.ca/event/half-priced-mussels-2020-10-04/2026-02-20/
CATEGORIES:John Brown Grille
END:VEVENT
BEGIN:VEVENT
DTSTART;TZID=America/Halifax:20260220T110000
DTEND;TZID=America/Halifax:20260220T150000
DTSTAMP:20260421T083941
CREATED:20251117T205637Z
LAST-MODIFIED:20251117T205830Z
UID:10019184-1771585200-1771599600@rihg.ca
SUMMARY:$13 Soup & Sandwich
DESCRIPTION:Enjoy our chef’s daily soup & sandwich creation. \nAvailable weekdays between 11 and 3 pm. \nPurchase of a beverage required. Dine-in only.
URL:https://rihg.ca/event/13-soup-sandwich/2026-02-20/
END:VEVENT
BEGIN:VEVENT
DTSTART;TZID=America/Halifax:20260219T230000
DTEND;TZID=America/Halifax:20260219T230000
DTSTAMP:20260421T083941
CREATED:20260129T205806Z
LAST-MODIFIED:20260129T205806Z
UID:10020746-1771542000-1771542000@rihg.ca
SUMMARY:Carter MacLellan
DESCRIPTION:
URL:https://rihg.ca/event/carter-maclellan-6/
CATEGORIES:Hunter’s Ale House
END:VEVENT
BEGIN:VEVENT
DTSTART;TZID=America/Halifax:20260219T220000
DTEND;TZID=America/Halifax:20260219T220000
DTSTAMP:20260421T083941
CREATED:20251021T174951Z
LAST-MODIFIED:20251224T165723Z
UID:10020077-1771538400-1771538400@rihg.ca
SUMMARY:Twisted Tea Student Night
DESCRIPTION:Start your weekend early with karaoke on the main floor and sweet deals on Twisted Tea! \n** TWO FOR TWELVE!!!  **  That’s TWO delicious Twisted Tea for just $12!!! \n \n  \n 
URL:https://rihg.ca/event/twisted-thursday-student-night/2026-02-19/
CATEGORIES:The Factory
ATTACH;FMTTYPE=image/png:https://rihg.ca/wp-content/uploads/2025/10/Twisted-Tea-Sun.png
END:VEVENT
END:VCALENDAR