BEGIN:VCALENDAR
VERSION:2.0
PRODID:-//Red Island Hospitality Group Inc. - ECPv6.15.20//NONSGML v1.0//EN
CALSCALE:GREGORIAN
METHOD:PUBLISH
X-ORIGINAL-URL:https://rihg.ca
X-WR-CALDESC:Events for Red Island Hospitality Group Inc.
REFRESH-INTERVAL;VALUE=DURATION:PT1H
X-Robots-Tag:noindex
X-PUBLISHED-TTL:PT1H
BEGIN:VTIMEZONE
TZID:America/Halifax
BEGIN:DAYLIGHT
TZOFFSETFROM:-0400
TZOFFSETTO:-0300
TZNAME:ADT
DTSTART:20250309T060000
END:DAYLIGHT
BEGIN:STANDARD
TZOFFSETFROM:-0300
TZOFFSETTO:-0400
TZNAME:AST
DTSTART:20251102T050000
END:STANDARD
BEGIN:DAYLIGHT
TZOFFSETFROM:-0400
TZOFFSETTO:-0300
TZNAME:ADT
DTSTART:20260308T060000
END:DAYLIGHT
BEGIN:STANDARD
TZOFFSETFROM:-0300
TZOFFSETTO:-0400
TZNAME:AST
DTSTART:20261101T050000
END:STANDARD
BEGIN:DAYLIGHT
TZOFFSETFROM:-0400
TZOFFSETTO:-0300
TZNAME:ADT
DTSTART:20270314T060000
END:DAYLIGHT
BEGIN:STANDARD
TZOFFSETFROM:-0300
TZOFFSETTO:-0400
TZNAME:AST
DTSTART:20271107T050000
END:STANDARD
END:VTIMEZONE
BEGIN:VEVENT
DTSTART;TZID=America/Halifax:20260523T220000
DTEND;TZID=America/Halifax:20260523T220000
DTSTAMP:20260421T152451
CREATED:20260416T200528Z
LAST-MODIFIED:20260416T200528Z
UID:10021283-1779573600-1779573600@rihg.ca
SUMMARY:DJ METHoD
DESCRIPTION:
URL:https://rihg.ca/event/dj-method-50/
CATEGORIES:The Factory
END:VEVENT
BEGIN:VEVENT
DTSTART;TZID=America/Halifax:20260523T230000
DTEND;TZID=America/Halifax:20260523T230000
DTSTAMP:20260421T152451
CREATED:20260414T191633Z
LAST-MODIFIED:20260414T191633Z
UID:10020832-1779577200-1779577200@rihg.ca
SUMMARY:Gin & Tonic
DESCRIPTION:
URL:https://rihg.ca/event/gin-tonic-11/
CATEGORIES:Hunter’s Ale House
END:VEVENT
BEGIN:VEVENT
DTSTART;TZID=America/Halifax:20260524T140000
DTEND;TZID=America/Halifax:20260524T160000
DTSTAMP:20260421T152451
CREATED:20200603T190545Z
LAST-MODIFIED:20251224T162430Z
UID:10020411-1779631200-1779638400@rihg.ca
SUMMARY:Half-Priced Mussels
DESCRIPTION:From 2 until 4 p.m. every day of the week\, our succulent PEI mussels are 50% of the price but still 100% of the flavour! \nYour choice of: \n\nWhite wine & garlic\nCreamy pancetta\nSpicy arribiata\nSpinach & goat cheese
URL:https://rihg.ca/event/half-priced-mussels-2020-10-04/2026-05-24/
CATEGORIES:John Brown Grille
END:VEVENT
BEGIN:VEVENT
DTSTART;TZID=America/Halifax:20260524T180000
DTEND;TZID=America/Halifax:20260524T180000
DTSTAMP:20260421T152451
CREATED:20260416T202519Z
LAST-MODIFIED:20260416T202519Z
UID:10021286-1779645600-1779645600@rihg.ca
SUMMARY:Henry Sir in the Comedy Cave
DESCRIPTION:Henry Sir is bringing his sharp\, witty comedy to Prince Edward Island for a night of laughs and banter you won’t forget. \n\n\n\n\nHenry Sir is a Canadian comedian and writer based between Canada and New York where he performs at the top clubs like The Comedy Cellar and Gotham Comedy Club while touring North America. Known for his dry wit\, sharp writing and punching up takes on the state of the world\, he’s been featured on Comedy Central\, Just For Laughs New Faces\, Don’t Tell Comedy\, and CBC New Wave of Stand Up. Henry is the host of the satirical political podcast\, The Freedom Hour\, and the popular social media series\, Current Events Chirped By A Canadian. \n\nGet your tickets here: https://www.eventbrite.ca/e/henry-sir-live-in-pei-tickets-1985556386602?utm-campaign=social&utm-content=attendeeshare&utm-medium=discovery&utm-term=listing&utm-source=cp&aff=ebdsshcopyurl \n\nDoors open at 5:30. \n**Please note: There is no food service at this event. \n 
URL:https://rihg.ca/event/henry-sir-in-the-comedy-cave/
CATEGORIES:The Factory
END:VEVENT
BEGIN:VEVENT
DTSTART;TZID=America/Halifax:20260524T200000
DTEND;TZID=America/Halifax:20260524T220000
DTSTAMP:20260421T152451
CREATED:20260416T161854Z
LAST-MODIFIED:20260416T161916Z
UID:10021246-1779652800-1779660000@rihg.ca
SUMMARY:Half Priced Apps
DESCRIPTION:Select appetizers available for 50% off. \nLots of tasty appetizers to choose from: https://johnbrowngrille.com/appetizers/ \nPurchase of a beverage required. Dine-in only.
URL:https://rihg.ca/event/half-priced-apps-3/2026-05-24/
CATEGORIES:John Brown Grille
END:VEVENT
BEGIN:VEVENT
DTSTART;TZID=America/Halifax:20260524T210000
DTEND;TZID=America/Halifax:20260524T210000
DTSTAMP:20260421T152451
CREATED:20160505T172902Z
LAST-MODIFIED:20251223T195103Z
UID:10019725-1779656400-1779656400@rihg.ca
SUMMARY:1/2 Priced Poutine
DESCRIPTION:Have your seen our Poutinerie? You could pretty much have a new one every week for a year! Well\, half a year anyway… \n  \n**Purchase of a beverage is required to order a 1/2 priced poutine.
URL:https://rihg.ca/event/12-price-poutine-2016-06-05-2016-09-04-2016-11-06-2017-06-25-2018-10-07-2019-06-02/2026-05-24/
CATEGORIES:Hunter’s Ale House
END:VEVENT
BEGIN:VEVENT
DTSTART;TZID=America/Halifax:20260524T210000
DTEND;TZID=America/Halifax:20260524T210000
DTSTAMP:20260421T152451
CREATED:20211203T211110Z
LAST-MODIFIED:20251223T195142Z
UID:10019777-1779656400-1779656400@rihg.ca
SUMMARY:Name That Tune Trivia with Andrew Rollins
DESCRIPTION:You think you know your music? Think again! Andrew will put your musical knowledge to the test! \nWe will be using Hunter’s “wooden nickel” drink tokens for beer questions. These can be redeemed for a domestic bottled beer\, well shot\, or non-alcoholic beverage\, when won or at any future time! \nWe look forward to seeing you on Sunday night!!!
URL:https://rihg.ca/event/name-that-tune-trivia-with-andrew-rollins-2/2026-05-24/
CATEGORIES:Hunter’s Ale House
END:VEVENT
BEGIN:VEVENT
DTSTART;TZID=America/Halifax:20260525T140000
DTEND;TZID=America/Halifax:20260525T160000
DTSTAMP:20260421T152451
CREATED:20200603T190545Z
LAST-MODIFIED:20251224T162430Z
UID:10020412-1779717600-1779724800@rihg.ca
SUMMARY:Half-Priced Mussels
DESCRIPTION:From 2 until 4 p.m. every day of the week\, our succulent PEI mussels are 50% of the price but still 100% of the flavour! \nYour choice of: \n\nWhite wine & garlic\nCreamy pancetta\nSpicy arribiata\nSpinach & goat cheese
URL:https://rihg.ca/event/half-priced-mussels-2020-10-04/2026-05-25/
CATEGORIES:John Brown Grille
END:VEVENT
BEGIN:VEVENT
DTSTART;TZID=America/Halifax:20260525T200000
DTEND;TZID=America/Halifax:20260525T220000
DTSTAMP:20260421T152451
CREATED:20260416T161854Z
LAST-MODIFIED:20260416T161916Z
UID:10021247-1779739200-1779746400@rihg.ca
SUMMARY:Half Priced Apps
DESCRIPTION:Select appetizers available for 50% off. \nLots of tasty appetizers to choose from: https://johnbrowngrille.com/appetizers/ \nPurchase of a beverage required. Dine-in only.
URL:https://rihg.ca/event/half-priced-apps-3/2026-05-25/
CATEGORIES:John Brown Grille
END:VEVENT
BEGIN:VEVENT
DTSTART;TZID=America/Halifax:20260525T210000
DTEND;TZID=America/Halifax:20260525T210000
DTSTAMP:20260421T152451
CREATED:20181126T213257Z
LAST-MODIFIED:20251223T192532Z
UID:10019267-1779742800-1779742800@rihg.ca
SUMMARY:1/2 Priced Nachos
DESCRIPTION:Check out our variety of nachos: \nIt would take a few months to try a new one every week… \nCHALLENGE ACCEPTED! \n**Must purchase a beverage to order 1/2 priced nachos
URL:https://rihg.ca/event/1-2-priced-nachos-2019-06-03/2026-05-25/
CATEGORIES:Hunter’s Ale House
END:VEVENT
BEGIN:VEVENT
DTSTART;TZID=America/Halifax:20260525T220000
DTEND;TZID=America/Halifax:20260525T220000
DTSTAMP:20260421T152451
CREATED:20250404T165601Z
LAST-MODIFIED:20251223T192613Z
UID:10018227-1779746400-1779746400@rihg.ca
SUMMARY:Open Mic with Travis
DESCRIPTION:Monday Open Mic is BACK!!!!
URL:https://rihg.ca/event/open-mic-with-travis/2026-05-25/
CATEGORIES:Hunter’s Ale House
END:VEVENT
BEGIN:VEVENT
DTSTART;TZID=America/Halifax:20260526T140000
DTEND;TZID=America/Halifax:20260526T160000
DTSTAMP:20260421T152451
CREATED:20200603T190545Z
LAST-MODIFIED:20251224T162430Z
UID:10020413-1779804000-1779811200@rihg.ca
SUMMARY:Half-Priced Mussels
DESCRIPTION:From 2 until 4 p.m. every day of the week\, our succulent PEI mussels are 50% of the price but still 100% of the flavour! \nYour choice of: \n\nWhite wine & garlic\nCreamy pancetta\nSpicy arribiata\nSpinach & goat cheese
URL:https://rihg.ca/event/half-priced-mussels-2020-10-04/2026-05-26/
CATEGORIES:John Brown Grille
END:VEVENT
BEGIN:VEVENT
DTSTART;TZID=America/Halifax:20260526T160000
DTEND;TZID=America/Halifax:20260526T160000
DTSTAMP:20260421T152451
CREATED:20250523T165703Z
LAST-MODIFIED:20251223T195521Z
UID:10019881-1779811200-1779811200@rihg.ca
SUMMARY:$3 Taco Tuesday
DESCRIPTION:It’s BA-ACK!!! Charlottetown’s favourite Tuesday night special: Tasty taco beef with lettuce\, tomato\, and grated cheese\, drizzled with crema fresca\, and nestled in your choice of soft or hard shell taco (or both!) \n**Special requires the purchase of a beverage \n**Dine-in only.
URL:https://rihg.ca/event/taco-tuesday-2/2026-05-26/
CATEGORIES:The Factory
END:VEVENT
BEGIN:VEVENT
DTSTART;TZID=America/Halifax:20260526T200000
DTEND;TZID=America/Halifax:20260526T200000
DTSTAMP:20260421T152451
CREATED:20200602T213319Z
LAST-MODIFIED:20251223T195643Z
UID:10019933-1779825600-1779825600@rihg.ca
SUMMARY:75¢ Wing Night
DESCRIPTION:We can’t let our neighbours have all the fun! \nCome on in and enjoy all the 75¢ breaded wings your tummy can handle! \nBesides our regular wing sauces\, we’ve teamed up with Maritime Madness so you have LOTS of HOTS to choose from! \nShots of Canadian Club for only $3.50 for those 19 and over… Photo identification required upon request. \n**Purchase of a beverage required for each order of 20 wings. \n**Eat-in only
URL:https://rihg.ca/event/50%c2%a2-wing-night-2/2026-05-26/
CATEGORIES:The Factory
END:VEVENT
BEGIN:VEVENT
DTSTART;TZID=America/Halifax:20260526T200000
DTEND;TZID=America/Halifax:20260526T220000
DTSTAMP:20260421T152451
CREATED:20260416T161854Z
LAST-MODIFIED:20260416T161916Z
UID:10021248-1779825600-1779832800@rihg.ca
SUMMARY:Half Priced Apps
DESCRIPTION:Select appetizers available for 50% off. \nLots of tasty appetizers to choose from: https://johnbrowngrille.com/appetizers/ \nPurchase of a beverage required. Dine-in only.
URL:https://rihg.ca/event/half-priced-apps-3/2026-05-26/
CATEGORIES:John Brown Grille
END:VEVENT
BEGIN:VEVENT
DTSTART;TZID=America/Halifax:20260526T210000
DTEND;TZID=America/Halifax:20260526T210000
DTSTAMP:20260421T152451
CREATED:20200602T212947Z
LAST-MODIFIED:20251223T192731Z
UID:10019336-1779829200-1779829200@rihg.ca
SUMMARY:75¢ Wing Night
DESCRIPTION:Come on in and enjoy all the 75¢ breaded wings your tummy can handle! Your choice of bone-in or boneless. \nShots of Canadian Club for only $3.50 for those 19 and over… Photo identification required upon request. \n**Purchase of a beverage required for each order of 20 wings. \n**Eat-in only
URL:https://rihg.ca/event/75%c2%a2-wing-night-2021-12-28/2026-05-26/
CATEGORIES:Hunter’s Ale House
END:VEVENT
BEGIN:VEVENT
DTSTART;TZID=America/Halifax:20260527T140000
DTEND;TZID=America/Halifax:20260527T160000
DTSTAMP:20260421T152451
CREATED:20200603T190545Z
LAST-MODIFIED:20251224T162430Z
UID:10020414-1779890400-1779897600@rihg.ca
SUMMARY:Half-Priced Mussels
DESCRIPTION:From 2 until 4 p.m. every day of the week\, our succulent PEI mussels are 50% of the price but still 100% of the flavour! \nYour choice of: \n\nWhite wine & garlic\nCreamy pancetta\nSpicy arribiata\nSpinach & goat cheese
URL:https://rihg.ca/event/half-priced-mussels-2020-10-04/2026-05-27/
CATEGORIES:John Brown Grille
END:VEVENT
BEGIN:VEVENT
DTSTART;TZID=America/Halifax:20260527T160000
DTEND;TZID=America/Halifax:20260527T160000
DTSTAMP:20260421T152451
CREATED:20250523T170017Z
LAST-MODIFIED:20251224T165628Z
UID:10019985-1779897600-1779897600@rihg.ca
SUMMARY:Half-Priced Donairs
DESCRIPTION:Enjoy our amazing maritime style donair for half-price. \nMade with the best donair sauce in town. (Humble brag!) \nSpecial requires the purchase of a beverage. \nDine-in only every Wednesday.
URL:https://rihg.ca/event/half-priced-donairs-2/2026-05-27/
CATEGORIES:The Factory
END:VEVENT
BEGIN:VEVENT
DTSTART;TZID=America/Halifax:20260527T200000
DTEND;TZID=America/Halifax:20260527T200000
DTSTAMP:20260421T152451
CREATED:20220707T145443Z
LAST-MODIFIED:20251223T192918Z
UID:10019388-1779912000-1779912000@rihg.ca
SUMMARY:$13.50 Pitchers + 1/2 Priced Apps = Wicked Wednesday
DESCRIPTION:Lookin’ for something to do this Hump? Kick back with some Moosehead draught & grab some Half Priced Apps.\nTrust me… they don’t call ’em Wicked Wednesday’s for nothin! \n**$13.50 Labatt pitcher consists of choice of Budweiser\, Bud Light\, or Alexander Keith IPA. \n**1/2 priced appetizer offer excludes Game Day Platter and requires the purchase of a beverage.
URL:https://rihg.ca/event/10-99-pitchers-1-2-priced-apps-wicked-wednesday/2026-05-27/
CATEGORIES:The Factory
END:VEVENT
BEGIN:VEVENT
DTSTART;TZID=America/Halifax:20260527T200000
DTEND;TZID=America/Halifax:20260527T220000
DTSTAMP:20260421T152451
CREATED:20260416T161854Z
LAST-MODIFIED:20260416T161916Z
UID:10021249-1779912000-1779919200@rihg.ca
SUMMARY:Half Priced Apps
DESCRIPTION:Select appetizers available for 50% off. \nLots of tasty appetizers to choose from: https://johnbrowngrille.com/appetizers/ \nPurchase of a beverage required. Dine-in only.
URL:https://rihg.ca/event/half-priced-apps-3/2026-05-27/
CATEGORIES:John Brown Grille
END:VEVENT
BEGIN:VEVENT
DTSTART;TZID=America/Halifax:20260527T210000
DTEND;TZID=America/Halifax:20260527T210000
DTSTAMP:20260421T152451
CREATED:20181126T221709Z
LAST-MODIFIED:20251223T195308Z
UID:10019829-1779915600-1779915600@rihg.ca
SUMMARY:$13.50 Pitchers + 1/2 Priced Apps = Wicked Wednesday
DESCRIPTION:Lookin’ for something to do this Hump? Kick back with some Labatt draught & grab some Half Priced Apps.\nTrust me… they don’t call ’em Wicked Wednesday’s for nothin! \n**$13.50 Labatt pitcher consists of choice of Budweiser\, Bud Light\, or Alexander Keith. \n**1/2 priced appetizer offer excludes Nachos or Gang Platter and requires the purchase of a beverage.
URL:https://rihg.ca/event/13-50-pitchers-1-2-priced-apps-wicked-wednesday-2019-06-05/2026-05-27/
CATEGORIES:Hunter’s Ale House
END:VEVENT
BEGIN:VEVENT
DTSTART;TZID=America/Halifax:20260528T140000
DTEND;TZID=America/Halifax:20260528T160000
DTSTAMP:20260421T152451
CREATED:20200603T190545Z
LAST-MODIFIED:20251224T162430Z
UID:10020415-1779976800-1779984000@rihg.ca
SUMMARY:Half-Priced Mussels
DESCRIPTION:From 2 until 4 p.m. every day of the week\, our succulent PEI mussels are 50% of the price but still 100% of the flavour! \nYour choice of: \n\nWhite wine & garlic\nCreamy pancetta\nSpicy arribiata\nSpinach & goat cheese
URL:https://rihg.ca/event/half-priced-mussels-2020-10-04/2026-05-28/
CATEGORIES:John Brown Grille
END:VEVENT
BEGIN:VEVENT
DTSTART;TZID=America/Halifax:20260528T190000
DTEND;TZID=America/Halifax:20260528T190000
DTSTAMP:20260421T152451
CREATED:20251021T194915Z
LAST-MODIFIED:20251223T193742Z
UID:10019470-1779994800-1779994800@rihg.ca
SUMMARY:Darcy's Entertainment Trivia
DESCRIPTION:
URL:https://rihg.ca/event/darcys-entertainment-trivia-2/2026-05-28/
CATEGORIES:The Factory
END:VEVENT
BEGIN:VEVENT
DTSTART;TZID=America/Halifax:20260528T200000
DTEND;TZID=America/Halifax:20260528T220000
DTSTAMP:20260421T152451
CREATED:20260416T161854Z
LAST-MODIFIED:20260416T161916Z
UID:10021250-1779998400-1780005600@rihg.ca
SUMMARY:Half Priced Apps
DESCRIPTION:Select appetizers available for 50% off. \nLots of tasty appetizers to choose from: https://johnbrowngrille.com/appetizers/ \nPurchase of a beverage required. Dine-in only.
URL:https://rihg.ca/event/half-priced-apps-3/2026-05-28/
CATEGORIES:John Brown Grille
END:VEVENT
BEGIN:VEVENT
DTSTART;TZID=America/Halifax:20260528T210000
DTEND;TZID=America/Halifax:20260528T210000
DTSTAMP:20260421T152451
CREATED:20200602T211925Z
LAST-MODIFIED:20251223T194603Z
UID:10019521-1780002000-1780002000@rihg.ca
SUMMARY:Entertainment Trivia with Darcy Campbell
DESCRIPTION:Wanna test your knowledge with our entertainment trivia night? There is high demand for seats for Charlottetown’s most popular Thursday night trivia so get here early to get a seat! \nThere are prizes for the top three teams\, plus tons of “wooden nickel” beer questions so make sure you bring some quarters along to play those as well. Redeem your Hunter’s wooden nickel for a domestic bottle beer or well shot\, or keep it as a souvenir!
URL:https://rihg.ca/event/entertainment-trivia-with-darcy-campbell-2/2026-05-28/
CATEGORIES:Hunter’s Ale House
END:VEVENT
BEGIN:VEVENT
DTSTART;TZID=America/Halifax:20260528T210000
DTEND;TZID=America/Halifax:20260528T210000
DTSTAMP:20260421T152451
CREATED:20201001T213045Z
LAST-MODIFIED:20251223T194723Z
UID:10019572-1780002000-1780002000@rihg.ca
SUMMARY:1/2 Priced Phillies
DESCRIPTION:Just in time for Thursday Night Entertainment Trivia\, we are offering every one of our massive Philly sandwiches for HALF-PRICE! \nThis offer does not include a side. But you can add one. But you probably won’t need to! \n*Dine-in only with beverage purchase required.
URL:https://rihg.ca/event/1-2-priced-phillies/2026-05-28/
CATEGORIES:Hunter’s Ale House
END:VEVENT
BEGIN:VEVENT
DTSTART;TZID=America/Halifax:20260528T220000
DTEND;TZID=America/Halifax:20260528T220000
DTSTAMP:20260421T152451
CREATED:20240527T154901Z
LAST-MODIFIED:20251224T165657Z
UID:10020039-1780005600-1780005600@rihg.ca
SUMMARY:Karaoke with Jack!
DESCRIPTION:Life is always interesting with Jack Day as our karaoke host. And we wouldn’t have it any other way! \nChannel your inner rockstar and take the stage by storm every Thursday night. \nSo many songs\, so little time…
URL:https://rihg.ca/event/karaoke-with-jack/2026-05-28/
CATEGORIES:The Factory
END:VEVENT
BEGIN:VEVENT
DTSTART;TZID=America/Halifax:20260528T230000
DTEND;TZID=America/Halifax:20260528T230000
DTSTAMP:20260421T152451
CREATED:20260414T191657Z
LAST-MODIFIED:20260414T191657Z
UID:10020833-1780009200-1780009200@rihg.ca
SUMMARY:Brad & Isaac
DESCRIPTION:
URL:https://rihg.ca/event/brad-isaac-8/
CATEGORIES:Hunter’s Ale House
END:VEVENT
BEGIN:VEVENT
DTSTART;TZID=America/Halifax:20260529T140000
DTEND;TZID=America/Halifax:20260529T160000
DTSTAMP:20260421T152451
CREATED:20200603T190545Z
LAST-MODIFIED:20251224T162430Z
UID:10020416-1780063200-1780070400@rihg.ca
SUMMARY:Half-Priced Mussels
DESCRIPTION:From 2 until 4 p.m. every day of the week\, our succulent PEI mussels are 50% of the price but still 100% of the flavour! \nYour choice of: \n\nWhite wine & garlic\nCreamy pancetta\nSpicy arribiata\nSpinach & goat cheese
URL:https://rihg.ca/event/half-priced-mussels-2020-10-04/2026-05-29/
CATEGORIES:John Brown Grille
END:VEVENT
BEGIN:VEVENT
DTSTART;TZID=America/Halifax:20260529T200000
DTEND;TZID=America/Halifax:20260529T220000
DTSTAMP:20260421T152451
CREATED:20260416T161854Z
LAST-MODIFIED:20260416T161916Z
UID:10021251-1780084800-1780092000@rihg.ca
SUMMARY:Half Priced Apps
DESCRIPTION:Select appetizers available for 50% off. \nLots of tasty appetizers to choose from: https://johnbrowngrille.com/appetizers/ \nPurchase of a beverage required. Dine-in only.
URL:https://rihg.ca/event/half-priced-apps-3/2026-05-29/
CATEGORIES:John Brown Grille
END:VEVENT
END:VCALENDAR