BEGIN:VCALENDAR
VERSION:2.0
PRODID:-//Red Island Hospitality Group Inc. - ECPv6.15.20//NONSGML v1.0//EN
CALSCALE:GREGORIAN
METHOD:PUBLISH
X-ORIGINAL-URL:https://rihg.ca
X-WR-CALDESC:Events for Red Island Hospitality Group Inc.
REFRESH-INTERVAL;VALUE=DURATION:PT1H
X-Robots-Tag:noindex
X-PUBLISHED-TTL:PT1H
BEGIN:VTIMEZONE
TZID:America/Halifax
BEGIN:DAYLIGHT
TZOFFSETFROM:-0400
TZOFFSETTO:-0300
TZNAME:ADT
DTSTART:20210314T060000
END:DAYLIGHT
BEGIN:STANDARD
TZOFFSETFROM:-0300
TZOFFSETTO:-0400
TZNAME:AST
DTSTART:20211107T050000
END:STANDARD
BEGIN:DAYLIGHT
TZOFFSETFROM:-0400
TZOFFSETTO:-0300
TZNAME:ADT
DTSTART:20220313T060000
END:DAYLIGHT
BEGIN:STANDARD
TZOFFSETFROM:-0300
TZOFFSETTO:-0400
TZNAME:AST
DTSTART:20221106T050000
END:STANDARD
BEGIN:DAYLIGHT
TZOFFSETFROM:-0400
TZOFFSETTO:-0300
TZNAME:ADT
DTSTART:20230312T060000
END:DAYLIGHT
BEGIN:STANDARD
TZOFFSETFROM:-0300
TZOFFSETTO:-0400
TZNAME:AST
DTSTART:20231105T050000
END:STANDARD
END:VTIMEZONE
BEGIN:VEVENT
DTSTART;TZID=America/Halifax:20220715T140000
DTEND;TZID=America/Halifax:20220715T160000
DTSTAMP:20260424T132851
CREATED:20200603T190545Z
LAST-MODIFIED:20251224T162430Z
UID:10010263-1657893600-1657900800@rihg.ca
SUMMARY:Half-Priced Mussels
DESCRIPTION:From 2 until 4 p.m. every day of the week\, our succulent PEI mussels are 50% of the price but still 100% of the flavour! \nYour choice of: \n\nWhite wine & garlic\nCreamy pancetta\nSpicy arribiata\nSpinach & goat cheese
URL:https://rihg.ca/event/half-priced-mussels-2020-10-04/2022-07-15/
CATEGORIES:John Brown Grille
END:VEVENT
BEGIN:VEVENT
DTSTART;TZID=America/Halifax:20220715T180000
DTEND;TZID=America/Halifax:20220715T220000
DTSTAMP:20260424T132851
CREATED:20220601T160212Z
LAST-MODIFIED:20220603T172016Z
UID:10006011-1657908000-1657922400@rihg.ca
SUMMARY:Kim Albert Band
DESCRIPTION:
URL:https://rihg.ca/event/kim-albert-band-2/2022-07-15/
CATEGORIES:Charlottetown Beer Garden
END:VEVENT
BEGIN:VEVENT
DTSTART;TZID=America/Halifax:20220715T210000
DTEND;TZID=America/Halifax:20220715T210000
DTSTAMP:20260424T132851
CREATED:20141210T153446Z
LAST-MODIFIED:20251223T194853Z
UID:10005982-1657918800-1657918800@rihg.ca
SUMMARY:Pitcher + Nachos = $27.99
DESCRIPTION:You get a pitcher & an order of nachos for only $27.99? Sounds like the combination of a good time to us! \n  \n**Special includes choice of a domestic Labatt product and an order of regular Hunter’s nachos.
URL:https://rihg.ca/event/pitcher-nachos-24-99-2015-09-04-2016-05-06-2016-06-03-2016-09-02-2016-11-04-2017-06-23-2018-10-05-2019-06-07/2022-07-15/
CATEGORIES:Hunter’s Ale House
END:VEVENT
BEGIN:VEVENT
DTSTART;TZID=America/Halifax:20220715T230000
DTEND;TZID=America/Halifax:20220715T230000
DTSTAMP:20260424T132851
CREATED:20220506T181636Z
LAST-MODIFIED:20230621T192347Z
UID:10011751-1657926000-1657926000@rihg.ca
SUMMARY:2 DJs & 2 Dance Floors
DESCRIPTION:Check out two levels of fun with a rotating schedule of DJs playing today’s hottest new country and Top 40 hits on the main floor and DJ METHoD’s Dance Party in the lower level.
URL:https://rihg.ca/event/2-djs-2-dance-floors/2022-07-15/
CATEGORIES:The Factory
END:VEVENT
BEGIN:VEVENT
DTSTART;TZID=America/Halifax:20220716T113000
DTEND;TZID=America/Halifax:20220716T170000
DTSTAMP:20260424T132851
CREATED:20211122T171532Z
LAST-MODIFIED:20230418T192346Z
UID:10009573-1657971000-1657990800@rihg.ca
SUMMARY:$5 Caesars
DESCRIPTION:Start your Saturday off right with a tasty John Brown Bloody Caesar! \nSelect your level of spiciness and you’re all set.
URL:https://rihg.ca/event/5-caesars/2022-07-16/
END:VEVENT
BEGIN:VEVENT
DTSTART;TZID=America/Halifax:20220716T140000
DTEND;TZID=America/Halifax:20220716T160000
DTSTAMP:20260424T132851
CREATED:20200603T190545Z
LAST-MODIFIED:20251224T162430Z
UID:10010264-1657980000-1657987200@rihg.ca
SUMMARY:Half-Priced Mussels
DESCRIPTION:From 2 until 4 p.m. every day of the week\, our succulent PEI mussels are 50% of the price but still 100% of the flavour! \nYour choice of: \n\nWhite wine & garlic\nCreamy pancetta\nSpicy arribiata\nSpinach & goat cheese
URL:https://rihg.ca/event/half-priced-mussels-2020-10-04/2022-07-16/
CATEGORIES:John Brown Grille
END:VEVENT
BEGIN:VEVENT
DTSTART;TZID=America/Halifax:20220716T180000
DTEND;TZID=America/Halifax:20220716T220000
DTSTAMP:20260424T132851
CREATED:20220603T204416Z
LAST-MODIFIED:20220603T204416Z
UID:10011639-1657994400-1658008800@rihg.ca
SUMMARY:Lu & The Crew
DESCRIPTION:
URL:https://rihg.ca/event/lu-the-crew/2022-07-16/
CATEGORIES:Charlottetown Beer Garden
END:VEVENT
BEGIN:VEVENT
DTSTART;TZID=America/Halifax:20220716T210000
DTEND;TZID=America/Halifax:20220716T210000
DTSTAMP:20260424T132851
CREATED:20160505T164046Z
LAST-MODIFIED:20251223T194947Z
UID:10006805-1658005200-1658005200@rihg.ca
SUMMARY:Pitcher & Wings = $27.99
DESCRIPTION:Pick a pitcher and choose your sauce for only $27.99. We’ll do the rest! \n  \n**Special includes choice of a domestic Molson pitcher and 1 lb wings.
URL:https://rihg.ca/event/pitcher-wing-special-2016-06-04-2016-09-03-2016-11-05-2017-06-24-2018-10-06-2019-06-01/2022-07-16/
CATEGORIES:Hunter’s Ale House
END:VEVENT
BEGIN:VEVENT
DTSTART;TZID=America/Halifax:20220716T220000
DTEND;TZID=America/Halifax:20220716T220000
DTSTAMP:20260424T132851
CREATED:20220707T152700Z
LAST-MODIFIED:20220711T142551Z
UID:10011636-1658008800-1658008800@rihg.ca
SUMMARY:Magnolia & Heather
DESCRIPTION:Come rock at Hunter’s Corner with two of the island’s freshest rock outfits! \nMagnolia:\nAlways ready to rock\, this four-piece hard rock/alternative band is from Charlottetown. \nHeather:\nA floral infusion of rousing rock ‘n’ roll\, Heather is a five-piece rock band hailing from Prince Edward Island’s beautiful north shore. \n$10 at the door\n19+ ID required
URL:https://rihg.ca/event/magnolia-and-heather/
CATEGORIES:Hunter’s Ale House
END:VEVENT
BEGIN:VEVENT
DTSTART;TZID=America/Halifax:20220716T230000
DTEND;TZID=America/Halifax:20220716T230000
DTSTAMP:20260424T132851
CREATED:20220506T181636Z
LAST-MODIFIED:20230621T192347Z
UID:10011752-1658012400-1658012400@rihg.ca
SUMMARY:2 DJs & 2 Dance Floors
DESCRIPTION:Check out two levels of fun with a rotating schedule of DJs playing today’s hottest new country and Top 40 hits on the main floor and DJ METHoD’s Dance Party in the lower level.
URL:https://rihg.ca/event/2-djs-2-dance-floors/2022-07-16/
CATEGORIES:The Factory
END:VEVENT
BEGIN:VEVENT
DTSTART;TZID=America/Halifax:20220717T140000
DTEND;TZID=America/Halifax:20220717T140000
DTSTAMP:20260424T132851
CREATED:20220225T194227Z
LAST-MODIFIED:20220225T194227Z
UID:10011678-1658066400-1658066400@rihg.ca
SUMMARY:The BIG Game is Always ON!
DESCRIPTION:One thing you can always count on: If there is a BIG sports game happening\, it’s on the big screen here at the Factory Downtown! Besides the big screen\, there are numerous other screens around the room AND the surround sound is turned way UP! \nSo collect you friends\, throw on your team’s jersey and come cheer them on! There’s always game day food and drink specials in play too. \n**Blackout/pay-per-view games exempt.
URL:https://rihg.ca/event/the-big-game-is-always-on/2022-07-17/
CATEGORIES:The Factory
END:VEVENT
BEGIN:VEVENT
DTSTART;TZID=America/Halifax:20220717T140000
DTEND;TZID=America/Halifax:20220717T160000
DTSTAMP:20260424T132851
CREATED:20200603T190545Z
LAST-MODIFIED:20251224T162430Z
UID:10010265-1658066400-1658073600@rihg.ca
SUMMARY:Half-Priced Mussels
DESCRIPTION:From 2 until 4 p.m. every day of the week\, our succulent PEI mussels are 50% of the price but still 100% of the flavour! \nYour choice of: \n\nWhite wine & garlic\nCreamy pancetta\nSpicy arribiata\nSpinach & goat cheese
URL:https://rihg.ca/event/half-priced-mussels-2020-10-04/2022-07-17/
CATEGORIES:John Brown Grille
END:VEVENT
BEGIN:VEVENT
DTSTART;TZID=America/Halifax:20220717T180000
DTEND;TZID=America/Halifax:20220717T220000
DTSTAMP:20260424T132851
CREATED:20220603T171848Z
LAST-MODIFIED:20220603T171848Z
UID:10001863-1658080800-1658095200@rihg.ca
SUMMARY:Brad & Griffen
DESCRIPTION:
URL:https://rihg.ca/event/brad-griffen-5/2022-07-17/
CATEGORIES:Charlottetown Beer Garden
END:VEVENT
BEGIN:VEVENT
DTSTART;TZID=America/Halifax:20220717T210000
DTEND;TZID=America/Halifax:20220717T210000
DTSTAMP:20260424T132851
CREATED:20160505T172902Z
LAST-MODIFIED:20251223T195103Z
UID:10007473-1658091600-1658091600@rihg.ca
SUMMARY:1/2 Priced Poutine
DESCRIPTION:Have your seen our Poutinerie? You could pretty much have a new one every week for a year! Well\, half a year anyway… \n  \n**Purchase of a beverage is required to order a 1/2 priced poutine.
URL:https://rihg.ca/event/12-price-poutine-2016-06-05-2016-09-04-2016-11-06-2017-06-25-2018-10-07-2019-06-02/2022-07-17/
CATEGORIES:Hunter’s Ale House
END:VEVENT
BEGIN:VEVENT
DTSTART;TZID=America/Halifax:20220717T210000
DTEND;TZID=America/Halifax:20220717T210000
DTSTAMP:20260424T132851
CREATED:20211203T211110Z
LAST-MODIFIED:20251223T195142Z
UID:10013976-1658091600-1658091600@rihg.ca
SUMMARY:Name That Tune Trivia with Andrew Rollins
DESCRIPTION:You think you know your music? Think again! Andrew will put your musical knowledge to the test! \nWe will be using Hunter’s “wooden nickel” drink tokens for beer questions. These can be redeemed for a domestic bottled beer\, well shot\, or non-alcoholic beverage\, when won or at any future time! \nWe look forward to seeing you on Sunday night!!!
URL:https://rihg.ca/event/name-that-tune-trivia-with-andrew-rollins-2/2022-07-17/
CATEGORIES:Hunter’s Ale House
END:VEVENT
BEGIN:VEVENT
DTSTART;TZID=America/Halifax:20220717T230000
DTEND;TZID=America/Halifax:20220717T230000
DTSTAMP:20260424T132851
CREATED:20220711T182641Z
LAST-MODIFIED:20220711T182641Z
UID:10011281-1658098800-1658098800@rihg.ca
SUMMARY:Sunday Funday with DJ METHoD
DESCRIPTION:
URL:https://rihg.ca/event/sunday-funday-with-dj-method/2022-07-17/
CATEGORIES:Hunter’s Ale House
END:VEVENT
BEGIN:VEVENT
DTSTART;TZID=America/Halifax:20220718T113000
DTEND;TZID=America/Halifax:20220718T113000
DTSTAMP:20260424T132851
CREATED:20200923T163847Z
LAST-MODIFIED:20220711T143659Z
UID:10011149-1658143800-1658143800@rihg.ca
SUMMARY:Staff Priced Pints
DESCRIPTION:Monday is like the service industry’s Saturday. \nSo all day every Monday\, save a few quid on a few staff pints. It’s win-win!
URL:https://rihg.ca/event/staff-priced-beer-2021-09-03/2022-07-18/
END:VEVENT
BEGIN:VEVENT
DTSTART;TZID=America/Halifax:20220718T140000
DTEND;TZID=America/Halifax:20220718T160000
DTSTAMP:20260424T132851
CREATED:20200603T190545Z
LAST-MODIFIED:20251224T162430Z
UID:10010266-1658152800-1658160000@rihg.ca
SUMMARY:Half-Priced Mussels
DESCRIPTION:From 2 until 4 p.m. every day of the week\, our succulent PEI mussels are 50% of the price but still 100% of the flavour! \nYour choice of: \n\nWhite wine & garlic\nCreamy pancetta\nSpicy arribiata\nSpinach & goat cheese
URL:https://rihg.ca/event/half-priced-mussels-2020-10-04/2022-07-18/
CATEGORIES:John Brown Grille
END:VEVENT
BEGIN:VEVENT
DTSTART;TZID=America/Halifax:20220718T160000
DTEND;TZID=America/Halifax:20220718T160000
DTSTAMP:20260424T132851
CREATED:20180911T190615Z
LAST-MODIFIED:20220225T193303Z
UID:10002863-1658160000-1658160000@rihg.ca
SUMMARY:Pizza & Wings
DESCRIPTION:Order any medium classic (or your choice of 3 classic toppings) pizza with 8 breaded chicken wings for only $19.99 \nUpgrade to a large pizza for only $5 more! \nDine-in or take-out\, Tuesday through Saturday. Sorry\, we’re closed on Sunday and Monday!
URL:https://rihg.ca/event/anyday-anytime-special/2022-07-18/
CATEGORIES:The Factory
END:VEVENT
BEGIN:VEVENT
DTSTART;TZID=America/Halifax:20220718T160000
DTEND;TZID=America/Halifax:20220718T160000
DTSTAMP:20260424T132851
CREATED:20190605T190205Z
LAST-MODIFIED:20220225T193455Z
UID:10003596-1658160000-1658160000@rihg.ca
SUMMARY:Pizza & Garlic Fingers
DESCRIPTION:Order a medium classic or signature pizza and receive a FREE small garlic fingers for only $24.99. \nDine-in or take-out. Available Tuesday through Saturday. Sorry\, we’re closed on Sunday and Monday!
URL:https://rihg.ca/event/medium-pizza-garlic-fingers-24-99/2022-07-18/
CATEGORIES:The Factory
END:VEVENT
BEGIN:VEVENT
DTSTART;TZID=America/Halifax:20220718T180000
DTEND;TZID=America/Halifax:20220718T220000
DTSTAMP:20260424T132851
CREATED:20220603T172214Z
LAST-MODIFIED:20220603T172214Z
UID:10007499-1658167200-1658181600@rihg.ca
SUMMARY:Saul Good Duo
DESCRIPTION:
URL:https://rihg.ca/event/saul-good-duo-13/2022-07-18/
CATEGORIES:Charlottetown Beer Garden
END:VEVENT
BEGIN:VEVENT
DTSTART;TZID=America/Halifax:20220718T210000
DTEND;TZID=America/Halifax:20220718T210000
DTSTAMP:20260424T132851
CREATED:20181126T213257Z
LAST-MODIFIED:20251223T192532Z
UID:10009113-1658178000-1658178000@rihg.ca
SUMMARY:1/2 Priced Nachos
DESCRIPTION:Check out our variety of nachos: \nIt would take a few months to try a new one every week… \nCHALLENGE ACCEPTED! \n**Must purchase a beverage to order 1/2 priced nachos
URL:https://rihg.ca/event/1-2-priced-nachos-2019-06-03/2022-07-18/
CATEGORIES:Hunter’s Ale House
END:VEVENT
BEGIN:VEVENT
DTSTART;TZID=America/Halifax:20220718T210000
DTEND;TZID=America/Halifax:20220718T210000
DTSTAMP:20260424T132851
CREATED:20210602T213821Z
LAST-MODIFIED:20220711T145815Z
UID:10001322-1658178000-1658178000@rihg.ca
SUMMARY:Second Cousins
DESCRIPTION:Jacob Hemphill and Isaac King have played music together for a while here at Hunter’s. \nDuring this time\, they discovered they are related. (It’s the island way!) \nAnything can happen on a Monday night at Hunter’s. Plus it’s always entertaining. See you tonight!
URL:https://rihg.ca/event/jacob-friends-2021-08-30/2022-07-18/
CATEGORIES:Hunter’s Ale House
ATTACH;FMTTYPE=image/jpeg:https://rihg.ca/wp-content/uploads/2021/06/Jacob-Hemphill.jpg
END:VEVENT
BEGIN:VEVENT
DTSTART;TZID=America/Halifax:20220719T113000
DTEND;TZID=America/Halifax:20220719T113000
DTSTAMP:20260424T132851
CREATED:20211119T191144Z
LAST-MODIFIED:20220711T144506Z
UID:10004222-1658230200-1658230200@rihg.ca
SUMMARY:$5 Wine
DESCRIPTION:Enjoy $5 glasses of our house or select brand wines all day long!
URL:https://rihg.ca/event/5-wine-2/2022-07-19/
END:VEVENT
BEGIN:VEVENT
DTSTART;TZID=America/Halifax:20220719T140000
DTEND;TZID=America/Halifax:20220719T160000
DTSTAMP:20260424T132851
CREATED:20200603T190545Z
LAST-MODIFIED:20251224T162430Z
UID:10010267-1658239200-1658246400@rihg.ca
SUMMARY:Half-Priced Mussels
DESCRIPTION:From 2 until 4 p.m. every day of the week\, our succulent PEI mussels are 50% of the price but still 100% of the flavour! \nYour choice of: \n\nWhite wine & garlic\nCreamy pancetta\nSpicy arribiata\nSpinach & goat cheese
URL:https://rihg.ca/event/half-priced-mussels-2020-10-04/2022-07-19/
CATEGORIES:John Brown Grille
END:VEVENT
BEGIN:VEVENT
DTSTART;TZID=America/Halifax:20220719T180000
DTEND;TZID=America/Halifax:20220719T220000
DTSTAMP:20260424T132851
CREATED:20220603T204054Z
LAST-MODIFIED:20220603T204054Z
UID:10001853-1658253600-1658268000@rihg.ca
SUMMARY:Taylor & Dennis
DESCRIPTION:
URL:https://rihg.ca/event/taylor-dennis/2022-07-19/
CATEGORIES:Charlottetown Beer Garden
END:VEVENT
BEGIN:VEVENT
DTSTART;TZID=America/Halifax:20220719T200000
DTEND;TZID=America/Halifax:20220719T200000
DTSTAMP:20260424T132851
CREATED:20200602T213319Z
LAST-MODIFIED:20251223T195643Z
UID:10003389-1658260800-1658260800@rihg.ca
SUMMARY:75¢ Wing Night
DESCRIPTION:We can’t let our neighbours have all the fun! \nCome on in and enjoy all the 75¢ breaded wings your tummy can handle! \nBesides our regular wing sauces\, we’ve teamed up with Maritime Madness so you have LOTS of HOTS to choose from! \nShots of Canadian Club for only $3.50 for those 19 and over… Photo identification required upon request. \n**Purchase of a beverage required for each order of 20 wings. \n**Eat-in only
URL:https://rihg.ca/event/50%c2%a2-wing-night-2/2022-07-19/
CATEGORIES:The Factory
END:VEVENT
BEGIN:VEVENT
DTSTART;TZID=America/Halifax:20220719T210000
DTEND;TZID=America/Halifax:20220719T210000
DTSTAMP:20260424T132851
CREATED:20200602T212947Z
LAST-MODIFIED:20251223T192731Z
UID:10000266-1658264400-1658264400@rihg.ca
SUMMARY:75¢ Wing Night
DESCRIPTION:Come on in and enjoy all the 75¢ breaded wings your tummy can handle! Your choice of bone-in or boneless. \nShots of Canadian Club for only $3.50 for those 19 and over… Photo identification required upon request. \n**Purchase of a beverage required for each order of 20 wings. \n**Eat-in only
URL:https://rihg.ca/event/75%c2%a2-wing-night-2021-12-28/2022-07-19/
CATEGORIES:Hunter’s Ale House
END:VEVENT
BEGIN:VEVENT
DTSTART;TZID=America/Halifax:20220719T220000
DTEND;TZID=America/Halifax:20220719T220000
DTSTAMP:20260424T132851
CREATED:20220711T171209Z
LAST-MODIFIED:20220711T171209Z
UID:10003631-1658268000-1658268000@rihg.ca
SUMMARY:Alyssa & Corey
DESCRIPTION:
URL:https://rihg.ca/event/alyssa-corey-5/
CATEGORIES:Hunter’s Ale House
END:VEVENT
BEGIN:VEVENT
DTSTART;TZID=America/Halifax:20220720T140000
DTEND;TZID=America/Halifax:20220720T160000
DTSTAMP:20260424T132851
CREATED:20200603T190545Z
LAST-MODIFIED:20251224T162430Z
UID:10010268-1658325600-1658332800@rihg.ca
SUMMARY:Half-Priced Mussels
DESCRIPTION:From 2 until 4 p.m. every day of the week\, our succulent PEI mussels are 50% of the price but still 100% of the flavour! \nYour choice of: \n\nWhite wine & garlic\nCreamy pancetta\nSpicy arribiata\nSpinach & goat cheese
URL:https://rihg.ca/event/half-priced-mussels-2020-10-04/2022-07-20/
CATEGORIES:John Brown Grille
END:VEVENT
END:VCALENDAR