BEGIN:VCALENDAR
VERSION:2.0
PRODID:-//Red Island Hospitality Group Inc. - ECPv6.15.20//NONSGML v1.0//EN
CALSCALE:GREGORIAN
METHOD:PUBLISH
X-WR-CALNAME:Red Island Hospitality Group Inc.
X-ORIGINAL-URL:https://rihg.ca
X-WR-CALDESC:Events for Red Island Hospitality Group Inc.
REFRESH-INTERVAL;VALUE=DURATION:PT1H
X-Robots-Tag:noindex
X-PUBLISHED-TTL:PT1H
BEGIN:VTIMEZONE
TZID:America/Halifax
BEGIN:DAYLIGHT
TZOFFSETFROM:-0400
TZOFFSETTO:-0300
TZNAME:ADT
DTSTART:20250309T060000
END:DAYLIGHT
BEGIN:STANDARD
TZOFFSETFROM:-0300
TZOFFSETTO:-0400
TZNAME:AST
DTSTART:20251102T050000
END:STANDARD
BEGIN:DAYLIGHT
TZOFFSETFROM:-0400
TZOFFSETTO:-0300
TZNAME:ADT
DTSTART:20260308T060000
END:DAYLIGHT
BEGIN:STANDARD
TZOFFSETFROM:-0300
TZOFFSETTO:-0400
TZNAME:AST
DTSTART:20261101T050000
END:STANDARD
BEGIN:DAYLIGHT
TZOFFSETFROM:-0400
TZOFFSETTO:-0300
TZNAME:ADT
DTSTART:20270314T060000
END:DAYLIGHT
BEGIN:STANDARD
TZOFFSETFROM:-0300
TZOFFSETTO:-0400
TZNAME:AST
DTSTART:20271107T050000
END:STANDARD
END:VTIMEZONE
BEGIN:VEVENT
DTSTART;TZID=America/Halifax:20260211T140000
DTEND;TZID=America/Halifax:20260211T160000
DTSTAMP:20260421T231956
CREATED:20200603T190545Z
LAST-MODIFIED:20251224T162430Z
UID:10020309-1770818400-1770825600@rihg.ca
SUMMARY:Half-Priced Mussels
DESCRIPTION:From 2 until 4 p.m. every day of the week\, our succulent PEI mussels are 50% of the price but still 100% of the flavour! \nYour choice of: \n\nWhite wine & garlic\nCreamy pancetta\nSpicy arribiata\nSpinach & goat cheese
URL:https://rihg.ca/event/half-priced-mussels-2020-10-04/2026-02-11/
CATEGORIES:John Brown Grille
END:VEVENT
BEGIN:VEVENT
DTSTART;TZID=America/Halifax:20260211T110000
DTEND;TZID=America/Halifax:20260211T150000
DTSTAMP:20260421T231956
CREATED:20251117T205637Z
LAST-MODIFIED:20251117T205830Z
UID:10019177-1770807600-1770822000@rihg.ca
SUMMARY:$13 Soup & Sandwich
DESCRIPTION:Enjoy our chef’s daily soup & sandwich creation. \nAvailable weekdays between 11 and 3 pm. \nPurchase of a beverage required. Dine-in only.
URL:https://rihg.ca/event/13-soup-sandwich/2026-02-11/
END:VEVENT
BEGIN:VEVENT
DTSTART;TZID=America/Halifax:20260210T210000
DTEND;TZID=America/Halifax:20260210T210000
DTSTAMP:20260421T231956
CREATED:20200602T212947Z
LAST-MODIFIED:20251223T192731Z
UID:10019321-1770757200-1770757200@rihg.ca
SUMMARY:75¢ Wing Night
DESCRIPTION:Come on in and enjoy all the 75¢ breaded wings your tummy can handle! Your choice of bone-in or boneless. \nShots of Canadian Club for only $3.50 for those 19 and over… Photo identification required upon request. \n**Purchase of a beverage required for each order of 20 wings. \n**Eat-in only
URL:https://rihg.ca/event/75%c2%a2-wing-night-2021-12-28/2026-02-10/
CATEGORIES:Hunter’s Ale House
END:VEVENT
BEGIN:VEVENT
DTSTART;TZID=America/Halifax:20260210T200000
DTEND;TZID=America/Halifax:20260210T200000
DTSTAMP:20260421T231956
CREATED:20200602T213319Z
LAST-MODIFIED:20251223T195643Z
UID:10019918-1770753600-1770753600@rihg.ca
SUMMARY:75¢ Wing Night
DESCRIPTION:We can’t let our neighbours have all the fun! \nCome on in and enjoy all the 75¢ breaded wings your tummy can handle! \nBesides our regular wing sauces\, we’ve teamed up with Maritime Madness so you have LOTS of HOTS to choose from! \nShots of Canadian Club for only $3.50 for those 19 and over… Photo identification required upon request. \n**Purchase of a beverage required for each order of 20 wings. \n**Eat-in only
URL:https://rihg.ca/event/50%c2%a2-wing-night-2/2026-02-10/
CATEGORIES:The Factory
END:VEVENT
BEGIN:VEVENT
DTSTART;TZID=America/Halifax:20260210T170000
DTEND;TZID=America/Halifax:20260210T220000
DTSTAMP:20260421T231956
CREATED:20251117T200059Z
LAST-MODIFIED:20251224T162236Z
UID:10020256-1770742800-1770760800@rihg.ca
SUMMARY:2-4-1 Wings
DESCRIPTION:Three delicious sauce options: \n\n\n\n\nlemon pepper  |  sriracha  |  herbed butter and parmesan  |  maple bourbon  |  JB’s picante\n\n\n\n\nShare some delicious JB’s wings with a friend\, or keep them all to yourself. We’re not judging! \nPurchase of a beverage required. Dine-in only.
URL:https://rihg.ca/event/2-4-1-wings-3/2026-02-10/
CATEGORIES:John Brown Grille
END:VEVENT
BEGIN:VEVENT
DTSTART;TZID=America/Halifax:20260210T160000
DTEND;TZID=America/Halifax:20260210T160000
DTSTAMP:20260421T231956
CREATED:20250523T165703Z
LAST-MODIFIED:20251223T195521Z
UID:10019866-1770739200-1770739200@rihg.ca
SUMMARY:$3 Taco Tuesday
DESCRIPTION:It’s BA-ACK!!! Charlottetown’s favourite Tuesday night special: Tasty taco beef with lettuce\, tomato\, and grated cheese\, drizzled with crema fresca\, and nestled in your choice of soft or hard shell taco (or both!) \n**Special requires the purchase of a beverage \n**Dine-in only.
URL:https://rihg.ca/event/taco-tuesday-2/2026-02-10/
CATEGORIES:The Factory
END:VEVENT
BEGIN:VEVENT
DTSTART;TZID=America/Halifax:20260210T140000
DTEND;TZID=America/Halifax:20260210T160000
DTSTAMP:20260421T231956
CREATED:20200603T190545Z
LAST-MODIFIED:20251224T162430Z
UID:10020308-1770732000-1770739200@rihg.ca
SUMMARY:Half-Priced Mussels
DESCRIPTION:From 2 until 4 p.m. every day of the week\, our succulent PEI mussels are 50% of the price but still 100% of the flavour! \nYour choice of: \n\nWhite wine & garlic\nCreamy pancetta\nSpicy arribiata\nSpinach & goat cheese
URL:https://rihg.ca/event/half-priced-mussels-2020-10-04/2026-02-10/
CATEGORIES:John Brown Grille
END:VEVENT
BEGIN:VEVENT
DTSTART;TZID=America/Halifax:20260210T110000
DTEND;TZID=America/Halifax:20260210T150000
DTSTAMP:20260421T231956
CREATED:20251117T205637Z
LAST-MODIFIED:20251117T205830Z
UID:10019176-1770721200-1770735600@rihg.ca
SUMMARY:$13 Soup & Sandwich
DESCRIPTION:Enjoy our chef’s daily soup & sandwich creation. \nAvailable weekdays between 11 and 3 pm. \nPurchase of a beverage required. Dine-in only.
URL:https://rihg.ca/event/13-soup-sandwich/2026-02-10/
END:VEVENT
BEGIN:VEVENT
DTSTART;TZID=America/Halifax:20260209T220000
DTEND;TZID=America/Halifax:20260209T220000
DTSTAMP:20260421T231956
CREATED:20250404T165601Z
LAST-MODIFIED:20251223T192613Z
UID:10018212-1770674400-1770674400@rihg.ca
SUMMARY:Open Mic with Travis
DESCRIPTION:Monday Open Mic is BACK!!!!
URL:https://rihg.ca/event/open-mic-with-travis/2026-02-09/
CATEGORIES:Hunter’s Ale House
END:VEVENT
BEGIN:VEVENT
DTSTART;TZID=America/Halifax:20260209T210000
DTEND;TZID=America/Halifax:20260209T210000
DTSTAMP:20260421T231956
CREATED:20181126T213257Z
LAST-MODIFIED:20251223T192532Z
UID:10019252-1770670800-1770670800@rihg.ca
SUMMARY:1/2 Priced Nachos
DESCRIPTION:Check out our variety of nachos: \nIt would take a few months to try a new one every week… \nCHALLENGE ACCEPTED! \n**Must purchase a beverage to order 1/2 priced nachos
URL:https://rihg.ca/event/1-2-priced-nachos-2019-06-03/2026-02-09/
CATEGORIES:Hunter’s Ale House
END:VEVENT
BEGIN:VEVENT
DTSTART;TZID=America/Halifax:20260209T170000
DTEND;TZID=America/Halifax:20260209T220000
DTSTAMP:20260421T231957
CREATED:20251117T195645Z
LAST-MODIFIED:20251117T195645Z
UID:10018961-1770656400-1770674400@rihg.ca
SUMMARY:Half Priced Apps
DESCRIPTION:Select appetizers available for 50% off. \nLots of tasty appetizers to choose from: https://johnbrowngrille.com/appetizers/ \nPurchase of a beverage required. Dine-in only.
URL:https://rihg.ca/event/half-priced-apps-2/2026-02-09/
CATEGORIES:John Brown Grille
END:VEVENT
BEGIN:VEVENT
DTSTART;TZID=America/Halifax:20260209T140000
DTEND;TZID=America/Halifax:20260209T160000
DTSTAMP:20260421T231957
CREATED:20200603T190545Z
LAST-MODIFIED:20251224T162430Z
UID:10020307-1770645600-1770652800@rihg.ca
SUMMARY:Half-Priced Mussels
DESCRIPTION:From 2 until 4 p.m. every day of the week\, our succulent PEI mussels are 50% of the price but still 100% of the flavour! \nYour choice of: \n\nWhite wine & garlic\nCreamy pancetta\nSpicy arribiata\nSpinach & goat cheese
URL:https://rihg.ca/event/half-priced-mussels-2020-10-04/2026-02-09/
CATEGORIES:John Brown Grille
END:VEVENT
BEGIN:VEVENT
DTSTART;TZID=America/Halifax:20260209T110000
DTEND;TZID=America/Halifax:20260209T150000
DTSTAMP:20260421T231957
CREATED:20251117T205637Z
LAST-MODIFIED:20251117T205830Z
UID:10019175-1770634800-1770649200@rihg.ca
SUMMARY:$13 Soup & Sandwich
DESCRIPTION:Enjoy our chef’s daily soup & sandwich creation. \nAvailable weekdays between 11 and 3 pm. \nPurchase of a beverage required. Dine-in only.
URL:https://rihg.ca/event/13-soup-sandwich/2026-02-09/
END:VEVENT
BEGIN:VEVENT
DTSTART;TZID=America/Halifax:20260208T210000
DTEND;TZID=America/Halifax:20260208T210000
DTSTAMP:20260421T231957
CREATED:20211203T211110Z
LAST-MODIFIED:20251223T195142Z
UID:10019762-1770584400-1770584400@rihg.ca
SUMMARY:Name That Tune Trivia with Andrew Rollins
DESCRIPTION:You think you know your music? Think again! Andrew will put your musical knowledge to the test! \nWe will be using Hunter’s “wooden nickel” drink tokens for beer questions. These can be redeemed for a domestic bottled beer\, well shot\, or non-alcoholic beverage\, when won or at any future time! \nWe look forward to seeing you on Sunday night!!!
URL:https://rihg.ca/event/name-that-tune-trivia-with-andrew-rollins-2/2026-02-08/
CATEGORIES:Hunter’s Ale House
END:VEVENT
BEGIN:VEVENT
DTSTART;TZID=America/Halifax:20260208T210000
DTEND;TZID=America/Halifax:20260208T210000
DTSTAMP:20260421T231957
CREATED:20160505T172902Z
LAST-MODIFIED:20251223T195103Z
UID:10019710-1770584400-1770584400@rihg.ca
SUMMARY:1/2 Priced Poutine
DESCRIPTION:Have your seen our Poutinerie? You could pretty much have a new one every week for a year! Well\, half a year anyway… \n  \n**Purchase of a beverage is required to order a 1/2 priced poutine.
URL:https://rihg.ca/event/12-price-poutine-2016-06-05-2016-09-04-2016-11-06-2017-06-25-2018-10-07-2019-06-02/2026-02-08/
CATEGORIES:Hunter’s Ale House
END:VEVENT
BEGIN:VEVENT
DTSTART;TZID=America/Halifax:20260208T180000
DTEND;TZID=America/Halifax:20260208T180000
DTSTAMP:20260421T231957
CREATED:20260115T191717Z
LAST-MODIFIED:20260115T191717Z
UID:10020730-1770573600-1770573600@rihg.ca
SUMMARY:Super Bowl LX Watch Party
DESCRIPTION:Join us for an evening of great football\, drink specials\, food specials\, prizes and more!
URL:https://rihg.ca/event/super-bowl-lx-watch-party/
CATEGORIES:The Factory
END:VEVENT
BEGIN:VEVENT
DTSTART;TZID=America/Halifax:20260208T170000
DTEND;TZID=America/Halifax:20260208T220000
DTSTAMP:20260421T231957
CREATED:20251117T205320Z
LAST-MODIFIED:20251117T205320Z
UID:10019093-1770570000-1770588000@rihg.ca
SUMMARY:2-4-1 Pub Fare
DESCRIPTION:Purchase one “Pub Fare” item and receive the second of equal or lesser value for free: https://johnbrowngrille.com/pub-fare/ \nPurchase of a beverage required. Dine-in only.
URL:https://rihg.ca/event/2-4-1-pub-fare/2026-02-08/
CATEGORIES:John Brown Grille
END:VEVENT
BEGIN:VEVENT
DTSTART;TZID=America/Halifax:20260208T140000
DTEND;TZID=America/Halifax:20260208T160000
DTSTAMP:20260421T231957
CREATED:20200603T190545Z
LAST-MODIFIED:20251224T162430Z
UID:10020306-1770559200-1770566400@rihg.ca
SUMMARY:Half-Priced Mussels
DESCRIPTION:From 2 until 4 p.m. every day of the week\, our succulent PEI mussels are 50% of the price but still 100% of the flavour! \nYour choice of: \n\nWhite wine & garlic\nCreamy pancetta\nSpicy arribiata\nSpinach & goat cheese
URL:https://rihg.ca/event/half-priced-mussels-2020-10-04/2026-02-08/
CATEGORIES:John Brown Grille
END:VEVENT
BEGIN:VEVENT
DTSTART;TZID=America/Halifax:20260207T230000
DTEND;TZID=America/Halifax:20260207T230000
DTSTAMP:20260421T231957
CREATED:20260129T205541Z
LAST-MODIFIED:20260129T205541Z
UID:10020741-1770505200-1770505200@rihg.ca
SUMMARY:Neon Country
DESCRIPTION:
URL:https://rihg.ca/event/neon-country-7/
CATEGORIES:Hunter’s Ale House
END:VEVENT
BEGIN:VEVENT
DTSTART;TZID=America/Halifax:20260207T230000
DTEND;TZID=America/Halifax:20260207T230000
DTSTAMP:20260421T231957
CREATED:20260115T191052Z
LAST-MODIFIED:20260115T191052Z
UID:10020729-1770505200-1770505200@rihg.ca
SUMMARY:Rave in the Cave: DJ Jérémie
DESCRIPTION:
URL:https://rihg.ca/event/rave-in-the-cave-dj-jeremie-2/
CATEGORIES:The Factory
END:VEVENT
BEGIN:VEVENT
DTSTART;TZID=America/Halifax:20260207T230000
DTEND;TZID=America/Halifax:20260207T230000
DTSTAMP:20260421T231957
CREATED:20260115T191000Z
LAST-MODIFIED:20260115T191000Z
UID:10020728-1770505200-1770505200@rihg.ca
SUMMARY:DJ Douce
DESCRIPTION:
URL:https://rihg.ca/event/dj-douce-31/
CATEGORIES:The Factory
END:VEVENT
BEGIN:VEVENT
DTSTART;TZID=America/Halifax:20260207T230000
DTEND;TZID=America/Halifax:20260207T230000
DTSTAMP:20260421T231957
CREATED:20251224T165021Z
LAST-MODIFIED:20251224T165021Z
UID:10020642-1770505200-1770505200@rihg.ca
SUMMARY:DJ Purdy
DESCRIPTION:
URL:https://rihg.ca/event/dj-purdy-5/
CATEGORIES:John Brown Grille
END:VEVENT
BEGIN:VEVENT
DTSTART;TZID=America/Halifax:20260207T220000
DTEND;TZID=America/Halifax:20260207T220000
DTSTAMP:20260421T231957
CREATED:20241004T173643Z
LAST-MODIFIED:20251223T200119Z
UID:10020195-1770501600-1770501600@rihg.ca
SUMMARY:Saturday Night Shaker!
DESCRIPTION:The Corner’s rocking every Saturday night and here at the Factory it’s an absolute S-H-A-K-E-R! \nDance the night away to the best DJ beats in town. \nBlue Lobster drink specials start at 10pm.
URL:https://rihg.ca/event/saturday-night-shaker/2026-02-07/
CATEGORIES:The Factory
END:VEVENT
BEGIN:VEVENT
DTSTART;TZID=America/Halifax:20260207T210000
DTEND;TZID=America/Halifax:20260207T210000
DTSTAMP:20260421T231957
CREATED:20160505T164046Z
LAST-MODIFIED:20251223T194947Z
UID:10019658-1770498000-1770498000@rihg.ca
SUMMARY:Pitcher & Wings = $27.99
DESCRIPTION:Pick a pitcher and choose your sauce for only $27.99. We’ll do the rest! \n  \n**Special includes choice of a domestic Molson pitcher and 1 lb wings.
URL:https://rihg.ca/event/pitcher-wing-special-2016-06-04-2016-09-03-2016-11-05-2017-06-24-2018-10-06-2019-06-01/2026-02-07/
CATEGORIES:Hunter’s Ale House
END:VEVENT
BEGIN:VEVENT
DTSTART;TZID=America/Halifax:20260207T200000
DTEND;TZID=America/Halifax:20260207T213000
DTSTAMP:20260421T231957
CREATED:20260115T190802Z
LAST-MODIFIED:20260115T190802Z
UID:10020726-1770494400-1770499800@rihg.ca
SUMMARY:Stand-Up Night in the Comedy Cave
DESCRIPTION:Get ready for another night of inappropriate laughs\, giggles\, and questionable chuckles in The Comedy Cave!\nHost Jalen MacLeod has curated some of Canada’s best comedians to giggle the night away — featuring talent from Nepal\, Halifax\, and Saskatchewan\, all in one unforgettable show.\n\nKnown for his storytelling\, observational style\, Jalen finds humour in the moments most people try to forget. This time\, he’s joined by an all-star lineup: Babin Karki — Local legend and Nepal’s #1 comic Robbie Vino — Halifax hero Braydon Lynch — Saskatchewan sensation\nCanadian-famous comedy — right in your backyard.\n\n Saturday\, February 7 Doors open at 7:00 PM Show runs 8:00–9:30 PM 19+ event\nGrab a drink\, bring your friends\, and settle in for a night of laughs you won’t forget.\n\n\nGet your tickets here: Stand Up Night in the Comedy Cave
URL:https://rihg.ca/event/stand-up-night-in-the-comedy-cave-4/
CATEGORIES:The Factory
ATTACH;FMTTYPE=image/jpeg:https://rihg.ca/wp-content/uploads/2026/01/917b26cc-533b-49eb-b2b3-4bd1b313b515.jpeg
END:VEVENT
BEGIN:VEVENT
DTSTART;TZID=America/Halifax:20260207T190000
DTEND;TZID=America/Halifax:20260207T210000
DTSTAMP:20260421T231957
CREATED:20250507T165306Z
LAST-MODIFIED:20251223T200039Z
UID:10020144-1770490800-1770498000@rihg.ca
SUMMARY:Music Bingo with Darcy!
DESCRIPTION: Music Bingo – Every Saturday from 7 to 9 PM! \n\nIt’s just like regular bingo… but with a musical twist! Instead of numbers\, you’ll be matching song titles to your bingo card.\nHosted by Darcy Campbell from Hot 105.5\, each round features a different musical genre. Darcy will play the first verse and chorus of each song — if it’s on your card\, dab it!\n\nWe play three games every night\, each with its own awesome prize. From throwbacks to chart-toppers\, there’s something for every music lover.\nGrab your friends\, bring your ears\, and get ready for a Saturday night full of fun\, tunes\, and prizes!\n\n1 bingo card/person   |  FREE admission
URL:https://rihg.ca/event/music-bingo-with-darcy/2026-02-07/
CATEGORIES:The Factory
END:VEVENT
BEGIN:VEVENT
DTSTART;TZID=America/Halifax:20260207T170000
DTEND;TZID=America/Halifax:20260207T220000
DTSTAMP:20260421T231957
CREATED:20251117T202452Z
LAST-MODIFIED:20251117T202452Z
UID:10019066-1770483600-1770501600@rihg.ca
SUMMARY:Half-Priced Nachos
DESCRIPTION:Your choice of John Brown’s Classic or Southwest Nachos for half-price? Sold! \nPurchase of a beverage required. Dine-in only.
URL:https://rihg.ca/event/half-priced-nachos/2026-02-07/
CATEGORIES:John Brown Grille
END:VEVENT
BEGIN:VEVENT
DTSTART;TZID=America/Halifax:20260207T140000
DTEND;TZID=America/Halifax:20260207T170000
DTSTAMP:20260421T231957
CREATED:20251224T164957Z
LAST-MODIFIED:20251224T164957Z
UID:10020641-1770472800-1770483600@rihg.ca
SUMMARY:Saul Good Duo
DESCRIPTION:
URL:https://rihg.ca/event/saul-good-duo-24/
CATEGORIES:John Brown Grille
END:VEVENT
BEGIN:VEVENT
DTSTART;TZID=America/Halifax:20260207T140000
DTEND;TZID=America/Halifax:20260207T160000
DTSTAMP:20260421T231957
CREATED:20200603T190545Z
LAST-MODIFIED:20251224T162430Z
UID:10020305-1770472800-1770480000@rihg.ca
SUMMARY:Half-Priced Mussels
DESCRIPTION:From 2 until 4 p.m. every day of the week\, our succulent PEI mussels are 50% of the price but still 100% of the flavour! \nYour choice of: \n\nWhite wine & garlic\nCreamy pancetta\nSpicy arribiata\nSpinach & goat cheese
URL:https://rihg.ca/event/half-priced-mussels-2020-10-04/2026-02-07/
CATEGORIES:John Brown Grille
END:VEVENT
BEGIN:VEVENT
DTSTART;TZID=America/Halifax:20260206T230000
DTEND;TZID=America/Halifax:20260206T230000
DTSTAMP:20260421T231957
CREATED:20260129T205515Z
LAST-MODIFIED:20260129T205515Z
UID:10020740-1770418800-1770418800@rihg.ca
SUMMARY:Holy Hannah Trio
DESCRIPTION:
URL:https://rihg.ca/event/holy-hannah-trio-4/
CATEGORIES:Hunter’s Ale House
END:VEVENT
END:VCALENDAR