BEGIN:VCALENDAR
VERSION:2.0
PRODID:-//Red Island Hospitality Group Inc. - ECPv6.15.20//NONSGML v1.0//EN
CALSCALE:GREGORIAN
METHOD:PUBLISH
X-WR-CALNAME:Red Island Hospitality Group Inc.
X-ORIGINAL-URL:https://rihg.ca
X-WR-CALDESC:Events for Red Island Hospitality Group Inc.
REFRESH-INTERVAL;VALUE=DURATION:PT1H
X-Robots-Tag:noindex
X-PUBLISHED-TTL:PT1H
BEGIN:VTIMEZONE
TZID:America/Halifax
BEGIN:DAYLIGHT
TZOFFSETFROM:-0400
TZOFFSETTO:-0300
TZNAME:ADT
DTSTART:20250309T060000
END:DAYLIGHT
BEGIN:STANDARD
TZOFFSETFROM:-0300
TZOFFSETTO:-0400
TZNAME:AST
DTSTART:20251102T050000
END:STANDARD
BEGIN:DAYLIGHT
TZOFFSETFROM:-0400
TZOFFSETTO:-0300
TZNAME:ADT
DTSTART:20260308T060000
END:DAYLIGHT
BEGIN:STANDARD
TZOFFSETFROM:-0300
TZOFFSETTO:-0400
TZNAME:AST
DTSTART:20261101T050000
END:STANDARD
BEGIN:DAYLIGHT
TZOFFSETFROM:-0400
TZOFFSETTO:-0300
TZNAME:ADT
DTSTART:20270314T060000
END:DAYLIGHT
BEGIN:STANDARD
TZOFFSETFROM:-0300
TZOFFSETTO:-0400
TZNAME:AST
DTSTART:20271107T050000
END:STANDARD
END:VTIMEZONE
BEGIN:VEVENT
DTSTART;TZID=America/Halifax:20260114T160000
DTEND;TZID=America/Halifax:20260114T160000
DTSTAMP:20260423T082729
CREATED:20250523T170017Z
LAST-MODIFIED:20251224T165628Z
UID:10019966-1768406400-1768406400@rihg.ca
SUMMARY:Half-Priced Donairs
DESCRIPTION:Enjoy our amazing maritime style donair for half-price. \nMade with the best donair sauce in town. (Humble brag!) \nSpecial requires the purchase of a beverage. \nDine-in only every Wednesday.
URL:https://rihg.ca/event/half-priced-donairs-2/2026-01-14/
CATEGORIES:The Factory
END:VEVENT
BEGIN:VEVENT
DTSTART;TZID=America/Halifax:20260114T140000
DTEND;TZID=America/Halifax:20260114T160000
DTSTAMP:20260423T082729
CREATED:20200603T190545Z
LAST-MODIFIED:20251224T162430Z
UID:10020281-1768399200-1768406400@rihg.ca
SUMMARY:Half-Priced Mussels
DESCRIPTION:From 2 until 4 p.m. every day of the week\, our succulent PEI mussels are 50% of the price but still 100% of the flavour! \nYour choice of: \n\nWhite wine & garlic\nCreamy pancetta\nSpicy arribiata\nSpinach & goat cheese
URL:https://rihg.ca/event/half-priced-mussels-2020-10-04/2026-01-14/
CATEGORIES:John Brown Grille
END:VEVENT
BEGIN:VEVENT
DTSTART;TZID=America/Halifax:20260114T110000
DTEND;TZID=America/Halifax:20260114T150000
DTSTAMP:20260423T082729
CREATED:20251117T205637Z
LAST-MODIFIED:20251117T205830Z
UID:10019157-1768388400-1768402800@rihg.ca
SUMMARY:$13 Soup & Sandwich
DESCRIPTION:Enjoy our chef’s daily soup & sandwich creation. \nAvailable weekdays between 11 and 3 pm. \nPurchase of a beverage required. Dine-in only.
URL:https://rihg.ca/event/13-soup-sandwich/2026-01-14/
END:VEVENT
BEGIN:VEVENT
DTSTART;TZID=America/Halifax:20260113T210000
DTEND;TZID=America/Halifax:20260113T210000
DTSTAMP:20260423T082729
CREATED:20200602T212947Z
LAST-MODIFIED:20251223T192731Z
UID:10019317-1768338000-1768338000@rihg.ca
SUMMARY:75¢ Wing Night
DESCRIPTION:Come on in and enjoy all the 75¢ breaded wings your tummy can handle! Your choice of bone-in or boneless. \nShots of Canadian Club for only $3.50 for those 19 and over… Photo identification required upon request. \n**Purchase of a beverage required for each order of 20 wings. \n**Eat-in only
URL:https://rihg.ca/event/75%c2%a2-wing-night-2021-12-28/2026-01-13/
CATEGORIES:Hunter’s Ale House
END:VEVENT
BEGIN:VEVENT
DTSTART;TZID=America/Halifax:20260113T200000
DTEND;TZID=America/Halifax:20260113T200000
DTSTAMP:20260423T082729
CREATED:20200602T213319Z
LAST-MODIFIED:20251223T195643Z
UID:10019914-1768334400-1768334400@rihg.ca
SUMMARY:75¢ Wing Night
DESCRIPTION:We can’t let our neighbours have all the fun! \nCome on in and enjoy all the 75¢ breaded wings your tummy can handle! \nBesides our regular wing sauces\, we’ve teamed up with Maritime Madness so you have LOTS of HOTS to choose from! \nShots of Canadian Club for only $3.50 for those 19 and over… Photo identification required upon request. \n**Purchase of a beverage required for each order of 20 wings. \n**Eat-in only
URL:https://rihg.ca/event/50%c2%a2-wing-night-2/2026-01-13/
CATEGORIES:The Factory
END:VEVENT
BEGIN:VEVENT
DTSTART;TZID=America/Halifax:20260113T170000
DTEND;TZID=America/Halifax:20260113T220000
DTSTAMP:20260423T082729
CREATED:20251117T200059Z
LAST-MODIFIED:20251224T162236Z
UID:10020252-1768323600-1768341600@rihg.ca
SUMMARY:2-4-1 Wings
DESCRIPTION:Three delicious sauce options: \n\n\n\n\nlemon pepper  |  sriracha  |  herbed butter and parmesan  |  maple bourbon  |  JB’s picante\n\n\n\n\nShare some delicious JB’s wings with a friend\, or keep them all to yourself. We’re not judging! \nPurchase of a beverage required. Dine-in only.
URL:https://rihg.ca/event/2-4-1-wings-3/2026-01-13/
CATEGORIES:John Brown Grille
END:VEVENT
BEGIN:VEVENT
DTSTART;TZID=America/Halifax:20260113T160000
DTEND;TZID=America/Halifax:20260113T160000
DTSTAMP:20260423T082729
CREATED:20250523T165703Z
LAST-MODIFIED:20251223T195521Z
UID:10019862-1768320000-1768320000@rihg.ca
SUMMARY:$3 Taco Tuesday
DESCRIPTION:It’s BA-ACK!!! Charlottetown’s favourite Tuesday night special: Tasty taco beef with lettuce\, tomato\, and grated cheese\, drizzled with crema fresca\, and nestled in your choice of soft or hard shell taco (or both!) \n**Special requires the purchase of a beverage \n**Dine-in only.
URL:https://rihg.ca/event/taco-tuesday-2/2026-01-13/
CATEGORIES:The Factory
END:VEVENT
BEGIN:VEVENT
DTSTART;TZID=America/Halifax:20260113T140000
DTEND;TZID=America/Halifax:20260113T160000
DTSTAMP:20260423T082729
CREATED:20200603T190545Z
LAST-MODIFIED:20251224T162430Z
UID:10020280-1768312800-1768320000@rihg.ca
SUMMARY:Half-Priced Mussels
DESCRIPTION:From 2 until 4 p.m. every day of the week\, our succulent PEI mussels are 50% of the price but still 100% of the flavour! \nYour choice of: \n\nWhite wine & garlic\nCreamy pancetta\nSpicy arribiata\nSpinach & goat cheese
URL:https://rihg.ca/event/half-priced-mussels-2020-10-04/2026-01-13/
CATEGORIES:John Brown Grille
END:VEVENT
BEGIN:VEVENT
DTSTART;TZID=America/Halifax:20260113T110000
DTEND;TZID=America/Halifax:20260113T150000
DTSTAMP:20260423T082729
CREATED:20251117T205637Z
LAST-MODIFIED:20251117T205830Z
UID:10019156-1768302000-1768316400@rihg.ca
SUMMARY:$13 Soup & Sandwich
DESCRIPTION:Enjoy our chef’s daily soup & sandwich creation. \nAvailable weekdays between 11 and 3 pm. \nPurchase of a beverage required. Dine-in only.
URL:https://rihg.ca/event/13-soup-sandwich/2026-01-13/
END:VEVENT
BEGIN:VEVENT
DTSTART;TZID=America/Halifax:20260112T220000
DTEND;TZID=America/Halifax:20260112T220000
DTSTAMP:20260423T082729
CREATED:20250404T165601Z
LAST-MODIFIED:20251223T192613Z
UID:10018208-1768255200-1768255200@rihg.ca
SUMMARY:Open Mic with Travis
DESCRIPTION:Monday Open Mic is BACK!!!!
URL:https://rihg.ca/event/open-mic-with-travis/2026-01-12/
CATEGORIES:Hunter’s Ale House
END:VEVENT
BEGIN:VEVENT
DTSTART;TZID=America/Halifax:20260112T210000
DTEND;TZID=America/Halifax:20260112T210000
DTSTAMP:20260423T082729
CREATED:20181126T213257Z
LAST-MODIFIED:20251223T192532Z
UID:10019248-1768251600-1768251600@rihg.ca
SUMMARY:1/2 Priced Nachos
DESCRIPTION:Check out our variety of nachos: \nIt would take a few months to try a new one every week… \nCHALLENGE ACCEPTED! \n**Must purchase a beverage to order 1/2 priced nachos
URL:https://rihg.ca/event/1-2-priced-nachos-2019-06-03/2026-01-12/
CATEGORIES:Hunter’s Ale House
END:VEVENT
BEGIN:VEVENT
DTSTART;TZID=America/Halifax:20260112T170000
DTEND;TZID=America/Halifax:20260112T220000
DTSTAMP:20260423T082729
CREATED:20251117T195645Z
LAST-MODIFIED:20251117T195645Z
UID:10018957-1768237200-1768255200@rihg.ca
SUMMARY:Half Priced Apps
DESCRIPTION:Select appetizers available for 50% off. \nLots of tasty appetizers to choose from: https://johnbrowngrille.com/appetizers/ \nPurchase of a beverage required. Dine-in only.
URL:https://rihg.ca/event/half-priced-apps-2/2026-01-12/
CATEGORIES:John Brown Grille
END:VEVENT
BEGIN:VEVENT
DTSTART;TZID=America/Halifax:20260112T140000
DTEND;TZID=America/Halifax:20260112T160000
DTSTAMP:20260423T082729
CREATED:20200603T190545Z
LAST-MODIFIED:20251224T162430Z
UID:10020279-1768226400-1768233600@rihg.ca
SUMMARY:Half-Priced Mussels
DESCRIPTION:From 2 until 4 p.m. every day of the week\, our succulent PEI mussels are 50% of the price but still 100% of the flavour! \nYour choice of: \n\nWhite wine & garlic\nCreamy pancetta\nSpicy arribiata\nSpinach & goat cheese
URL:https://rihg.ca/event/half-priced-mussels-2020-10-04/2026-01-12/
CATEGORIES:John Brown Grille
END:VEVENT
BEGIN:VEVENT
DTSTART;TZID=America/Halifax:20260112T110000
DTEND;TZID=America/Halifax:20260112T150000
DTSTAMP:20260423T082729
CREATED:20251117T205637Z
LAST-MODIFIED:20251117T205830Z
UID:10019155-1768215600-1768230000@rihg.ca
SUMMARY:$13 Soup & Sandwich
DESCRIPTION:Enjoy our chef’s daily soup & sandwich creation. \nAvailable weekdays between 11 and 3 pm. \nPurchase of a beverage required. Dine-in only.
URL:https://rihg.ca/event/13-soup-sandwich/2026-01-12/
END:VEVENT
BEGIN:VEVENT
DTSTART;TZID=America/Halifax:20260111T210000
DTEND;TZID=America/Halifax:20260111T210000
DTSTAMP:20260423T082729
CREATED:20211203T211110Z
LAST-MODIFIED:20251223T195142Z
UID:10019758-1768165200-1768165200@rihg.ca
SUMMARY:Name That Tune Trivia with Andrew Rollins
DESCRIPTION:You think you know your music? Think again! Andrew will put your musical knowledge to the test! \nWe will be using Hunter’s “wooden nickel” drink tokens for beer questions. These can be redeemed for a domestic bottled beer\, well shot\, or non-alcoholic beverage\, when won or at any future time! \nWe look forward to seeing you on Sunday night!!!
URL:https://rihg.ca/event/name-that-tune-trivia-with-andrew-rollins-2/2026-01-11/
CATEGORIES:Hunter’s Ale House
END:VEVENT
BEGIN:VEVENT
DTSTART;TZID=America/Halifax:20260111T210000
DTEND;TZID=America/Halifax:20260111T210000
DTSTAMP:20260423T082729
CREATED:20160505T172902Z
LAST-MODIFIED:20251223T195103Z
UID:10019706-1768165200-1768165200@rihg.ca
SUMMARY:1/2 Priced Poutine
DESCRIPTION:Have your seen our Poutinerie? You could pretty much have a new one every week for a year! Well\, half a year anyway… \n  \n**Purchase of a beverage is required to order a 1/2 priced poutine.
URL:https://rihg.ca/event/12-price-poutine-2016-06-05-2016-09-04-2016-11-06-2017-06-25-2018-10-07-2019-06-02/2026-01-11/
CATEGORIES:Hunter’s Ale House
END:VEVENT
BEGIN:VEVENT
DTSTART;TZID=America/Halifax:20260111T170000
DTEND;TZID=America/Halifax:20260111T220000
DTSTAMP:20260423T082729
CREATED:20251117T205320Z
LAST-MODIFIED:20251117T205320Z
UID:10019089-1768150800-1768168800@rihg.ca
SUMMARY:2-4-1 Pub Fare
DESCRIPTION:Purchase one “Pub Fare” item and receive the second of equal or lesser value for free: https://johnbrowngrille.com/pub-fare/ \nPurchase of a beverage required. Dine-in only.
URL:https://rihg.ca/event/2-4-1-pub-fare/2026-01-11/
CATEGORIES:John Brown Grille
END:VEVENT
BEGIN:VEVENT
DTSTART;TZID=America/Halifax:20260111T140000
DTEND;TZID=America/Halifax:20260111T160000
DTSTAMP:20260423T082729
CREATED:20200603T190545Z
LAST-MODIFIED:20251224T162430Z
UID:10020278-1768140000-1768147200@rihg.ca
SUMMARY:Half-Priced Mussels
DESCRIPTION:From 2 until 4 p.m. every day of the week\, our succulent PEI mussels are 50% of the price but still 100% of the flavour! \nYour choice of: \n\nWhite wine & garlic\nCreamy pancetta\nSpicy arribiata\nSpinach & goat cheese
URL:https://rihg.ca/event/half-priced-mussels-2020-10-04/2026-01-11/
CATEGORIES:John Brown Grille
END:VEVENT
BEGIN:VEVENT
DTSTART;TZID=America/Halifax:20260110T230000
DTEND;TZID=America/Halifax:20260110T230000
DTSTAMP:20260423T082729
CREATED:20260107T150435Z
LAST-MODIFIED:20260107T150435Z
UID:10020720-1768086000-1768086000@rihg.ca
SUMMARY:Neon Country
DESCRIPTION:
URL:https://rihg.ca/event/neon-country-5/
CATEGORIES:Hunter’s Ale House
END:VEVENT
BEGIN:VEVENT
DTSTART;TZID=America/Halifax:20260110T230000
DTEND;TZID=America/Halifax:20260110T230000
DTSTAMP:20260423T082729
CREATED:20251224T172131Z
LAST-MODIFIED:20251224T172131Z
UID:10020662-1768086000-1768086000@rihg.ca
SUMMARY:Rave in the Cave: DJ BraedenV
DESCRIPTION:
URL:https://rihg.ca/event/rave-in-the-cave-dj-braedenv/
CATEGORIES:The Factory
END:VEVENT
BEGIN:VEVENT
DTSTART;TZID=America/Halifax:20260110T230000
DTEND;TZID=America/Halifax:20260110T230000
DTSTAMP:20260423T082729
CREATED:20251224T170751Z
LAST-MODIFIED:20251224T170751Z
UID:10020653-1768086000-1768086000@rihg.ca
SUMMARY:DJ Douce
DESCRIPTION:
URL:https://rihg.ca/event/dj-douce-26/
CATEGORIES:The Factory
END:VEVENT
BEGIN:VEVENT
DTSTART;TZID=America/Halifax:20260110T230000
DTEND;TZID=America/Halifax:20260110T230000
DTSTAMP:20260423T082729
CREATED:20251224T164552Z
LAST-MODIFIED:20251224T164552Z
UID:10020634-1768086000-1768086000@rihg.ca
SUMMARY:DJ Purdy
DESCRIPTION:
URL:https://rihg.ca/event/dj-purdy-4/
CATEGORIES:John Brown Grille
END:VEVENT
BEGIN:VEVENT
DTSTART;TZID=America/Halifax:20260110T220000
DTEND;TZID=America/Halifax:20260110T220000
DTSTAMP:20260423T082729
CREATED:20241004T173643Z
LAST-MODIFIED:20251223T200119Z
UID:10020191-1768082400-1768082400@rihg.ca
SUMMARY:Saturday Night Shaker!
DESCRIPTION:The Corner’s rocking every Saturday night and here at the Factory it’s an absolute S-H-A-K-E-R! \nDance the night away to the best DJ beats in town. \nBlue Lobster drink specials start at 10pm.
URL:https://rihg.ca/event/saturday-night-shaker/2026-01-10/
CATEGORIES:The Factory
END:VEVENT
BEGIN:VEVENT
DTSTART;TZID=America/Halifax:20260110T210000
DTEND;TZID=America/Halifax:20260110T210000
DTSTAMP:20260423T082729
CREATED:20160505T164046Z
LAST-MODIFIED:20251223T194947Z
UID:10019654-1768078800-1768078800@rihg.ca
SUMMARY:Pitcher & Wings = $27.99
DESCRIPTION:Pick a pitcher and choose your sauce for only $27.99. We’ll do the rest! \n  \n**Special includes choice of a domestic Molson pitcher and 1 lb wings.
URL:https://rihg.ca/event/pitcher-wing-special-2016-06-04-2016-09-03-2016-11-05-2017-06-24-2018-10-06-2019-06-01/2026-01-10/
CATEGORIES:Hunter’s Ale House
END:VEVENT
BEGIN:VEVENT
DTSTART;TZID=America/Halifax:20260110T200000
DTEND;TZID=America/Halifax:20260110T213000
DTSTAMP:20260423T082729
CREATED:20251224T171712Z
LAST-MODIFIED:20251224T171712Z
UID:10020661-1768075200-1768080600@rihg.ca
SUMMARY:Stand-Up Night in the Comedy Cave
DESCRIPTION:Back for another night of inappropriate laughs\, giggles and questionable chuckles. Curated w/ allstar comedians from PEI\, Halifax\, and NFLD! \n\n\n\n\nJalen has done it again – with a carefully curated line up of comedians from all parts of the maritimes (except No Funswick) \nJalen is quickly becoming known for his story telling type of comedy\, finding humour in the moments most try to forget. This time\, he will be joined by Canada’s Got Talent finalist – Travis Lindsay (Halifax)\, Labrador’s Roast Battle champion – Jon Pickett\, and PEI’s pride – Shaun Hogan (recently featured on the Debaters). \nWith the Cave being sold out for 3/4 events\, don’t wait – and ensure you get a night of laughing by securing your tickets early! Money back if you don’t laugh! \n*just kidding about money back. \n\n\nBook your tickets here: Click Here
URL:https://rihg.ca/event/stand-up-night-in-the-comedy-cave-3/
CATEGORIES:The Factory
ATTACH;FMTTYPE=image/jpeg:https://rihg.ca/wp-content/uploads/2025/09/2ed81887-89e7-40d2-9892-ea31895c72b1.jpeg
END:VEVENT
BEGIN:VEVENT
DTSTART;TZID=America/Halifax:20260110T190000
DTEND;TZID=America/Halifax:20260110T210000
DTSTAMP:20260423T082729
CREATED:20250507T165306Z
LAST-MODIFIED:20251223T200039Z
UID:10020140-1768071600-1768078800@rihg.ca
SUMMARY:Music Bingo with Darcy!
DESCRIPTION: Music Bingo – Every Saturday from 7 to 9 PM! \n\nIt’s just like regular bingo… but with a musical twist! Instead of numbers\, you’ll be matching song titles to your bingo card.\nHosted by Darcy Campbell from Hot 105.5\, each round features a different musical genre. Darcy will play the first verse and chorus of each song — if it’s on your card\, dab it!\n\nWe play three games every night\, each with its own awesome prize. From throwbacks to chart-toppers\, there’s something for every music lover.\nGrab your friends\, bring your ears\, and get ready for a Saturday night full of fun\, tunes\, and prizes!\n\n1 bingo card/person   |  FREE admission
URL:https://rihg.ca/event/music-bingo-with-darcy/2026-01-10/
CATEGORIES:The Factory
END:VEVENT
BEGIN:VEVENT
DTSTART;TZID=America/Halifax:20260110T170000
DTEND;TZID=America/Halifax:20260110T220000
DTSTAMP:20260423T082729
CREATED:20251117T202452Z
LAST-MODIFIED:20251117T202452Z
UID:10019062-1768064400-1768082400@rihg.ca
SUMMARY:Half-Priced Nachos
DESCRIPTION:Your choice of John Brown’s Classic or Southwest Nachos for half-price? Sold! \nPurchase of a beverage required. Dine-in only.
URL:https://rihg.ca/event/half-priced-nachos/2026-01-10/
CATEGORIES:John Brown Grille
END:VEVENT
BEGIN:VEVENT
DTSTART;TZID=America/Halifax:20260110T140000
DTEND;TZID=America/Halifax:20260110T170000
DTSTAMP:20260423T082729
CREATED:20251224T164523Z
LAST-MODIFIED:20251224T164523Z
UID:10020633-1768053600-1768064400@rihg.ca
SUMMARY:Richie & Brian
DESCRIPTION:
URL:https://rihg.ca/event/richie-brian-13/
CATEGORIES:John Brown Grille
END:VEVENT
BEGIN:VEVENT
DTSTART;TZID=America/Halifax:20260110T140000
DTEND;TZID=America/Halifax:20260110T160000
DTSTAMP:20260423T082729
CREATED:20200603T190545Z
LAST-MODIFIED:20251224T162430Z
UID:10020277-1768053600-1768060800@rihg.ca
SUMMARY:Half-Priced Mussels
DESCRIPTION:From 2 until 4 p.m. every day of the week\, our succulent PEI mussels are 50% of the price but still 100% of the flavour! \nYour choice of: \n\nWhite wine & garlic\nCreamy pancetta\nSpicy arribiata\nSpinach & goat cheese
URL:https://rihg.ca/event/half-priced-mussels-2020-10-04/2026-01-10/
CATEGORIES:John Brown Grille
END:VEVENT
BEGIN:VEVENT
DTSTART;TZID=America/Halifax:20260109T230000
DTEND;TZID=America/Halifax:20260109T230000
DTSTAMP:20260423T082729
CREATED:20260107T150408Z
LAST-MODIFIED:20260107T150408Z
UID:10020719-1767999600-1767999600@rihg.ca
SUMMARY:Holy Hannah Trio
DESCRIPTION:
URL:https://rihg.ca/event/holy-hannah-trio-2/
CATEGORIES:Hunter’s Ale House
END:VEVENT
END:VCALENDAR