BEGIN:VCALENDAR
VERSION:2.0
PRODID:-//Red Island Hospitality Group Inc. - ECPv6.15.20//NONSGML v1.0//EN
CALSCALE:GREGORIAN
METHOD:PUBLISH
X-ORIGINAL-URL:https://rihg.ca
X-WR-CALDESC:Events for Red Island Hospitality Group Inc.
REFRESH-INTERVAL;VALUE=DURATION:PT1H
X-Robots-Tag:noindex
X-PUBLISHED-TTL:PT1H
BEGIN:VTIMEZONE
TZID:America/Halifax
BEGIN:DAYLIGHT
TZOFFSETFROM:-0400
TZOFFSETTO:-0300
TZNAME:ADT
DTSTART:20250309T060000
END:DAYLIGHT
BEGIN:STANDARD
TZOFFSETFROM:-0300
TZOFFSETTO:-0400
TZNAME:AST
DTSTART:20251102T050000
END:STANDARD
BEGIN:DAYLIGHT
TZOFFSETFROM:-0400
TZOFFSETTO:-0300
TZNAME:ADT
DTSTART:20260308T060000
END:DAYLIGHT
BEGIN:STANDARD
TZOFFSETFROM:-0300
TZOFFSETTO:-0400
TZNAME:AST
DTSTART:20261101T050000
END:STANDARD
BEGIN:DAYLIGHT
TZOFFSETFROM:-0400
TZOFFSETTO:-0300
TZNAME:ADT
DTSTART:20270314T060000
END:DAYLIGHT
BEGIN:STANDARD
TZOFFSETFROM:-0300
TZOFFSETTO:-0400
TZNAME:AST
DTSTART:20271107T050000
END:STANDARD
END:VTIMEZONE
BEGIN:VEVENT
DTSTART;TZID=America/Halifax:20260330T210000
DTEND;TZID=America/Halifax:20260330T210000
DTSTAMP:20260420T063714
CREATED:20181126T213257Z
LAST-MODIFIED:20251223T192532Z
UID:10019259-1774904400-1774904400@rihg.ca
SUMMARY:1/2 Priced Nachos
DESCRIPTION:Check out our variety of nachos: \nIt would take a few months to try a new one every week… \nCHALLENGE ACCEPTED! \n**Must purchase a beverage to order 1/2 priced nachos
URL:https://rihg.ca/event/1-2-priced-nachos-2019-06-03/2026-03-30/
CATEGORIES:Hunter’s Ale House
END:VEVENT
BEGIN:VEVENT
DTSTART;TZID=America/Halifax:20260330T220000
DTEND;TZID=America/Halifax:20260330T220000
DTSTAMP:20260420T063714
CREATED:20250404T165601Z
LAST-MODIFIED:20251223T192613Z
UID:10018219-1774908000-1774908000@rihg.ca
SUMMARY:Open Mic with Travis
DESCRIPTION:Monday Open Mic is BACK!!!!
URL:https://rihg.ca/event/open-mic-with-travis/2026-03-30/
CATEGORIES:Hunter’s Ale House
END:VEVENT
BEGIN:VEVENT
DTSTART;TZID=America/Halifax:20260331T110000
DTEND;TZID=America/Halifax:20260331T150000
DTSTAMP:20260420T063714
CREATED:20251117T205637Z
LAST-MODIFIED:20251117T205830Z
UID:10019211-1774954800-1774969200@rihg.ca
SUMMARY:$13 Soup & Sandwich
DESCRIPTION:Enjoy our chef’s daily soup & sandwich creation. \nAvailable weekdays between 11 and 3 pm. \nPurchase of a beverage required. Dine-in only.
URL:https://rihg.ca/event/13-soup-sandwich/2026-03-31/
END:VEVENT
BEGIN:VEVENT
DTSTART;TZID=America/Halifax:20260331T140000
DTEND;TZID=America/Halifax:20260331T160000
DTSTAMP:20260420T063714
CREATED:20200603T190545Z
LAST-MODIFIED:20251224T162430Z
UID:10020357-1774965600-1774972800@rihg.ca
SUMMARY:Half-Priced Mussels
DESCRIPTION:From 2 until 4 p.m. every day of the week\, our succulent PEI mussels are 50% of the price but still 100% of the flavour! \nYour choice of: \n\nWhite wine & garlic\nCreamy pancetta\nSpicy arribiata\nSpinach & goat cheese
URL:https://rihg.ca/event/half-priced-mussels-2020-10-04/2026-03-31/
CATEGORIES:John Brown Grille
END:VEVENT
BEGIN:VEVENT
DTSTART;TZID=America/Halifax:20260331T160000
DTEND;TZID=America/Halifax:20260331T160000
DTSTAMP:20260420T063714
CREATED:20250523T165703Z
LAST-MODIFIED:20251223T195521Z
UID:10019873-1774972800-1774972800@rihg.ca
SUMMARY:$3 Taco Tuesday
DESCRIPTION:It’s BA-ACK!!! Charlottetown’s favourite Tuesday night special: Tasty taco beef with lettuce\, tomato\, and grated cheese\, drizzled with crema fresca\, and nestled in your choice of soft or hard shell taco (or both!) \n**Special requires the purchase of a beverage \n**Dine-in only.
URL:https://rihg.ca/event/taco-tuesday-2/2026-03-31/
CATEGORIES:The Factory
END:VEVENT
BEGIN:VEVENT
DTSTART;TZID=America/Halifax:20260331T170000
DTEND;TZID=America/Halifax:20260331T220000
DTSTAMP:20260420T063714
CREATED:20251117T200059Z
LAST-MODIFIED:20251224T162236Z
UID:10020263-1774976400-1774994400@rihg.ca
SUMMARY:2-4-1 Wings
DESCRIPTION:Three delicious sauce options: \n\n\n\n\nlemon pepper  |  sriracha  |  herbed butter and parmesan  |  maple bourbon  |  JB’s picante\n\n\n\n\nShare some delicious JB’s wings with a friend\, or keep them all to yourself. We’re not judging! \nPurchase of a beverage required. Dine-in only.
URL:https://rihg.ca/event/2-4-1-wings-3/2026-03-31/
CATEGORIES:John Brown Grille
END:VEVENT
BEGIN:VEVENT
DTSTART;TZID=America/Halifax:20260331T200000
DTEND;TZID=America/Halifax:20260331T200000
DTSTAMP:20260420T063714
CREATED:20200602T213319Z
LAST-MODIFIED:20251223T195643Z
UID:10019925-1774987200-1774987200@rihg.ca
SUMMARY:75¢ Wing Night
DESCRIPTION:We can’t let our neighbours have all the fun! \nCome on in and enjoy all the 75¢ breaded wings your tummy can handle! \nBesides our regular wing sauces\, we’ve teamed up with Maritime Madness so you have LOTS of HOTS to choose from! \nShots of Canadian Club for only $3.50 for those 19 and over… Photo identification required upon request. \n**Purchase of a beverage required for each order of 20 wings. \n**Eat-in only
URL:https://rihg.ca/event/50%c2%a2-wing-night-2/2026-03-31/
CATEGORIES:The Factory
END:VEVENT
BEGIN:VEVENT
DTSTART;TZID=America/Halifax:20260331T210000
DTEND;TZID=America/Halifax:20260331T210000
DTSTAMP:20260420T063714
CREATED:20200602T212947Z
LAST-MODIFIED:20251223T192731Z
UID:10019328-1774990800-1774990800@rihg.ca
SUMMARY:75¢ Wing Night
DESCRIPTION:Come on in and enjoy all the 75¢ breaded wings your tummy can handle! Your choice of bone-in or boneless. \nShots of Canadian Club for only $3.50 for those 19 and over… Photo identification required upon request. \n**Purchase of a beverage required for each order of 20 wings. \n**Eat-in only
URL:https://rihg.ca/event/75%c2%a2-wing-night-2021-12-28/2026-03-31/
CATEGORIES:Hunter’s Ale House
END:VEVENT
BEGIN:VEVENT
DTSTART;TZID=America/Halifax:20260401T110000
DTEND;TZID=America/Halifax:20260401T150000
DTSTAMP:20260420T063714
CREATED:20251117T205637Z
LAST-MODIFIED:20251117T205830Z
UID:10019212-1775041200-1775055600@rihg.ca
SUMMARY:$13 Soup & Sandwich
DESCRIPTION:Enjoy our chef’s daily soup & sandwich creation. \nAvailable weekdays between 11 and 3 pm. \nPurchase of a beverage required. Dine-in only.
URL:https://rihg.ca/event/13-soup-sandwich/2026-04-01/
END:VEVENT
BEGIN:VEVENT
DTSTART;TZID=America/Halifax:20260401T140000
DTEND;TZID=America/Halifax:20260401T160000
DTSTAMP:20260420T063714
CREATED:20200603T190545Z
LAST-MODIFIED:20251224T162430Z
UID:10020358-1775052000-1775059200@rihg.ca
SUMMARY:Half-Priced Mussels
DESCRIPTION:From 2 until 4 p.m. every day of the week\, our succulent PEI mussels are 50% of the price but still 100% of the flavour! \nYour choice of: \n\nWhite wine & garlic\nCreamy pancetta\nSpicy arribiata\nSpinach & goat cheese
URL:https://rihg.ca/event/half-priced-mussels-2020-10-04/2026-04-01/
CATEGORIES:John Brown Grille
END:VEVENT
BEGIN:VEVENT
DTSTART;TZID=America/Halifax:20260401T160000
DTEND;TZID=America/Halifax:20260401T160000
DTSTAMP:20260420T063714
CREATED:20250523T170017Z
LAST-MODIFIED:20251224T165628Z
UID:10019977-1775059200-1775059200@rihg.ca
SUMMARY:Half-Priced Donairs
DESCRIPTION:Enjoy our amazing maritime style donair for half-price. \nMade with the best donair sauce in town. (Humble brag!) \nSpecial requires the purchase of a beverage. \nDine-in only every Wednesday.
URL:https://rihg.ca/event/half-priced-donairs-2/2026-04-01/
CATEGORIES:The Factory
END:VEVENT
BEGIN:VEVENT
DTSTART;TZID=America/Halifax:20260401T170000
DTEND;TZID=America/Halifax:20260401T220000
DTSTAMP:20260420T063714
CREATED:20251117T202141Z
LAST-MODIFIED:20251117T202141Z
UID:10018995-1775062800-1775080800@rihg.ca
SUMMARY:$15 Half-Rack Ribs
DESCRIPTION:Half-rack of smoked\, fall off the bone\, deliciously tender\, baby back ribs\, glazed with BBQ sauce \nPurchase of a beverage required. Dine-in only.
URL:https://rihg.ca/event/15-half-rack-ribs/2026-04-01/
CATEGORIES:John Brown Grille
END:VEVENT
BEGIN:VEVENT
DTSTART;TZID=America/Halifax:20260401T200000
DTEND;TZID=America/Halifax:20260401T200000
DTSTAMP:20260420T063714
CREATED:20220707T145443Z
LAST-MODIFIED:20251223T192918Z
UID:10019380-1775073600-1775073600@rihg.ca
SUMMARY:$13.50 Pitchers + 1/2 Priced Apps = Wicked Wednesday
DESCRIPTION:Lookin’ for something to do this Hump? Kick back with some Moosehead draught & grab some Half Priced Apps.\nTrust me… they don’t call ’em Wicked Wednesday’s for nothin! \n**$13.50 Labatt pitcher consists of choice of Budweiser\, Bud Light\, or Alexander Keith IPA. \n**1/2 priced appetizer offer excludes Game Day Platter and requires the purchase of a beverage.
URL:https://rihg.ca/event/10-99-pitchers-1-2-priced-apps-wicked-wednesday/2026-04-01/
CATEGORIES:The Factory
END:VEVENT
BEGIN:VEVENT
DTSTART;TZID=America/Halifax:20260401T210000
DTEND;TZID=America/Halifax:20260401T210000
DTSTAMP:20260420T063714
CREATED:20181126T221709Z
LAST-MODIFIED:20251223T195308Z
UID:10019821-1775077200-1775077200@rihg.ca
SUMMARY:$13.50 Pitchers + 1/2 Priced Apps = Wicked Wednesday
DESCRIPTION:Lookin’ for something to do this Hump? Kick back with some Labatt draught & grab some Half Priced Apps.\nTrust me… they don’t call ’em Wicked Wednesday’s for nothin! \n**$13.50 Labatt pitcher consists of choice of Budweiser\, Bud Light\, or Alexander Keith. \n**1/2 priced appetizer offer excludes Nachos or Gang Platter and requires the purchase of a beverage.
URL:https://rihg.ca/event/13-50-pitchers-1-2-priced-apps-wicked-wednesday-2019-06-05/2026-04-01/
CATEGORIES:Hunter’s Ale House
END:VEVENT
BEGIN:VEVENT
DTSTART;TZID=America/Halifax:20260402T110000
DTEND;TZID=America/Halifax:20260402T150000
DTSTAMP:20260420T063714
CREATED:20251117T205637Z
LAST-MODIFIED:20251117T205830Z
UID:10019213-1775127600-1775142000@rihg.ca
SUMMARY:$13 Soup & Sandwich
DESCRIPTION:Enjoy our chef’s daily soup & sandwich creation. \nAvailable weekdays between 11 and 3 pm. \nPurchase of a beverage required. Dine-in only.
URL:https://rihg.ca/event/13-soup-sandwich/2026-04-02/
END:VEVENT
BEGIN:VEVENT
DTSTART;TZID=America/Halifax:20260402T140000
DTEND;TZID=America/Halifax:20260402T160000
DTSTAMP:20260420T063714
CREATED:20200603T190545Z
LAST-MODIFIED:20251224T162430Z
UID:10020359-1775138400-1775145600@rihg.ca
SUMMARY:Half-Priced Mussels
DESCRIPTION:From 2 until 4 p.m. every day of the week\, our succulent PEI mussels are 50% of the price but still 100% of the flavour! \nYour choice of: \n\nWhite wine & garlic\nCreamy pancetta\nSpicy arribiata\nSpinach & goat cheese
URL:https://rihg.ca/event/half-priced-mussels-2020-10-04/2026-04-02/
CATEGORIES:John Brown Grille
END:VEVENT
BEGIN:VEVENT
DTSTART;TZID=America/Halifax:20260402T170000
DTEND;TZID=America/Halifax:20260402T220000
DTSTAMP:20260420T063714
CREATED:20251117T201649Z
LAST-MODIFIED:20251117T201649Z
UID:10019021-1775149200-1775167200@rihg.ca
SUMMARY:$20 Steak Sandwich
DESCRIPTION:5oz tenderloin\, sautéed portobello mushrooms & Spanish onions\, served open-faced on a grilled crostini with demi sauce \nPurchase of a beverage required. Dine-in only.
URL:https://rihg.ca/event/20-steak-sandwich/2026-04-02/
CATEGORIES:John Brown Grille
END:VEVENT
BEGIN:VEVENT
DTSTART;TZID=America/Halifax:20260402T190000
DTEND;TZID=America/Halifax:20260402T190000
DTSTAMP:20260420T063714
CREATED:20251021T194915Z
LAST-MODIFIED:20251223T193742Z
UID:10019462-1775156400-1775156400@rihg.ca
SUMMARY:Darcy's Entertainment Trivia
DESCRIPTION:
URL:https://rihg.ca/event/darcys-entertainment-trivia-2/2026-04-02/
CATEGORIES:The Factory
END:VEVENT
BEGIN:VEVENT
DTSTART;TZID=America/Halifax:20260402T210000
DTEND;TZID=America/Halifax:20260402T210000
DTSTAMP:20260420T063714
CREATED:20200602T211925Z
LAST-MODIFIED:20251223T194603Z
UID:10019513-1775163600-1775163600@rihg.ca
SUMMARY:Entertainment Trivia with Darcy Campbell
DESCRIPTION:Wanna test your knowledge with our entertainment trivia night? There is high demand for seats for Charlottetown’s most popular Thursday night trivia so get here early to get a seat! \nThere are prizes for the top three teams\, plus tons of “wooden nickel” beer questions so make sure you bring some quarters along to play those as well. Redeem your Hunter’s wooden nickel for a domestic bottle beer or well shot\, or keep it as a souvenir!
URL:https://rihg.ca/event/entertainment-trivia-with-darcy-campbell-2/2026-04-02/
CATEGORIES:Hunter’s Ale House
END:VEVENT
BEGIN:VEVENT
DTSTART;TZID=America/Halifax:20260402T210000
DTEND;TZID=America/Halifax:20260402T210000
DTSTAMP:20260420T063714
CREATED:20201001T213045Z
LAST-MODIFIED:20251223T194723Z
UID:10019564-1775163600-1775163600@rihg.ca
SUMMARY:1/2 Priced Phillies
DESCRIPTION:Just in time for Thursday Night Entertainment Trivia\, we are offering every one of our massive Philly sandwiches for HALF-PRICE! \nThis offer does not include a side. But you can add one. But you probably won’t need to! \n*Dine-in only with beverage purchase required.
URL:https://rihg.ca/event/1-2-priced-phillies/2026-04-02/
CATEGORIES:Hunter’s Ale House
END:VEVENT
BEGIN:VEVENT
DTSTART;TZID=America/Halifax:20260402T220000
DTEND;TZID=America/Halifax:20260402T220000
DTSTAMP:20260420T063714
CREATED:20240527T154901Z
LAST-MODIFIED:20251224T165657Z
UID:10020031-1775167200-1775167200@rihg.ca
SUMMARY:Karaoke with Jack!
DESCRIPTION:Life is always interesting with Jack Day as our karaoke host. And we wouldn’t have it any other way! \nChannel your inner rockstar and take the stage by storm every Thursday night. \nSo many songs\, so little time…
URL:https://rihg.ca/event/karaoke-with-jack/2026-04-02/
CATEGORIES:The Factory
END:VEVENT
BEGIN:VEVENT
DTSTART;TZID=America/Halifax:20260402T220000
DTEND;TZID=America/Halifax:20260402T220000
DTSTAMP:20260420T063714
CREATED:20251021T174951Z
LAST-MODIFIED:20251224T165723Z
UID:10020083-1775167200-1775167200@rihg.ca
SUMMARY:Twisted Tea Student Night
DESCRIPTION:Start your weekend early with karaoke on the main floor and sweet deals on Twisted Tea! \n** TWO FOR TWELVE!!!  **  That’s TWO delicious Twisted Tea for just $12!!! \n \n  \n 
URL:https://rihg.ca/event/twisted-thursday-student-night/2026-04-02/
CATEGORIES:The Factory
ATTACH;FMTTYPE=image/png:https://rihg.ca/wp-content/uploads/2025/10/Twisted-Tea-Sun.png
END:VEVENT
BEGIN:VEVENT
DTSTART;TZID=America/Halifax:20260402T230000
DTEND;TZID=America/Halifax:20260402T230000
DTSTAMP:20260420T063714
CREATED:20260317T193647Z
LAST-MODIFIED:20260317T193647Z
UID:10020788-1775170800-1775170800@rihg.ca
SUMMARY:Carter MacLellan
DESCRIPTION:
URL:https://rihg.ca/event/carter-maclellan-8/
CATEGORIES:Hunter’s Ale House
END:VEVENT
BEGIN:VEVENT
DTSTART;TZID=America/Halifax:20260403T110000
DTEND;TZID=America/Halifax:20260403T150000
DTSTAMP:20260420T063714
CREATED:20251117T205637Z
LAST-MODIFIED:20251117T205830Z
UID:10019214-1775214000-1775228400@rihg.ca
SUMMARY:$13 Soup & Sandwich
DESCRIPTION:Enjoy our chef’s daily soup & sandwich creation. \nAvailable weekdays between 11 and 3 pm. \nPurchase of a beverage required. Dine-in only.
URL:https://rihg.ca/event/13-soup-sandwich/2026-04-03/
END:VEVENT
BEGIN:VEVENT
DTSTART;TZID=America/Halifax:20260403T140000
DTEND;TZID=America/Halifax:20260403T160000
DTSTAMP:20260420T063714
CREATED:20200603T190545Z
LAST-MODIFIED:20251224T162430Z
UID:10020360-1775224800-1775232000@rihg.ca
SUMMARY:Half-Priced Mussels
DESCRIPTION:From 2 until 4 p.m. every day of the week\, our succulent PEI mussels are 50% of the price but still 100% of the flavour! \nYour choice of: \n\nWhite wine & garlic\nCreamy pancetta\nSpicy arribiata\nSpinach & goat cheese
URL:https://rihg.ca/event/half-priced-mussels-2020-10-04/2026-04-03/
CATEGORIES:John Brown Grille
END:VEVENT
BEGIN:VEVENT
DTSTART;TZID=America/Halifax:20260403T170000
DTEND;TZID=America/Halifax:20260403T220000
DTSTAMP:20260420T063714
CREATED:20251117T201423Z
LAST-MODIFIED:20251117T201518Z
UID:10019047-1775235600-1775253600@rihg.ca
SUMMARY:$15 Fish & Chips
DESCRIPTION:8oz haddock filet hand-dipped in our gluten free batter\, served with our dill tartar sauce \nPurchase of a beverage required. Dine-in only.
URL:https://rihg.ca/event/15-fish-chips/2026-04-03/
CATEGORIES:John Brown Grille
END:VEVENT
BEGIN:VEVENT
DTSTART;TZID=America/Halifax:20260403T210000
DTEND;TZID=America/Halifax:20260403T210000
DTSTAMP:20260420T063714
CREATED:20141210T153446Z
LAST-MODIFIED:20251223T194853Z
UID:10019615-1775250000-1775250000@rihg.ca
SUMMARY:Pitcher + Nachos = $27.99
DESCRIPTION:You get a pitcher & an order of nachos for only $27.99? Sounds like the combination of a good time to us! \n  \n**Special includes choice of a domestic Labatt product and an order of regular Hunter’s nachos.
URL:https://rihg.ca/event/pitcher-nachos-24-99-2015-09-04-2016-05-06-2016-06-03-2016-09-02-2016-11-04-2017-06-23-2018-10-05-2019-06-07/2026-04-03/
CATEGORIES:Hunter’s Ale House
END:VEVENT
BEGIN:VEVENT
DTSTART;TZID=America/Halifax:20260403T220000
DTEND;TZID=America/Halifax:20260403T220000
DTSTAMP:20260420T063714
CREATED:20230907T202019Z
LAST-MODIFIED:20251223T200002Z
UID:10020101-1775253600-1775253600@rihg.ca
SUMMARY:Blue Lobster Refresh Friday
DESCRIPTION:Recharge after your week with a night of fun\, dancing and drink specials! \nEvery Friday there is a DJ on the main floor stage and we feature drink specials on Blue Lobster products: \n\nBlue Lobster Canned Cocktails\nBlue Lobster Seltzers\nOur special Blue Lobster shooter: THE PINK LOBSTER\n\nThis Blue’s For You!
URL:https://rihg.ca/event/refresh-friday/2026-04-03/
CATEGORIES:The Factory
END:VEVENT
BEGIN:VEVENT
DTSTART;TZID=America/Halifax:20260403T220000
DTEND;TZID=America/Halifax:20260403T220000
DTSTAMP:20260420T063714
CREATED:20260318T154941Z
LAST-MODIFIED:20260318T154941Z
UID:10020801-1775253600-1775253600@rihg.ca
SUMMARY:DJ Purdy feat. DJ Bratton
DESCRIPTION:
URL:https://rihg.ca/event/dj-purdy-feat-dj-bratton/
CATEGORIES:The Factory
END:VEVENT
BEGIN:VEVENT
DTSTART;TZID=America/Halifax:20260403T220000
DTEND;TZID=America/Halifax:20260403T220000
DTSTAMP:20260420T063714
CREATED:20260318T155047Z
LAST-MODIFIED:20260318T155047Z
UID:10020802-1775253600-1775253600@rihg.ca
SUMMARY:Rave in the Cave: DJs Jérémie\, Oh Zil & Viraaj
DESCRIPTION:
URL:https://rihg.ca/event/rave-in-the-cave-djs-jeremie-oh-zil-viraaj/
CATEGORIES:The Factory
END:VEVENT
END:VCALENDAR