BEGIN:VCALENDAR
VERSION:2.0
PRODID:-//Red Island Hospitality Group Inc. - ECPv6.15.20//NONSGML v1.0//EN
CALSCALE:GREGORIAN
METHOD:PUBLISH
X-ORIGINAL-URL:https://rihg.ca
X-WR-CALDESC:Events for Red Island Hospitality Group Inc.
REFRESH-INTERVAL;VALUE=DURATION:PT1H
X-Robots-Tag:noindex
X-PUBLISHED-TTL:PT1H
BEGIN:VTIMEZONE
TZID:America/Halifax
BEGIN:DAYLIGHT
TZOFFSETFROM:-0400
TZOFFSETTO:-0300
TZNAME:ADT
DTSTART:20250309T060000
END:DAYLIGHT
BEGIN:STANDARD
TZOFFSETFROM:-0300
TZOFFSETTO:-0400
TZNAME:AST
DTSTART:20251102T050000
END:STANDARD
BEGIN:DAYLIGHT
TZOFFSETFROM:-0400
TZOFFSETTO:-0300
TZNAME:ADT
DTSTART:20260308T060000
END:DAYLIGHT
BEGIN:STANDARD
TZOFFSETFROM:-0300
TZOFFSETTO:-0400
TZNAME:AST
DTSTART:20261101T050000
END:STANDARD
BEGIN:DAYLIGHT
TZOFFSETFROM:-0400
TZOFFSETTO:-0300
TZNAME:ADT
DTSTART:20270314T060000
END:DAYLIGHT
BEGIN:STANDARD
TZOFFSETFROM:-0300
TZOFFSETTO:-0400
TZNAME:AST
DTSTART:20271107T050000
END:STANDARD
END:VTIMEZONE
BEGIN:VEVENT
DTSTART;TZID=America/Halifax:20260428T140000
DTEND;TZID=America/Halifax:20260428T160000
DTSTAMP:20260424T124333
CREATED:20200603T190545Z
LAST-MODIFIED:20251224T162430Z
UID:10020385-1777384800-1777392000@rihg.ca
SUMMARY:Half-Priced Mussels
DESCRIPTION:From 2 until 4 p.m. every day of the week\, our succulent PEI mussels are 50% of the price but still 100% of the flavour! \nYour choice of: \n\nWhite wine & garlic\nCreamy pancetta\nSpicy arribiata\nSpinach & goat cheese
URL:https://rihg.ca/event/half-priced-mussels-2020-10-04/2026-04-28/
CATEGORIES:John Brown Grille
END:VEVENT
BEGIN:VEVENT
DTSTART;TZID=America/Halifax:20260428T160000
DTEND;TZID=America/Halifax:20260428T160000
DTSTAMP:20260424T124333
CREATED:20250523T165703Z
LAST-MODIFIED:20251223T195521Z
UID:10019877-1777392000-1777392000@rihg.ca
SUMMARY:$3 Taco Tuesday
DESCRIPTION:It’s BA-ACK!!! Charlottetown’s favourite Tuesday night special: Tasty taco beef with lettuce\, tomato\, and grated cheese\, drizzled with crema fresca\, and nestled in your choice of soft or hard shell taco (or both!) \n**Special requires the purchase of a beverage \n**Dine-in only.
URL:https://rihg.ca/event/taco-tuesday-2/2026-04-28/
CATEGORIES:The Factory
END:VEVENT
BEGIN:VEVENT
DTSTART;TZID=America/Halifax:20260428T170000
DTEND;TZID=America/Halifax:20260428T220000
DTSTAMP:20260424T124333
CREATED:20251117T200059Z
LAST-MODIFIED:20251224T162236Z
UID:10020267-1777395600-1777413600@rihg.ca
SUMMARY:2-4-1 Wings
DESCRIPTION:Three delicious sauce options: \n\n\n\n\nlemon pepper  |  sriracha  |  herbed butter and parmesan  |  maple bourbon  |  JB’s picante\n\n\n\n\nShare some delicious JB’s wings with a friend\, or keep them all to yourself. We’re not judging! \nPurchase of a beverage required. Dine-in only.
URL:https://rihg.ca/event/2-4-1-wings-3/2026-04-28/
CATEGORIES:John Brown Grille
END:VEVENT
BEGIN:VEVENT
DTSTART;TZID=America/Halifax:20260428T200000
DTEND;TZID=America/Halifax:20260428T200000
DTSTAMP:20260424T124333
CREATED:20200602T213319Z
LAST-MODIFIED:20251223T195643Z
UID:10019929-1777406400-1777406400@rihg.ca
SUMMARY:75¢ Wing Night
DESCRIPTION:We can’t let our neighbours have all the fun! \nCome on in and enjoy all the 75¢ breaded wings your tummy can handle! \nBesides our regular wing sauces\, we’ve teamed up with Maritime Madness so you have LOTS of HOTS to choose from! \nShots of Canadian Club for only $3.50 for those 19 and over… Photo identification required upon request. \n**Purchase of a beverage required for each order of 20 wings. \n**Eat-in only
URL:https://rihg.ca/event/50%c2%a2-wing-night-2/2026-04-28/
CATEGORIES:The Factory
END:VEVENT
BEGIN:VEVENT
DTSTART;TZID=America/Halifax:20260428T210000
DTEND;TZID=America/Halifax:20260428T210000
DTSTAMP:20260424T124333
CREATED:20200602T212947Z
LAST-MODIFIED:20251223T192731Z
UID:10019332-1777410000-1777410000@rihg.ca
SUMMARY:75¢ Wing Night
DESCRIPTION:Come on in and enjoy all the 75¢ breaded wings your tummy can handle! Your choice of bone-in or boneless. \nShots of Canadian Club for only $3.50 for those 19 and over… Photo identification required upon request. \n**Purchase of a beverage required for each order of 20 wings. \n**Eat-in only
URL:https://rihg.ca/event/75%c2%a2-wing-night-2021-12-28/2026-04-28/
CATEGORIES:Hunter’s Ale House
END:VEVENT
BEGIN:VEVENT
DTSTART;TZID=America/Halifax:20260429T110000
DTEND;TZID=America/Halifax:20260429T150000
DTSTAMP:20260424T124333
CREATED:20251117T205637Z
LAST-MODIFIED:20251117T205830Z
UID:10019232-1777460400-1777474800@rihg.ca
SUMMARY:$13 Soup & Sandwich
DESCRIPTION:Enjoy our chef’s daily soup & sandwich creation. \nAvailable weekdays between 11 and 3 pm. \nPurchase of a beverage required. Dine-in only.
URL:https://rihg.ca/event/13-soup-sandwich/2026-04-29/
END:VEVENT
BEGIN:VEVENT
DTSTART;TZID=America/Halifax:20260429T140000
DTEND;TZID=America/Halifax:20260429T160000
DTSTAMP:20260424T124333
CREATED:20200603T190545Z
LAST-MODIFIED:20251224T162430Z
UID:10020386-1777471200-1777478400@rihg.ca
SUMMARY:Half-Priced Mussels
DESCRIPTION:From 2 until 4 p.m. every day of the week\, our succulent PEI mussels are 50% of the price but still 100% of the flavour! \nYour choice of: \n\nWhite wine & garlic\nCreamy pancetta\nSpicy arribiata\nSpinach & goat cheese
URL:https://rihg.ca/event/half-priced-mussels-2020-10-04/2026-04-29/
CATEGORIES:John Brown Grille
END:VEVENT
BEGIN:VEVENT
DTSTART;TZID=America/Halifax:20260429T160000
DTEND;TZID=America/Halifax:20260429T160000
DTSTAMP:20260424T124333
CREATED:20250523T170017Z
LAST-MODIFIED:20251224T165628Z
UID:10019981-1777478400-1777478400@rihg.ca
SUMMARY:Half-Priced Donairs
DESCRIPTION:Enjoy our amazing maritime style donair for half-price. \nMade with the best donair sauce in town. (Humble brag!) \nSpecial requires the purchase of a beverage. \nDine-in only every Wednesday.
URL:https://rihg.ca/event/half-priced-donairs-2/2026-04-29/
CATEGORIES:The Factory
END:VEVENT
BEGIN:VEVENT
DTSTART;TZID=America/Halifax:20260429T170000
DTEND;TZID=America/Halifax:20260429T220000
DTSTAMP:20260424T124333
CREATED:20251117T202141Z
LAST-MODIFIED:20251117T202141Z
UID:10018999-1777482000-1777500000@rihg.ca
SUMMARY:$15 Half-Rack Ribs
DESCRIPTION:Half-rack of smoked\, fall off the bone\, deliciously tender\, baby back ribs\, glazed with BBQ sauce \nPurchase of a beverage required. Dine-in only.
URL:https://rihg.ca/event/15-half-rack-ribs/2026-04-29/
CATEGORIES:John Brown Grille
END:VEVENT
BEGIN:VEVENT
DTSTART;TZID=America/Halifax:20260429T200000
DTEND;TZID=America/Halifax:20260429T200000
DTSTAMP:20260424T124333
CREATED:20220707T145443Z
LAST-MODIFIED:20251223T192918Z
UID:10019384-1777492800-1777492800@rihg.ca
SUMMARY:$13.50 Pitchers + 1/2 Priced Apps = Wicked Wednesday
DESCRIPTION:Lookin’ for something to do this Hump? Kick back with some Moosehead draught & grab some Half Priced Apps.\nTrust me… they don’t call ’em Wicked Wednesday’s for nothin! \n**$13.50 Labatt pitcher consists of choice of Budweiser\, Bud Light\, or Alexander Keith IPA. \n**1/2 priced appetizer offer excludes Game Day Platter and requires the purchase of a beverage.
URL:https://rihg.ca/event/10-99-pitchers-1-2-priced-apps-wicked-wednesday/2026-04-29/
CATEGORIES:The Factory
END:VEVENT
BEGIN:VEVENT
DTSTART;TZID=America/Halifax:20260429T210000
DTEND;TZID=America/Halifax:20260429T210000
DTSTAMP:20260424T124333
CREATED:20181126T221709Z
LAST-MODIFIED:20251223T195308Z
UID:10019825-1777496400-1777496400@rihg.ca
SUMMARY:$13.50 Pitchers + 1/2 Priced Apps = Wicked Wednesday
DESCRIPTION:Lookin’ for something to do this Hump? Kick back with some Labatt draught & grab some Half Priced Apps.\nTrust me… they don’t call ’em Wicked Wednesday’s for nothin! \n**$13.50 Labatt pitcher consists of choice of Budweiser\, Bud Light\, or Alexander Keith. \n**1/2 priced appetizer offer excludes Nachos or Gang Platter and requires the purchase of a beverage.
URL:https://rihg.ca/event/13-50-pitchers-1-2-priced-apps-wicked-wednesday-2019-06-05/2026-04-29/
CATEGORIES:Hunter’s Ale House
END:VEVENT
BEGIN:VEVENT
DTSTART;TZID=America/Halifax:20260430T110000
DTEND;TZID=America/Halifax:20260430T150000
DTSTAMP:20260424T124333
CREATED:20251117T205637Z
LAST-MODIFIED:20251117T205830Z
UID:10019233-1777546800-1777561200@rihg.ca
SUMMARY:$13 Soup & Sandwich
DESCRIPTION:Enjoy our chef’s daily soup & sandwich creation. \nAvailable weekdays between 11 and 3 pm. \nPurchase of a beverage required. Dine-in only.
URL:https://rihg.ca/event/13-soup-sandwich/2026-04-30/
END:VEVENT
BEGIN:VEVENT
DTSTART;TZID=America/Halifax:20260430T140000
DTEND;TZID=America/Halifax:20260430T160000
DTSTAMP:20260424T124333
CREATED:20200603T190545Z
LAST-MODIFIED:20251224T162430Z
UID:10020387-1777557600-1777564800@rihg.ca
SUMMARY:Half-Priced Mussels
DESCRIPTION:From 2 until 4 p.m. every day of the week\, our succulent PEI mussels are 50% of the price but still 100% of the flavour! \nYour choice of: \n\nWhite wine & garlic\nCreamy pancetta\nSpicy arribiata\nSpinach & goat cheese
URL:https://rihg.ca/event/half-priced-mussels-2020-10-04/2026-04-30/
CATEGORIES:John Brown Grille
END:VEVENT
BEGIN:VEVENT
DTSTART;TZID=America/Halifax:20260430T170000
DTEND;TZID=America/Halifax:20260430T220000
DTSTAMP:20260424T124333
CREATED:20251117T201649Z
LAST-MODIFIED:20251117T201649Z
UID:10019025-1777568400-1777586400@rihg.ca
SUMMARY:$20 Steak Sandwich
DESCRIPTION:5oz tenderloin\, sautéed portobello mushrooms & Spanish onions\, served open-faced on a grilled crostini with demi sauce \nPurchase of a beverage required. Dine-in only.
URL:https://rihg.ca/event/20-steak-sandwich/2026-04-30/
CATEGORIES:John Brown Grille
END:VEVENT
BEGIN:VEVENT
DTSTART;TZID=America/Halifax:20260430T190000
DTEND;TZID=America/Halifax:20260430T190000
DTSTAMP:20260424T124333
CREATED:20251021T194915Z
LAST-MODIFIED:20251223T193742Z
UID:10019466-1777575600-1777575600@rihg.ca
SUMMARY:Darcy's Entertainment Trivia
DESCRIPTION:
URL:https://rihg.ca/event/darcys-entertainment-trivia-2/2026-04-30/
CATEGORIES:The Factory
END:VEVENT
BEGIN:VEVENT
DTSTART;TZID=America/Halifax:20260430T210000
DTEND;TZID=America/Halifax:20260430T210000
DTSTAMP:20260424T124333
CREATED:20200602T211925Z
LAST-MODIFIED:20251223T194603Z
UID:10019517-1777582800-1777582800@rihg.ca
SUMMARY:Entertainment Trivia with Darcy Campbell
DESCRIPTION:Wanna test your knowledge with our entertainment trivia night? There is high demand for seats for Charlottetown’s most popular Thursday night trivia so get here early to get a seat! \nThere are prizes for the top three teams\, plus tons of “wooden nickel” beer questions so make sure you bring some quarters along to play those as well. Redeem your Hunter’s wooden nickel for a domestic bottle beer or well shot\, or keep it as a souvenir!
URL:https://rihg.ca/event/entertainment-trivia-with-darcy-campbell-2/2026-04-30/
CATEGORIES:Hunter’s Ale House
END:VEVENT
BEGIN:VEVENT
DTSTART;TZID=America/Halifax:20260430T210000
DTEND;TZID=America/Halifax:20260430T210000
DTSTAMP:20260424T124333
CREATED:20201001T213045Z
LAST-MODIFIED:20251223T194723Z
UID:10019568-1777582800-1777582800@rihg.ca
SUMMARY:1/2 Priced Phillies
DESCRIPTION:Just in time for Thursday Night Entertainment Trivia\, we are offering every one of our massive Philly sandwiches for HALF-PRICE! \nThis offer does not include a side. But you can add one. But you probably won’t need to! \n*Dine-in only with beverage purchase required.
URL:https://rihg.ca/event/1-2-priced-phillies/2026-04-30/
CATEGORIES:Hunter’s Ale House
END:VEVENT
BEGIN:VEVENT
DTSTART;TZID=America/Halifax:20260430T220000
DTEND;TZID=America/Halifax:20260430T220000
DTSTAMP:20260424T124333
CREATED:20240527T154901Z
LAST-MODIFIED:20251224T165657Z
UID:10020035-1777586400-1777586400@rihg.ca
SUMMARY:Karaoke with Jack!
DESCRIPTION:Life is always interesting with Jack Day as our karaoke host. And we wouldn’t have it any other way! \nChannel your inner rockstar and take the stage by storm every Thursday night. \nSo many songs\, so little time…
URL:https://rihg.ca/event/karaoke-with-jack/2026-04-30/
CATEGORIES:The Factory
END:VEVENT
BEGIN:VEVENT
DTSTART;TZID=America/Halifax:20260430T220000
DTEND;TZID=America/Halifax:20260430T220000
DTSTAMP:20260424T124333
CREATED:20251021T174951Z
LAST-MODIFIED:20251224T165723Z
UID:10020087-1777586400-1777586400@rihg.ca
SUMMARY:Twisted Tea Student Night
DESCRIPTION:Start your weekend early with karaoke on the main floor and sweet deals on Twisted Tea! \n** TWO FOR TWELVE!!!  **  That’s TWO delicious Twisted Tea for just $12!!! \n \n  \n 
URL:https://rihg.ca/event/twisted-thursday-student-night/2026-04-30/
CATEGORIES:The Factory
ATTACH;FMTTYPE=image/png:https://rihg.ca/wp-content/uploads/2025/10/Twisted-Tea-Sun.png
END:VEVENT
BEGIN:VEVENT
DTSTART;TZID=America/Halifax:20260430T230000
DTEND;TZID=America/Halifax:20260430T230000
DTSTAMP:20260424T124333
CREATED:20260317T194831Z
LAST-MODIFIED:20260317T194831Z
UID:10020800-1777590000-1777590000@rihg.ca
SUMMARY:Matt & Adam
DESCRIPTION:
URL:https://rihg.ca/event/matt-adam-7/
CATEGORIES:Hunter’s Ale House
END:VEVENT
BEGIN:VEVENT
DTSTART;TZID=America/Halifax:20260501T110000
DTEND;TZID=America/Halifax:20260501T150000
DTSTAMP:20260424T124333
CREATED:20251117T205637Z
LAST-MODIFIED:20251117T205830Z
UID:10019234-1777633200-1777647600@rihg.ca
SUMMARY:$13 Soup & Sandwich
DESCRIPTION:Enjoy our chef’s daily soup & sandwich creation. \nAvailable weekdays between 11 and 3 pm. \nPurchase of a beverage required. Dine-in only.
URL:https://rihg.ca/event/13-soup-sandwich/2026-05-01/
END:VEVENT
BEGIN:VEVENT
DTSTART;TZID=America/Halifax:20260501T140000
DTEND;TZID=America/Halifax:20260501T160000
DTSTAMP:20260424T124333
CREATED:20200603T190545Z
LAST-MODIFIED:20251224T162430Z
UID:10020388-1777644000-1777651200@rihg.ca
SUMMARY:Half-Priced Mussels
DESCRIPTION:From 2 until 4 p.m. every day of the week\, our succulent PEI mussels are 50% of the price but still 100% of the flavour! \nYour choice of: \n\nWhite wine & garlic\nCreamy pancetta\nSpicy arribiata\nSpinach & goat cheese
URL:https://rihg.ca/event/half-priced-mussels-2020-10-04/2026-05-01/
CATEGORIES:John Brown Grille
END:VEVENT
BEGIN:VEVENT
DTSTART;TZID=America/Halifax:20260501T170000
DTEND;TZID=America/Halifax:20260501T220000
DTSTAMP:20260424T124333
CREATED:20251117T201423Z
LAST-MODIFIED:20251117T201518Z
UID:10019051-1777654800-1777672800@rihg.ca
SUMMARY:$15 Fish & Chips
DESCRIPTION:8oz haddock filet hand-dipped in our gluten free batter\, served with our dill tartar sauce \nPurchase of a beverage required. Dine-in only.
URL:https://rihg.ca/event/15-fish-chips/2026-05-01/
CATEGORIES:John Brown Grille
END:VEVENT
BEGIN:VEVENT
DTSTART;TZID=America/Halifax:20260501T210000
DTEND;TZID=America/Halifax:20260501T210000
DTSTAMP:20260424T124333
CREATED:20141210T153446Z
LAST-MODIFIED:20251223T194853Z
UID:10019619-1777669200-1777669200@rihg.ca
SUMMARY:Pitcher + Nachos = $27.99
DESCRIPTION:You get a pitcher & an order of nachos for only $27.99? Sounds like the combination of a good time to us! \n  \n**Special includes choice of a domestic Labatt product and an order of regular Hunter’s nachos.
URL:https://rihg.ca/event/pitcher-nachos-24-99-2015-09-04-2016-05-06-2016-06-03-2016-09-02-2016-11-04-2017-06-23-2018-10-05-2019-06-07/2026-05-01/
CATEGORIES:Hunter’s Ale House
END:VEVENT
BEGIN:VEVENT
DTSTART;TZID=America/Halifax:20260501T210000
DTEND;TZID=America/Halifax:20260501T210000
DTSTAMP:20260424T124333
CREATED:20260416T195959Z
LAST-MODIFIED:20260416T195959Z
UID:10021276-1777669200-1777669200@rihg.ca
SUMMARY:DJ Douce
DESCRIPTION:
URL:https://rihg.ca/event/dj-douce-39/
CATEGORIES:The Factory
END:VEVENT
BEGIN:VEVENT
DTSTART;TZID=America/Halifax:20260501T220000
DTEND;TZID=America/Halifax:20260501T220000
DTSTAMP:20260424T124333
CREATED:20230907T202019Z
LAST-MODIFIED:20251223T200002Z
UID:10020105-1777672800-1777672800@rihg.ca
SUMMARY:Blue Lobster Refresh Friday
DESCRIPTION:Recharge after your week with a night of fun\, dancing and drink specials! \nEvery Friday there is a DJ on the main floor stage and we feature drink specials on Blue Lobster products: \n\nBlue Lobster Canned Cocktails\nBlue Lobster Seltzers\nOur special Blue Lobster shooter: THE PINK LOBSTER\n\nThis Blue’s For You!
URL:https://rihg.ca/event/refresh-friday/2026-05-01/
CATEGORIES:The Factory
END:VEVENT
BEGIN:VEVENT
DTSTART;TZID=America/Halifax:20260501T220000
DTEND;TZID=America/Halifax:20260501T220000
DTSTAMP:20260424T124333
CREATED:20260416T202932Z
LAST-MODIFIED:20260422T170858Z
UID:10021287-1777672800-1777672800@rihg.ca
SUMMARY:Hunter's Corner VIP Card Night
DESCRIPTION: HUNTER’S CORNER VIP CARD NIGHT \nGet ready to kick off summer the right way \n\nJoin us on Friday\, May 1st\, at The Factory for an exclusive VIP Card Night hosted by Hot 105.5 — your chance to lock in FREE cover all summer long across Hunter’s Corner!\n\n VIP CARD DETAILSPurchase your $20 VIP Card and receive: FREE cover at Hunter’s Ale House FREE cover at The Factory FREE cover at The Beer Garden Valid for the entire summer Effective immediately upon purchase Excludes special ticketed events\n\n WHAT TO EXPECT• Live on-site hosting by Hot 105.5• High-energy atmosphere to kick off patio season• Giveaways & prizes happening at midnight• First chance to secure your VIP access before the crowds\n\nWhether you’re planning your weekends now or just love skipping cover\, this is a no-brainer.\n Location: The Factory Downtown Date: Friday\, May 1st\, 10pm to midnight only! Cost: For the first 100 people\, 50% of $20 VIP Card = $10\, after that it’s $20 for FREE cover for the entire summer!!!\n\n**Limited amount available** Get yours while they last!\nDon’t miss your chance to make this your best summer yet at Hunter’s Corner \n\n#CharlottetownEvents #PEINightlife #SummerStartsHere #VIPAccess #HuntersCorner
URL:https://rihg.ca/event/hunters-corner-vip-card-night-2/
CATEGORIES:The Factory
END:VEVENT
BEGIN:VEVENT
DTSTART;TZID=America/Halifax:20260501T230000
DTEND;TZID=America/Halifax:20260501T230000
DTSTAMP:20260424T124333
CREATED:20260414T185449Z
LAST-MODIFIED:20260414T185449Z
UID:10020822-1777676400-1777676400@rihg.ca
SUMMARY:Liam & Adam
DESCRIPTION:
URL:https://rihg.ca/event/liam-adam/
CATEGORIES:Hunter’s Ale House
END:VEVENT
BEGIN:VEVENT
DTSTART;TZID=America/Halifax:20260502T140000
DTEND;TZID=America/Halifax:20260502T160000
DTSTAMP:20260424T124333
CREATED:20200603T190545Z
LAST-MODIFIED:20251224T162430Z
UID:10020389-1777730400-1777737600@rihg.ca
SUMMARY:Half-Priced Mussels
DESCRIPTION:From 2 until 4 p.m. every day of the week\, our succulent PEI mussels are 50% of the price but still 100% of the flavour! \nYour choice of: \n\nWhite wine & garlic\nCreamy pancetta\nSpicy arribiata\nSpinach & goat cheese
URL:https://rihg.ca/event/half-priced-mussels-2020-10-04/2026-05-02/
CATEGORIES:John Brown Grille
END:VEVENT
BEGIN:VEVENT
DTSTART;TZID=America/Halifax:20260502T170000
DTEND;TZID=America/Halifax:20260502T220000
DTSTAMP:20260424T124333
CREATED:20251117T202452Z
LAST-MODIFIED:20251117T202452Z
UID:10019078-1777741200-1777759200@rihg.ca
SUMMARY:Half-Priced Nachos
DESCRIPTION:Your choice of John Brown’s Classic or Southwest Nachos for half-price? Sold! \nPurchase of a beverage required. Dine-in only.
URL:https://rihg.ca/event/half-priced-nachos/2026-05-02/
CATEGORIES:John Brown Grille
END:VEVENT
END:VCALENDAR