BEGIN:VCALENDAR
VERSION:2.0
PRODID:-//Red Island Hospitality Group Inc. - ECPv6.15.20//NONSGML v1.0//EN
CALSCALE:GREGORIAN
METHOD:PUBLISH
X-WR-CALNAME:Red Island Hospitality Group Inc.
X-ORIGINAL-URL:https://rihg.ca
X-WR-CALDESC:Events for Red Island Hospitality Group Inc.
REFRESH-INTERVAL;VALUE=DURATION:PT1H
X-Robots-Tag:noindex
X-PUBLISHED-TTL:PT1H
BEGIN:VTIMEZONE
TZID:America/Halifax
BEGIN:DAYLIGHT
TZOFFSETFROM:-0400
TZOFFSETTO:-0300
TZNAME:ADT
DTSTART:20250309T060000
END:DAYLIGHT
BEGIN:STANDARD
TZOFFSETFROM:-0300
TZOFFSETTO:-0400
TZNAME:AST
DTSTART:20251102T050000
END:STANDARD
BEGIN:DAYLIGHT
TZOFFSETFROM:-0400
TZOFFSETTO:-0300
TZNAME:ADT
DTSTART:20260308T060000
END:DAYLIGHT
BEGIN:STANDARD
TZOFFSETFROM:-0300
TZOFFSETTO:-0400
TZNAME:AST
DTSTART:20261101T050000
END:STANDARD
BEGIN:DAYLIGHT
TZOFFSETFROM:-0400
TZOFFSETTO:-0300
TZNAME:ADT
DTSTART:20270314T060000
END:DAYLIGHT
BEGIN:STANDARD
TZOFFSETFROM:-0300
TZOFFSETTO:-0400
TZNAME:AST
DTSTART:20271107T050000
END:STANDARD
END:VTIMEZONE
BEGIN:VEVENT
DTSTART;TZID=America/Halifax:20260429T200000
DTEND;TZID=America/Halifax:20260429T200000
DTSTAMP:20260423T215444
CREATED:20220707T145443Z
LAST-MODIFIED:20251223T192918Z
UID:10019384-1777492800-1777492800@rihg.ca
SUMMARY:$13.50 Pitchers + 1/2 Priced Apps = Wicked Wednesday
DESCRIPTION:Lookin’ for something to do this Hump? Kick back with some Moosehead draught & grab some Half Priced Apps.\nTrust me… they don’t call ’em Wicked Wednesday’s for nothin! \n**$13.50 Labatt pitcher consists of choice of Budweiser\, Bud Light\, or Alexander Keith IPA. \n**1/2 priced appetizer offer excludes Game Day Platter and requires the purchase of a beverage.
URL:https://rihg.ca/event/10-99-pitchers-1-2-priced-apps-wicked-wednesday/2026-04-29/
CATEGORIES:The Factory
END:VEVENT
BEGIN:VEVENT
DTSTART;TZID=America/Halifax:20260506T200000
DTEND;TZID=America/Halifax:20260506T200000
DTSTAMP:20260423T215444
CREATED:20220707T145443Z
LAST-MODIFIED:20251223T192918Z
UID:10019385-1778097600-1778097600@rihg.ca
SUMMARY:$13.50 Pitchers + 1/2 Priced Apps = Wicked Wednesday
DESCRIPTION:Lookin’ for something to do this Hump? Kick back with some Moosehead draught & grab some Half Priced Apps.\nTrust me… they don’t call ’em Wicked Wednesday’s for nothin! \n**$13.50 Labatt pitcher consists of choice of Budweiser\, Bud Light\, or Alexander Keith IPA. \n**1/2 priced appetizer offer excludes Game Day Platter and requires the purchase of a beverage.
URL:https://rihg.ca/event/10-99-pitchers-1-2-priced-apps-wicked-wednesday/2026-05-06/
CATEGORIES:The Factory
END:VEVENT
BEGIN:VEVENT
DTSTART;TZID=America/Halifax:20260513T200000
DTEND;TZID=America/Halifax:20260513T200000
DTSTAMP:20260423T215444
CREATED:20220707T145443Z
LAST-MODIFIED:20251223T192918Z
UID:10019386-1778702400-1778702400@rihg.ca
SUMMARY:$13.50 Pitchers + 1/2 Priced Apps = Wicked Wednesday
DESCRIPTION:Lookin’ for something to do this Hump? Kick back with some Moosehead draught & grab some Half Priced Apps.\nTrust me… they don’t call ’em Wicked Wednesday’s for nothin! \n**$13.50 Labatt pitcher consists of choice of Budweiser\, Bud Light\, or Alexander Keith IPA. \n**1/2 priced appetizer offer excludes Game Day Platter and requires the purchase of a beverage.
URL:https://rihg.ca/event/10-99-pitchers-1-2-priced-apps-wicked-wednesday/2026-05-13/
CATEGORIES:The Factory
END:VEVENT
BEGIN:VEVENT
DTSTART;TZID=America/Halifax:20260520T200000
DTEND;TZID=America/Halifax:20260520T200000
DTSTAMP:20260423T215444
CREATED:20220707T145443Z
LAST-MODIFIED:20251223T192918Z
UID:10019387-1779307200-1779307200@rihg.ca
SUMMARY:$13.50 Pitchers + 1/2 Priced Apps = Wicked Wednesday
DESCRIPTION:Lookin’ for something to do this Hump? Kick back with some Moosehead draught & grab some Half Priced Apps.\nTrust me… they don’t call ’em Wicked Wednesday’s for nothin! \n**$13.50 Labatt pitcher consists of choice of Budweiser\, Bud Light\, or Alexander Keith IPA. \n**1/2 priced appetizer offer excludes Game Day Platter and requires the purchase of a beverage.
URL:https://rihg.ca/event/10-99-pitchers-1-2-priced-apps-wicked-wednesday/2026-05-20/
CATEGORIES:The Factory
END:VEVENT
BEGIN:VEVENT
DTSTART;TZID=America/Halifax:20260527T200000
DTEND;TZID=America/Halifax:20260527T200000
DTSTAMP:20260423T215444
CREATED:20220707T145443Z
LAST-MODIFIED:20251223T192918Z
UID:10019388-1779912000-1779912000@rihg.ca
SUMMARY:$13.50 Pitchers + 1/2 Priced Apps = Wicked Wednesday
DESCRIPTION:Lookin’ for something to do this Hump? Kick back with some Moosehead draught & grab some Half Priced Apps.\nTrust me… they don’t call ’em Wicked Wednesday’s for nothin! \n**$13.50 Labatt pitcher consists of choice of Budweiser\, Bud Light\, or Alexander Keith IPA. \n**1/2 priced appetizer offer excludes Game Day Platter and requires the purchase of a beverage.
URL:https://rihg.ca/event/10-99-pitchers-1-2-priced-apps-wicked-wednesday/2026-05-27/
CATEGORIES:The Factory
END:VEVENT
BEGIN:VEVENT
DTSTART;TZID=America/Halifax:20260603T200000
DTEND;TZID=America/Halifax:20260603T200000
DTSTAMP:20260423T215444
CREATED:20220707T145443Z
LAST-MODIFIED:20251223T192918Z
UID:10019389-1780516800-1780516800@rihg.ca
SUMMARY:$13.50 Pitchers + 1/2 Priced Apps = Wicked Wednesday
DESCRIPTION:Lookin’ for something to do this Hump? Kick back with some Moosehead draught & grab some Half Priced Apps.\nTrust me… they don’t call ’em Wicked Wednesday’s for nothin! \n**$13.50 Labatt pitcher consists of choice of Budweiser\, Bud Light\, or Alexander Keith IPA. \n**1/2 priced appetizer offer excludes Game Day Platter and requires the purchase of a beverage.
URL:https://rihg.ca/event/10-99-pitchers-1-2-priced-apps-wicked-wednesday/2026-06-03/
CATEGORIES:The Factory
END:VEVENT
BEGIN:VEVENT
DTSTART;TZID=America/Halifax:20260610T200000
DTEND;TZID=America/Halifax:20260610T200000
DTSTAMP:20260423T215444
CREATED:20220707T145443Z
LAST-MODIFIED:20251223T192918Z
UID:10019390-1781121600-1781121600@rihg.ca
SUMMARY:$13.50 Pitchers + 1/2 Priced Apps = Wicked Wednesday
DESCRIPTION:Lookin’ for something to do this Hump? Kick back with some Moosehead draught & grab some Half Priced Apps.\nTrust me… they don’t call ’em Wicked Wednesday’s for nothin! \n**$13.50 Labatt pitcher consists of choice of Budweiser\, Bud Light\, or Alexander Keith IPA. \n**1/2 priced appetizer offer excludes Game Day Platter and requires the purchase of a beverage.
URL:https://rihg.ca/event/10-99-pitchers-1-2-priced-apps-wicked-wednesday/2026-06-10/
CATEGORIES:The Factory
END:VEVENT
BEGIN:VEVENT
DTSTART;TZID=America/Halifax:20260617T200000
DTEND;TZID=America/Halifax:20260617T200000
DTSTAMP:20260423T215444
CREATED:20220707T145443Z
LAST-MODIFIED:20251223T192918Z
UID:10019391-1781726400-1781726400@rihg.ca
SUMMARY:$13.50 Pitchers + 1/2 Priced Apps = Wicked Wednesday
DESCRIPTION:Lookin’ for something to do this Hump? Kick back with some Moosehead draught & grab some Half Priced Apps.\nTrust me… they don’t call ’em Wicked Wednesday’s for nothin! \n**$13.50 Labatt pitcher consists of choice of Budweiser\, Bud Light\, or Alexander Keith IPA. \n**1/2 priced appetizer offer excludes Game Day Platter and requires the purchase of a beverage.
URL:https://rihg.ca/event/10-99-pitchers-1-2-priced-apps-wicked-wednesday/2026-06-17/
CATEGORIES:The Factory
END:VEVENT
BEGIN:VEVENT
DTSTART;TZID=America/Halifax:20260624T200000
DTEND;TZID=America/Halifax:20260624T200000
DTSTAMP:20260423T215444
CREATED:20220707T145443Z
LAST-MODIFIED:20251223T192918Z
UID:10019392-1782331200-1782331200@rihg.ca
SUMMARY:$13.50 Pitchers + 1/2 Priced Apps = Wicked Wednesday
DESCRIPTION:Lookin’ for something to do this Hump? Kick back with some Moosehead draught & grab some Half Priced Apps.\nTrust me… they don’t call ’em Wicked Wednesday’s for nothin! \n**$13.50 Labatt pitcher consists of choice of Budweiser\, Bud Light\, or Alexander Keith IPA. \n**1/2 priced appetizer offer excludes Game Day Platter and requires the purchase of a beverage.
URL:https://rihg.ca/event/10-99-pitchers-1-2-priced-apps-wicked-wednesday/2026-06-24/
CATEGORIES:The Factory
END:VEVENT
BEGIN:VEVENT
DTSTART;TZID=America/Halifax:20260701T200000
DTEND;TZID=America/Halifax:20260701T200000
DTSTAMP:20260423T215444
CREATED:20220707T145443Z
LAST-MODIFIED:20251223T192918Z
UID:10019393-1782936000-1782936000@rihg.ca
SUMMARY:$13.50 Pitchers + 1/2 Priced Apps = Wicked Wednesday
DESCRIPTION:Lookin’ for something to do this Hump? Kick back with some Moosehead draught & grab some Half Priced Apps.\nTrust me… they don’t call ’em Wicked Wednesday’s for nothin! \n**$13.50 Labatt pitcher consists of choice of Budweiser\, Bud Light\, or Alexander Keith IPA. \n**1/2 priced appetizer offer excludes Game Day Platter and requires the purchase of a beverage.
URL:https://rihg.ca/event/10-99-pitchers-1-2-priced-apps-wicked-wednesday/2026-07-01/
CATEGORIES:The Factory
END:VEVENT
BEGIN:VEVENT
DTSTART;TZID=America/Halifax:20260708T200000
DTEND;TZID=America/Halifax:20260708T200000
DTSTAMP:20260423T215444
CREATED:20220707T145443Z
LAST-MODIFIED:20251223T192918Z
UID:10019394-1783540800-1783540800@rihg.ca
SUMMARY:$13.50 Pitchers + 1/2 Priced Apps = Wicked Wednesday
DESCRIPTION:Lookin’ for something to do this Hump? Kick back with some Moosehead draught & grab some Half Priced Apps.\nTrust me… they don’t call ’em Wicked Wednesday’s for nothin! \n**$13.50 Labatt pitcher consists of choice of Budweiser\, Bud Light\, or Alexander Keith IPA. \n**1/2 priced appetizer offer excludes Game Day Platter and requires the purchase of a beverage.
URL:https://rihg.ca/event/10-99-pitchers-1-2-priced-apps-wicked-wednesday/2026-07-08/
CATEGORIES:The Factory
END:VEVENT
BEGIN:VEVENT
DTSTART;TZID=America/Halifax:20260715T200000
DTEND;TZID=America/Halifax:20260715T200000
DTSTAMP:20260423T215444
CREATED:20220707T145443Z
LAST-MODIFIED:20251223T192918Z
UID:10019395-1784145600-1784145600@rihg.ca
SUMMARY:$13.50 Pitchers + 1/2 Priced Apps = Wicked Wednesday
DESCRIPTION:Lookin’ for something to do this Hump? Kick back with some Moosehead draught & grab some Half Priced Apps.\nTrust me… they don’t call ’em Wicked Wednesday’s for nothin! \n**$13.50 Labatt pitcher consists of choice of Budweiser\, Bud Light\, or Alexander Keith IPA. \n**1/2 priced appetizer offer excludes Game Day Platter and requires the purchase of a beverage.
URL:https://rihg.ca/event/10-99-pitchers-1-2-priced-apps-wicked-wednesday/2026-07-15/
CATEGORIES:The Factory
END:VEVENT
BEGIN:VEVENT
DTSTART;TZID=America/Halifax:20260722T200000
DTEND;TZID=America/Halifax:20260722T200000
DTSTAMP:20260423T215444
CREATED:20220707T145443Z
LAST-MODIFIED:20251223T192918Z
UID:10019396-1784750400-1784750400@rihg.ca
SUMMARY:$13.50 Pitchers + 1/2 Priced Apps = Wicked Wednesday
DESCRIPTION:Lookin’ for something to do this Hump? Kick back with some Moosehead draught & grab some Half Priced Apps.\nTrust me… they don’t call ’em Wicked Wednesday’s for nothin! \n**$13.50 Labatt pitcher consists of choice of Budweiser\, Bud Light\, or Alexander Keith IPA. \n**1/2 priced appetizer offer excludes Game Day Platter and requires the purchase of a beverage.
URL:https://rihg.ca/event/10-99-pitchers-1-2-priced-apps-wicked-wednesday/2026-07-22/
CATEGORIES:The Factory
END:VEVENT
BEGIN:VEVENT
DTSTART;TZID=America/Halifax:20260729T200000
DTEND;TZID=America/Halifax:20260729T200000
DTSTAMP:20260423T215444
CREATED:20220707T145443Z
LAST-MODIFIED:20251223T192918Z
UID:10019397-1785355200-1785355200@rihg.ca
SUMMARY:$13.50 Pitchers + 1/2 Priced Apps = Wicked Wednesday
DESCRIPTION:Lookin’ for something to do this Hump? Kick back with some Moosehead draught & grab some Half Priced Apps.\nTrust me… they don’t call ’em Wicked Wednesday’s for nothin! \n**$13.50 Labatt pitcher consists of choice of Budweiser\, Bud Light\, or Alexander Keith IPA. \n**1/2 priced appetizer offer excludes Game Day Platter and requires the purchase of a beverage.
URL:https://rihg.ca/event/10-99-pitchers-1-2-priced-apps-wicked-wednesday/2026-07-29/
CATEGORIES:The Factory
END:VEVENT
BEGIN:VEVENT
DTSTART;TZID=America/Halifax:20260805T200000
DTEND;TZID=America/Halifax:20260805T200000
DTSTAMP:20260423T215444
CREATED:20220707T145443Z
LAST-MODIFIED:20251223T192918Z
UID:10019398-1785960000-1785960000@rihg.ca
SUMMARY:$13.50 Pitchers + 1/2 Priced Apps = Wicked Wednesday
DESCRIPTION:Lookin’ for something to do this Hump? Kick back with some Moosehead draught & grab some Half Priced Apps.\nTrust me… they don’t call ’em Wicked Wednesday’s for nothin! \n**$13.50 Labatt pitcher consists of choice of Budweiser\, Bud Light\, or Alexander Keith IPA. \n**1/2 priced appetizer offer excludes Game Day Platter and requires the purchase of a beverage.
URL:https://rihg.ca/event/10-99-pitchers-1-2-priced-apps-wicked-wednesday/2026-08-05/
CATEGORIES:The Factory
END:VEVENT
BEGIN:VEVENT
DTSTART;TZID=America/Halifax:20260812T200000
DTEND;TZID=America/Halifax:20260812T200000
DTSTAMP:20260423T215444
CREATED:20220707T145443Z
LAST-MODIFIED:20251223T192918Z
UID:10019399-1786564800-1786564800@rihg.ca
SUMMARY:$13.50 Pitchers + 1/2 Priced Apps = Wicked Wednesday
DESCRIPTION:Lookin’ for something to do this Hump? Kick back with some Moosehead draught & grab some Half Priced Apps.\nTrust me… they don’t call ’em Wicked Wednesday’s for nothin! \n**$13.50 Labatt pitcher consists of choice of Budweiser\, Bud Light\, or Alexander Keith IPA. \n**1/2 priced appetizer offer excludes Game Day Platter and requires the purchase of a beverage.
URL:https://rihg.ca/event/10-99-pitchers-1-2-priced-apps-wicked-wednesday/2026-08-12/
CATEGORIES:The Factory
END:VEVENT
BEGIN:VEVENT
DTSTART;TZID=America/Halifax:20260819T200000
DTEND;TZID=America/Halifax:20260819T200000
DTSTAMP:20260423T215444
CREATED:20220707T145443Z
LAST-MODIFIED:20251223T192918Z
UID:10019400-1787169600-1787169600@rihg.ca
SUMMARY:$13.50 Pitchers + 1/2 Priced Apps = Wicked Wednesday
DESCRIPTION:Lookin’ for something to do this Hump? Kick back with some Moosehead draught & grab some Half Priced Apps.\nTrust me… they don’t call ’em Wicked Wednesday’s for nothin! \n**$13.50 Labatt pitcher consists of choice of Budweiser\, Bud Light\, or Alexander Keith IPA. \n**1/2 priced appetizer offer excludes Game Day Platter and requires the purchase of a beverage.
URL:https://rihg.ca/event/10-99-pitchers-1-2-priced-apps-wicked-wednesday/2026-08-19/
CATEGORIES:The Factory
END:VEVENT
BEGIN:VEVENT
DTSTART;TZID=America/Halifax:20260826T200000
DTEND;TZID=America/Halifax:20260826T200000
DTSTAMP:20260423T215444
CREATED:20220707T145443Z
LAST-MODIFIED:20251223T192918Z
UID:10019401-1787774400-1787774400@rihg.ca
SUMMARY:$13.50 Pitchers + 1/2 Priced Apps = Wicked Wednesday
DESCRIPTION:Lookin’ for something to do this Hump? Kick back with some Moosehead draught & grab some Half Priced Apps.\nTrust me… they don’t call ’em Wicked Wednesday’s for nothin! \n**$13.50 Labatt pitcher consists of choice of Budweiser\, Bud Light\, or Alexander Keith IPA. \n**1/2 priced appetizer offer excludes Game Day Platter and requires the purchase of a beverage.
URL:https://rihg.ca/event/10-99-pitchers-1-2-priced-apps-wicked-wednesday/2026-08-26/
CATEGORIES:The Factory
END:VEVENT
BEGIN:VEVENT
DTSTART;TZID=America/Halifax:20260902T200000
DTEND;TZID=America/Halifax:20260902T200000
DTSTAMP:20260423T215444
CREATED:20220707T145443Z
LAST-MODIFIED:20251223T192918Z
UID:10019402-1788379200-1788379200@rihg.ca
SUMMARY:$13.50 Pitchers + 1/2 Priced Apps = Wicked Wednesday
DESCRIPTION:Lookin’ for something to do this Hump? Kick back with some Moosehead draught & grab some Half Priced Apps.\nTrust me… they don’t call ’em Wicked Wednesday’s for nothin! \n**$13.50 Labatt pitcher consists of choice of Budweiser\, Bud Light\, or Alexander Keith IPA. \n**1/2 priced appetizer offer excludes Game Day Platter and requires the purchase of a beverage.
URL:https://rihg.ca/event/10-99-pitchers-1-2-priced-apps-wicked-wednesday/2026-09-02/
CATEGORIES:The Factory
END:VEVENT
BEGIN:VEVENT
DTSTART;TZID=America/Halifax:20260909T200000
DTEND;TZID=America/Halifax:20260909T200000
DTSTAMP:20260423T215444
CREATED:20220707T145443Z
LAST-MODIFIED:20251223T192918Z
UID:10019403-1788984000-1788984000@rihg.ca
SUMMARY:$13.50 Pitchers + 1/2 Priced Apps = Wicked Wednesday
DESCRIPTION:Lookin’ for something to do this Hump? Kick back with some Moosehead draught & grab some Half Priced Apps.\nTrust me… they don’t call ’em Wicked Wednesday’s for nothin! \n**$13.50 Labatt pitcher consists of choice of Budweiser\, Bud Light\, or Alexander Keith IPA. \n**1/2 priced appetizer offer excludes Game Day Platter and requires the purchase of a beverage.
URL:https://rihg.ca/event/10-99-pitchers-1-2-priced-apps-wicked-wednesday/2026-09-09/
CATEGORIES:The Factory
END:VEVENT
BEGIN:VEVENT
DTSTART;TZID=America/Halifax:20260916T200000
DTEND;TZID=America/Halifax:20260916T200000
DTSTAMP:20260423T215444
CREATED:20220707T145443Z
LAST-MODIFIED:20251223T192918Z
UID:10019404-1789588800-1789588800@rihg.ca
SUMMARY:$13.50 Pitchers + 1/2 Priced Apps = Wicked Wednesday
DESCRIPTION:Lookin’ for something to do this Hump? Kick back with some Moosehead draught & grab some Half Priced Apps.\nTrust me… they don’t call ’em Wicked Wednesday’s for nothin! \n**$13.50 Labatt pitcher consists of choice of Budweiser\, Bud Light\, or Alexander Keith IPA. \n**1/2 priced appetizer offer excludes Game Day Platter and requires the purchase of a beverage.
URL:https://rihg.ca/event/10-99-pitchers-1-2-priced-apps-wicked-wednesday/2026-09-16/
CATEGORIES:The Factory
END:VEVENT
BEGIN:VEVENT
DTSTART;TZID=America/Halifax:20260923T200000
DTEND;TZID=America/Halifax:20260923T200000
DTSTAMP:20260423T215444
CREATED:20220707T145443Z
LAST-MODIFIED:20251223T192918Z
UID:10019405-1790193600-1790193600@rihg.ca
SUMMARY:$13.50 Pitchers + 1/2 Priced Apps = Wicked Wednesday
DESCRIPTION:Lookin’ for something to do this Hump? Kick back with some Moosehead draught & grab some Half Priced Apps.\nTrust me… they don’t call ’em Wicked Wednesday’s for nothin! \n**$13.50 Labatt pitcher consists of choice of Budweiser\, Bud Light\, or Alexander Keith IPA. \n**1/2 priced appetizer offer excludes Game Day Platter and requires the purchase of a beverage.
URL:https://rihg.ca/event/10-99-pitchers-1-2-priced-apps-wicked-wednesday/2026-09-23/
CATEGORIES:The Factory
END:VEVENT
BEGIN:VEVENT
DTSTART;TZID=America/Halifax:20260930T200000
DTEND;TZID=America/Halifax:20260930T200000
DTSTAMP:20260423T215444
CREATED:20220707T145443Z
LAST-MODIFIED:20251223T192918Z
UID:10019406-1790798400-1790798400@rihg.ca
SUMMARY:$13.50 Pitchers + 1/2 Priced Apps = Wicked Wednesday
DESCRIPTION:Lookin’ for something to do this Hump? Kick back with some Moosehead draught & grab some Half Priced Apps.\nTrust me… they don’t call ’em Wicked Wednesday’s for nothin! \n**$13.50 Labatt pitcher consists of choice of Budweiser\, Bud Light\, or Alexander Keith IPA. \n**1/2 priced appetizer offer excludes Game Day Platter and requires the purchase of a beverage.
URL:https://rihg.ca/event/10-99-pitchers-1-2-priced-apps-wicked-wednesday/2026-09-30/
CATEGORIES:The Factory
END:VEVENT
BEGIN:VEVENT
DTSTART;TZID=America/Halifax:20261007T200000
DTEND;TZID=America/Halifax:20261007T200000
DTSTAMP:20260423T215444
CREATED:20220707T145443Z
LAST-MODIFIED:20251223T192918Z
UID:10019407-1791403200-1791403200@rihg.ca
SUMMARY:$13.50 Pitchers + 1/2 Priced Apps = Wicked Wednesday
DESCRIPTION:Lookin’ for something to do this Hump? Kick back with some Moosehead draught & grab some Half Priced Apps.\nTrust me… they don’t call ’em Wicked Wednesday’s for nothin! \n**$13.50 Labatt pitcher consists of choice of Budweiser\, Bud Light\, or Alexander Keith IPA. \n**1/2 priced appetizer offer excludes Game Day Platter and requires the purchase of a beverage.
URL:https://rihg.ca/event/10-99-pitchers-1-2-priced-apps-wicked-wednesday/2026-10-07/
CATEGORIES:The Factory
END:VEVENT
BEGIN:VEVENT
DTSTART;TZID=America/Halifax:20261014T200000
DTEND;TZID=America/Halifax:20261014T200000
DTSTAMP:20260423T215444
CREATED:20220707T145443Z
LAST-MODIFIED:20251223T192918Z
UID:10019408-1792008000-1792008000@rihg.ca
SUMMARY:$13.50 Pitchers + 1/2 Priced Apps = Wicked Wednesday
DESCRIPTION:Lookin’ for something to do this Hump? Kick back with some Moosehead draught & grab some Half Priced Apps.\nTrust me… they don’t call ’em Wicked Wednesday’s for nothin! \n**$13.50 Labatt pitcher consists of choice of Budweiser\, Bud Light\, or Alexander Keith IPA. \n**1/2 priced appetizer offer excludes Game Day Platter and requires the purchase of a beverage.
URL:https://rihg.ca/event/10-99-pitchers-1-2-priced-apps-wicked-wednesday/2026-10-14/
CATEGORIES:The Factory
END:VEVENT
BEGIN:VEVENT
DTSTART;TZID=America/Halifax:20261021T200000
DTEND;TZID=America/Halifax:20261021T200000
DTSTAMP:20260423T215444
CREATED:20220707T145443Z
LAST-MODIFIED:20251223T192918Z
UID:10019409-1792612800-1792612800@rihg.ca
SUMMARY:$13.50 Pitchers + 1/2 Priced Apps = Wicked Wednesday
DESCRIPTION:Lookin’ for something to do this Hump? Kick back with some Moosehead draught & grab some Half Priced Apps.\nTrust me… they don’t call ’em Wicked Wednesday’s for nothin! \n**$13.50 Labatt pitcher consists of choice of Budweiser\, Bud Light\, or Alexander Keith IPA. \n**1/2 priced appetizer offer excludes Game Day Platter and requires the purchase of a beverage.
URL:https://rihg.ca/event/10-99-pitchers-1-2-priced-apps-wicked-wednesday/2026-10-21/
CATEGORIES:The Factory
END:VEVENT
BEGIN:VEVENT
DTSTART;TZID=America/Halifax:20261028T200000
DTEND;TZID=America/Halifax:20261028T200000
DTSTAMP:20260423T215444
CREATED:20220707T145443Z
LAST-MODIFIED:20251223T192918Z
UID:10019410-1793217600-1793217600@rihg.ca
SUMMARY:$13.50 Pitchers + 1/2 Priced Apps = Wicked Wednesday
DESCRIPTION:Lookin’ for something to do this Hump? Kick back with some Moosehead draught & grab some Half Priced Apps.\nTrust me… they don’t call ’em Wicked Wednesday’s for nothin! \n**$13.50 Labatt pitcher consists of choice of Budweiser\, Bud Light\, or Alexander Keith IPA. \n**1/2 priced appetizer offer excludes Game Day Platter and requires the purchase of a beverage.
URL:https://rihg.ca/event/10-99-pitchers-1-2-priced-apps-wicked-wednesday/2026-10-28/
CATEGORIES:The Factory
END:VEVENT
BEGIN:VEVENT
DTSTART;TZID=America/Halifax:20261104T200000
DTEND;TZID=America/Halifax:20261104T200000
DTSTAMP:20260423T215444
CREATED:20220707T145443Z
LAST-MODIFIED:20251223T192918Z
UID:10019411-1793822400-1793822400@rihg.ca
SUMMARY:$13.50 Pitchers + 1/2 Priced Apps = Wicked Wednesday
DESCRIPTION:Lookin’ for something to do this Hump? Kick back with some Moosehead draught & grab some Half Priced Apps.\nTrust me… they don’t call ’em Wicked Wednesday’s for nothin! \n**$13.50 Labatt pitcher consists of choice of Budweiser\, Bud Light\, or Alexander Keith IPA. \n**1/2 priced appetizer offer excludes Game Day Platter and requires the purchase of a beverage.
URL:https://rihg.ca/event/10-99-pitchers-1-2-priced-apps-wicked-wednesday/2026-11-04/
CATEGORIES:The Factory
END:VEVENT
BEGIN:VEVENT
DTSTART;TZID=America/Halifax:20261111T200000
DTEND;TZID=America/Halifax:20261111T200000
DTSTAMP:20260423T215444
CREATED:20220707T145443Z
LAST-MODIFIED:20251223T192918Z
UID:10019412-1794427200-1794427200@rihg.ca
SUMMARY:$13.50 Pitchers + 1/2 Priced Apps = Wicked Wednesday
DESCRIPTION:Lookin’ for something to do this Hump? Kick back with some Moosehead draught & grab some Half Priced Apps.\nTrust me… they don’t call ’em Wicked Wednesday’s for nothin! \n**$13.50 Labatt pitcher consists of choice of Budweiser\, Bud Light\, or Alexander Keith IPA. \n**1/2 priced appetizer offer excludes Game Day Platter and requires the purchase of a beverage.
URL:https://rihg.ca/event/10-99-pitchers-1-2-priced-apps-wicked-wednesday/2026-11-11/
CATEGORIES:The Factory
END:VEVENT
BEGIN:VEVENT
DTSTART;TZID=America/Halifax:20261118T200000
DTEND;TZID=America/Halifax:20261118T200000
DTSTAMP:20260423T215444
CREATED:20220707T145443Z
LAST-MODIFIED:20251223T192918Z
UID:10019413-1795032000-1795032000@rihg.ca
SUMMARY:$13.50 Pitchers + 1/2 Priced Apps = Wicked Wednesday
DESCRIPTION:Lookin’ for something to do this Hump? Kick back with some Moosehead draught & grab some Half Priced Apps.\nTrust me… they don’t call ’em Wicked Wednesday’s for nothin! \n**$13.50 Labatt pitcher consists of choice of Budweiser\, Bud Light\, or Alexander Keith IPA. \n**1/2 priced appetizer offer excludes Game Day Platter and requires the purchase of a beverage.
URL:https://rihg.ca/event/10-99-pitchers-1-2-priced-apps-wicked-wednesday/2026-11-18/
CATEGORIES:The Factory
END:VEVENT
END:VCALENDAR