BEGIN:VCALENDAR
VERSION:2.0
PRODID:-//Red Island Hospitality Group Inc. - ECPv6.15.20//NONSGML v1.0//EN
CALSCALE:GREGORIAN
METHOD:PUBLISH
X-WR-CALNAME:Red Island Hospitality Group Inc.
X-ORIGINAL-URL:https://rihg.ca
X-WR-CALDESC:Events for Red Island Hospitality Group Inc.
REFRESH-INTERVAL;VALUE=DURATION:PT1H
X-Robots-Tag:noindex
X-PUBLISHED-TTL:PT1H
BEGIN:VTIMEZONE
TZID:America/Halifax
BEGIN:DAYLIGHT
TZOFFSETFROM:-0400
TZOFFSETTO:-0300
TZNAME:ADT
DTSTART:20250309T060000
END:DAYLIGHT
BEGIN:STANDARD
TZOFFSETFROM:-0300
TZOFFSETTO:-0400
TZNAME:AST
DTSTART:20251102T050000
END:STANDARD
BEGIN:DAYLIGHT
TZOFFSETFROM:-0400
TZOFFSETTO:-0300
TZNAME:ADT
DTSTART:20260308T060000
END:DAYLIGHT
BEGIN:STANDARD
TZOFFSETFROM:-0300
TZOFFSETTO:-0400
TZNAME:AST
DTSTART:20261101T050000
END:STANDARD
BEGIN:DAYLIGHT
TZOFFSETFROM:-0400
TZOFFSETTO:-0300
TZNAME:ADT
DTSTART:20270314T060000
END:DAYLIGHT
BEGIN:STANDARD
TZOFFSETFROM:-0300
TZOFFSETTO:-0400
TZNAME:AST
DTSTART:20271107T050000
END:STANDARD
END:VTIMEZONE
BEGIN:VEVENT
DTSTART;TZID=America/Halifax:20260427T220000
DTEND;TZID=America/Halifax:20260427T220000
DTSTAMP:20260424T023152
CREATED:20250404T165601Z
LAST-MODIFIED:20251223T192613Z
UID:10018223-1777327200-1777327200@rihg.ca
SUMMARY:Open Mic with Travis
DESCRIPTION:Monday Open Mic is BACK!!!!
URL:https://rihg.ca/event/open-mic-with-travis/2026-04-27/
CATEGORIES:Hunter’s Ale House
END:VEVENT
BEGIN:VEVENT
DTSTART;TZID=America/Halifax:20260504T220000
DTEND;TZID=America/Halifax:20260504T220000
DTSTAMP:20260424T023152
CREATED:20250404T165601Z
LAST-MODIFIED:20251223T192613Z
UID:10018224-1777932000-1777932000@rihg.ca
SUMMARY:Open Mic with Travis
DESCRIPTION:Monday Open Mic is BACK!!!!
URL:https://rihg.ca/event/open-mic-with-travis/2026-05-04/
CATEGORIES:Hunter’s Ale House
END:VEVENT
BEGIN:VEVENT
DTSTART;TZID=America/Halifax:20260511T220000
DTEND;TZID=America/Halifax:20260511T220000
DTSTAMP:20260424T023152
CREATED:20250404T165601Z
LAST-MODIFIED:20251223T192613Z
UID:10018225-1778536800-1778536800@rihg.ca
SUMMARY:Open Mic with Travis
DESCRIPTION:Monday Open Mic is BACK!!!!
URL:https://rihg.ca/event/open-mic-with-travis/2026-05-11/
CATEGORIES:Hunter’s Ale House
END:VEVENT
BEGIN:VEVENT
DTSTART;TZID=America/Halifax:20260518T220000
DTEND;TZID=America/Halifax:20260518T220000
DTSTAMP:20260424T023152
CREATED:20250404T165601Z
LAST-MODIFIED:20251223T192613Z
UID:10018226-1779141600-1779141600@rihg.ca
SUMMARY:Open Mic with Travis
DESCRIPTION:Monday Open Mic is BACK!!!!
URL:https://rihg.ca/event/open-mic-with-travis/2026-05-18/
CATEGORIES:Hunter’s Ale House
END:VEVENT
BEGIN:VEVENT
DTSTART;TZID=America/Halifax:20260525T220000
DTEND;TZID=America/Halifax:20260525T220000
DTSTAMP:20260424T023152
CREATED:20250404T165601Z
LAST-MODIFIED:20251223T192613Z
UID:10018227-1779746400-1779746400@rihg.ca
SUMMARY:Open Mic with Travis
DESCRIPTION:Monday Open Mic is BACK!!!!
URL:https://rihg.ca/event/open-mic-with-travis/2026-05-25/
CATEGORIES:Hunter’s Ale House
END:VEVENT
BEGIN:VEVENT
DTSTART;TZID=America/Halifax:20260601T220000
DTEND;TZID=America/Halifax:20260601T220000
DTSTAMP:20260424T023152
CREATED:20250404T165601Z
LAST-MODIFIED:20251223T192613Z
UID:10018228-1780351200-1780351200@rihg.ca
SUMMARY:Open Mic with Travis
DESCRIPTION:Monday Open Mic is BACK!!!!
URL:https://rihg.ca/event/open-mic-with-travis/2026-06-01/
CATEGORIES:Hunter’s Ale House
END:VEVENT
BEGIN:VEVENT
DTSTART;TZID=America/Halifax:20260608T220000
DTEND;TZID=America/Halifax:20260608T220000
DTSTAMP:20260424T023152
CREATED:20250404T165601Z
LAST-MODIFIED:20251223T192613Z
UID:10018229-1780956000-1780956000@rihg.ca
SUMMARY:Open Mic with Travis
DESCRIPTION:Monday Open Mic is BACK!!!!
URL:https://rihg.ca/event/open-mic-with-travis/2026-06-08/
CATEGORIES:Hunter’s Ale House
END:VEVENT
BEGIN:VEVENT
DTSTART;TZID=America/Halifax:20260615T220000
DTEND;TZID=America/Halifax:20260615T220000
DTSTAMP:20260424T023152
CREATED:20250404T165601Z
LAST-MODIFIED:20251223T192613Z
UID:10018230-1781560800-1781560800@rihg.ca
SUMMARY:Open Mic with Travis
DESCRIPTION:Monday Open Mic is BACK!!!!
URL:https://rihg.ca/event/open-mic-with-travis/2026-06-15/
CATEGORIES:Hunter’s Ale House
END:VEVENT
BEGIN:VEVENT
DTSTART;TZID=America/Halifax:20260622T220000
DTEND;TZID=America/Halifax:20260622T220000
DTSTAMP:20260424T023152
CREATED:20250404T165601Z
LAST-MODIFIED:20251223T192613Z
UID:10018231-1782165600-1782165600@rihg.ca
SUMMARY:Open Mic with Travis
DESCRIPTION:Monday Open Mic is BACK!!!!
URL:https://rihg.ca/event/open-mic-with-travis/2026-06-22/
CATEGORIES:Hunter’s Ale House
END:VEVENT
BEGIN:VEVENT
DTSTART;TZID=America/Halifax:20260629T220000
DTEND;TZID=America/Halifax:20260629T220000
DTSTAMP:20260424T023152
CREATED:20250404T165601Z
LAST-MODIFIED:20251223T192613Z
UID:10018232-1782770400-1782770400@rihg.ca
SUMMARY:Open Mic with Travis
DESCRIPTION:Monday Open Mic is BACK!!!!
URL:https://rihg.ca/event/open-mic-with-travis/2026-06-29/
CATEGORIES:Hunter’s Ale House
END:VEVENT
BEGIN:VEVENT
DTSTART;TZID=America/Halifax:20260706T220000
DTEND;TZID=America/Halifax:20260706T220000
DTSTAMP:20260424T023152
CREATED:20250404T165601Z
LAST-MODIFIED:20251223T192613Z
UID:10018233-1783375200-1783375200@rihg.ca
SUMMARY:Open Mic with Travis
DESCRIPTION:Monday Open Mic is BACK!!!!
URL:https://rihg.ca/event/open-mic-with-travis/2026-07-06/
CATEGORIES:Hunter’s Ale House
END:VEVENT
BEGIN:VEVENT
DTSTART;TZID=America/Halifax:20260713T220000
DTEND;TZID=America/Halifax:20260713T220000
DTSTAMP:20260424T023152
CREATED:20250404T165601Z
LAST-MODIFIED:20251223T192613Z
UID:10018234-1783980000-1783980000@rihg.ca
SUMMARY:Open Mic with Travis
DESCRIPTION:Monday Open Mic is BACK!!!!
URL:https://rihg.ca/event/open-mic-with-travis/2026-07-13/
CATEGORIES:Hunter’s Ale House
END:VEVENT
BEGIN:VEVENT
DTSTART;TZID=America/Halifax:20260720T220000
DTEND;TZID=America/Halifax:20260720T220000
DTSTAMP:20260424T023152
CREATED:20250404T165601Z
LAST-MODIFIED:20251223T192613Z
UID:10018235-1784584800-1784584800@rihg.ca
SUMMARY:Open Mic with Travis
DESCRIPTION:Monday Open Mic is BACK!!!!
URL:https://rihg.ca/event/open-mic-with-travis/2026-07-20/
CATEGORIES:Hunter’s Ale House
END:VEVENT
BEGIN:VEVENT
DTSTART;TZID=America/Halifax:20260727T220000
DTEND;TZID=America/Halifax:20260727T220000
DTSTAMP:20260424T023152
CREATED:20250404T165601Z
LAST-MODIFIED:20251223T192613Z
UID:10018236-1785189600-1785189600@rihg.ca
SUMMARY:Open Mic with Travis
DESCRIPTION:Monday Open Mic is BACK!!!!
URL:https://rihg.ca/event/open-mic-with-travis/2026-07-27/
CATEGORIES:Hunter’s Ale House
END:VEVENT
BEGIN:VEVENT
DTSTART;TZID=America/Halifax:20260803T220000
DTEND;TZID=America/Halifax:20260803T220000
DTSTAMP:20260424T023152
CREATED:20250404T165601Z
LAST-MODIFIED:20251223T192613Z
UID:10018237-1785794400-1785794400@rihg.ca
SUMMARY:Open Mic with Travis
DESCRIPTION:Monday Open Mic is BACK!!!!
URL:https://rihg.ca/event/open-mic-with-travis/2026-08-03/
CATEGORIES:Hunter’s Ale House
END:VEVENT
BEGIN:VEVENT
DTSTART;TZID=America/Halifax:20260810T220000
DTEND;TZID=America/Halifax:20260810T220000
DTSTAMP:20260424T023152
CREATED:20250404T165601Z
LAST-MODIFIED:20251223T192613Z
UID:10018238-1786399200-1786399200@rihg.ca
SUMMARY:Open Mic with Travis
DESCRIPTION:Monday Open Mic is BACK!!!!
URL:https://rihg.ca/event/open-mic-with-travis/2026-08-10/
CATEGORIES:Hunter’s Ale House
END:VEVENT
BEGIN:VEVENT
DTSTART;TZID=America/Halifax:20260817T220000
DTEND;TZID=America/Halifax:20260817T220000
DTSTAMP:20260424T023152
CREATED:20250404T165601Z
LAST-MODIFIED:20251223T192613Z
UID:10018239-1787004000-1787004000@rihg.ca
SUMMARY:Open Mic with Travis
DESCRIPTION:Monday Open Mic is BACK!!!!
URL:https://rihg.ca/event/open-mic-with-travis/2026-08-17/
CATEGORIES:Hunter’s Ale House
END:VEVENT
BEGIN:VEVENT
DTSTART;TZID=America/Halifax:20260824T220000
DTEND;TZID=America/Halifax:20260824T220000
DTSTAMP:20260424T023152
CREATED:20250404T165601Z
LAST-MODIFIED:20251223T192613Z
UID:10018240-1787608800-1787608800@rihg.ca
SUMMARY:Open Mic with Travis
DESCRIPTION:Monday Open Mic is BACK!!!!
URL:https://rihg.ca/event/open-mic-with-travis/2026-08-24/
CATEGORIES:Hunter’s Ale House
END:VEVENT
BEGIN:VEVENT
DTSTART;TZID=America/Halifax:20260831T220000
DTEND;TZID=America/Halifax:20260831T220000
DTSTAMP:20260424T023152
CREATED:20250404T165601Z
LAST-MODIFIED:20251223T192613Z
UID:10018241-1788213600-1788213600@rihg.ca
SUMMARY:Open Mic with Travis
DESCRIPTION:Monday Open Mic is BACK!!!!
URL:https://rihg.ca/event/open-mic-with-travis/2026-08-31/
CATEGORIES:Hunter’s Ale House
END:VEVENT
BEGIN:VEVENT
DTSTART;TZID=America/Halifax:20260907T220000
DTEND;TZID=America/Halifax:20260907T220000
DTSTAMP:20260424T023152
CREATED:20250404T165601Z
LAST-MODIFIED:20251223T192613Z
UID:10019299-1788818400-1788818400@rihg.ca
SUMMARY:Open Mic with Travis
DESCRIPTION:Monday Open Mic is BACK!!!!
URL:https://rihg.ca/event/open-mic-with-travis/2026-09-07/
CATEGORIES:Hunter’s Ale House
END:VEVENT
BEGIN:VEVENT
DTSTART;TZID=America/Halifax:20260914T220000
DTEND;TZID=America/Halifax:20260914T220000
DTSTAMP:20260424T023152
CREATED:20250404T165601Z
LAST-MODIFIED:20251223T192613Z
UID:10019300-1789423200-1789423200@rihg.ca
SUMMARY:Open Mic with Travis
DESCRIPTION:Monday Open Mic is BACK!!!!
URL:https://rihg.ca/event/open-mic-with-travis/2026-09-14/
CATEGORIES:Hunter’s Ale House
END:VEVENT
BEGIN:VEVENT
DTSTART;TZID=America/Halifax:20260921T220000
DTEND;TZID=America/Halifax:20260921T220000
DTSTAMP:20260424T023152
CREATED:20250404T165601Z
LAST-MODIFIED:20251223T192613Z
UID:10019301-1790028000-1790028000@rihg.ca
SUMMARY:Open Mic with Travis
DESCRIPTION:Monday Open Mic is BACK!!!!
URL:https://rihg.ca/event/open-mic-with-travis/2026-09-21/
CATEGORIES:Hunter’s Ale House
END:VEVENT
BEGIN:VEVENT
DTSTART;TZID=America/Halifax:20260928T220000
DTEND;TZID=America/Halifax:20260928T220000
DTSTAMP:20260424T023152
CREATED:20250404T165601Z
LAST-MODIFIED:20251223T192613Z
UID:10019302-1790632800-1790632800@rihg.ca
SUMMARY:Open Mic with Travis
DESCRIPTION:Monday Open Mic is BACK!!!!
URL:https://rihg.ca/event/open-mic-with-travis/2026-09-28/
CATEGORIES:Hunter’s Ale House
END:VEVENT
BEGIN:VEVENT
DTSTART;TZID=America/Halifax:20261005T220000
DTEND;TZID=America/Halifax:20261005T220000
DTSTAMP:20260424T023152
CREATED:20250404T165601Z
LAST-MODIFIED:20251223T192613Z
UID:10019303-1791237600-1791237600@rihg.ca
SUMMARY:Open Mic with Travis
DESCRIPTION:Monday Open Mic is BACK!!!!
URL:https://rihg.ca/event/open-mic-with-travis/2026-10-05/
CATEGORIES:Hunter’s Ale House
END:VEVENT
BEGIN:VEVENT
DTSTART;TZID=America/Halifax:20261012T220000
DTEND;TZID=America/Halifax:20261012T220000
DTSTAMP:20260424T023152
CREATED:20250404T165601Z
LAST-MODIFIED:20251223T192613Z
UID:10019304-1791842400-1791842400@rihg.ca
SUMMARY:Open Mic with Travis
DESCRIPTION:Monday Open Mic is BACK!!!!
URL:https://rihg.ca/event/open-mic-with-travis/2026-10-12/
CATEGORIES:Hunter’s Ale House
END:VEVENT
BEGIN:VEVENT
DTSTART;TZID=America/Halifax:20261019T220000
DTEND;TZID=America/Halifax:20261019T220000
DTSTAMP:20260424T023152
CREATED:20250404T165601Z
LAST-MODIFIED:20251223T192613Z
UID:10019305-1792447200-1792447200@rihg.ca
SUMMARY:Open Mic with Travis
DESCRIPTION:Monday Open Mic is BACK!!!!
URL:https://rihg.ca/event/open-mic-with-travis/2026-10-19/
CATEGORIES:Hunter’s Ale House
END:VEVENT
BEGIN:VEVENT
DTSTART;TZID=America/Halifax:20261026T220000
DTEND;TZID=America/Halifax:20261026T220000
DTSTAMP:20260424T023152
CREATED:20250404T165601Z
LAST-MODIFIED:20251223T192613Z
UID:10019306-1793052000-1793052000@rihg.ca
SUMMARY:Open Mic with Travis
DESCRIPTION:Monday Open Mic is BACK!!!!
URL:https://rihg.ca/event/open-mic-with-travis/2026-10-26/
CATEGORIES:Hunter’s Ale House
END:VEVENT
BEGIN:VEVENT
DTSTART;TZID=America/Halifax:20261102T220000
DTEND;TZID=America/Halifax:20261102T220000
DTSTAMP:20260424T023152
CREATED:20250404T165601Z
LAST-MODIFIED:20251223T192613Z
UID:10019307-1793656800-1793656800@rihg.ca
SUMMARY:Open Mic with Travis
DESCRIPTION:Monday Open Mic is BACK!!!!
URL:https://rihg.ca/event/open-mic-with-travis/2026-11-02/
CATEGORIES:Hunter’s Ale House
END:VEVENT
BEGIN:VEVENT
DTSTART;TZID=America/Halifax:20261109T220000
DTEND;TZID=America/Halifax:20261109T220000
DTSTAMP:20260424T023152
CREATED:20250404T165601Z
LAST-MODIFIED:20251223T192613Z
UID:10019308-1794261600-1794261600@rihg.ca
SUMMARY:Open Mic with Travis
DESCRIPTION:Monday Open Mic is BACK!!!!
URL:https://rihg.ca/event/open-mic-with-travis/2026-11-09/
CATEGORIES:Hunter’s Ale House
END:VEVENT
BEGIN:VEVENT
DTSTART;TZID=America/Halifax:20261116T220000
DTEND;TZID=America/Halifax:20261116T220000
DTSTAMP:20260424T023152
CREATED:20250404T165601Z
LAST-MODIFIED:20251223T192613Z
UID:10019309-1794866400-1794866400@rihg.ca
SUMMARY:Open Mic with Travis
DESCRIPTION:Monday Open Mic is BACK!!!!
URL:https://rihg.ca/event/open-mic-with-travis/2026-11-16/
CATEGORIES:Hunter’s Ale House
END:VEVENT
END:VCALENDAR